BEGIN:VCALENDAR
VERSION:2.0
PRODID:-//Classic Motor Museum - ECPv6.15.17//NONSGML v1.0//EN
CALSCALE:GREGORIAN
METHOD:PUBLISH
X-WR-CALNAME:Classic Motor Museum
X-ORIGINAL-URL:https://classicmotormuseum.org
X-WR-CALDESC:Events for Classic Motor Museum
REFRESH-INTERVAL;VALUE=DURATION:PT1H
X-Robots-Tag:noindex
X-PUBLISHED-TTL:PT1H
BEGIN:VTIMEZONE
TZID:America/New_York
BEGIN:DAYLIGHT
TZOFFSETFROM:-0500
TZOFFSETTO:-0400
TZNAME:EDT
DTSTART:20290311T070000
END:DAYLIGHT
BEGIN:STANDARD
TZOFFSETFROM:-0400
TZOFFSETTO:-0500
TZNAME:EST
DTSTART:20291104T060000
END:STANDARD
BEGIN:DAYLIGHT
TZOFFSETFROM:-0500
TZOFFSETTO:-0400
TZNAME:EDT
DTSTART:20300310T070000
END:DAYLIGHT
BEGIN:STANDARD
TZOFFSETFROM:-0400
TZOFFSETTO:-0500
TZNAME:EST
DTSTART:20301103T060000
END:STANDARD
BEGIN:DAYLIGHT
TZOFFSETFROM:-0500
TZOFFSETTO:-0400
TZNAME:EDT
DTSTART:20310309T070000
END:DAYLIGHT
BEGIN:STANDARD
TZOFFSETFROM:-0400
TZOFFSETTO:-0500
TZNAME:EST
DTSTART:20311102T060000
END:STANDARD
END:VTIMEZONE
BEGIN:VEVENT
DTSTART;TZID=America/New_York:20300106T110000
DTEND;TZID=America/New_York:20300106T150000
DTSTAMP:20260425T165516
CREATED:20260105T190519Z
LAST-MODIFIED:20260105T190519Z
UID:10000838-1893927600-1893942000@classicmotormuseum.org
SUMMARY:The Exhibit Barn
DESCRIPTION:General Admission Required for Entry. Members and children under 6 are always free!
URL:https://classicmotormuseum.org/event/the-exhibit-barn-51/2030-01-06/
END:VEVENT
BEGIN:VEVENT
DTSTART;TZID=America/New_York:20300111T110000
DTEND;TZID=America/New_York:20300111T150000
DTSTAMP:20260425T165516
CREATED:20260105T190244Z
LAST-MODIFIED:20260105T190421Z
UID:10000315-1894359600-1894374000@classicmotormuseum.org
SUMMARY:The Exhibit Barn
DESCRIPTION:General Admission Required for Entry. Members and children under 6 are always free!
URL:https://classicmotormuseum.org/event/the-event-barn/2030-01-11/
END:VEVENT
BEGIN:VEVENT
DTSTART;TZID=America/New_York:20300112T090000
DTEND;TZID=America/New_York:20300112T160000
DTSTAMP:20260425T165516
CREATED:20260105T190346Z
LAST-MODIFIED:20260105T190428Z
UID:10000577-1894438800-1894464000@classicmotormuseum.org
SUMMARY:The Exhibit Barn
DESCRIPTION:General Admission Required for Entry. Members and children under 6 are always free!
URL:https://classicmotormuseum.org/event/the-event-barn-2/2030-01-12/
END:VEVENT
BEGIN:VEVENT
DTSTART;TZID=America/New_York:20300113T110000
DTEND;TZID=America/New_York:20300113T150000
DTSTAMP:20260425T165516
CREATED:20260105T190519Z
LAST-MODIFIED:20260105T190519Z
UID:10000839-1894532400-1894546800@classicmotormuseum.org
SUMMARY:The Exhibit Barn
DESCRIPTION:General Admission Required for Entry. Members and children under 6 are always free!
URL:https://classicmotormuseum.org/event/the-exhibit-barn-51/2030-01-13/
END:VEVENT
BEGIN:VEVENT
DTSTART;TZID=America/New_York:20300118T110000
DTEND;TZID=America/New_York:20300118T150000
DTSTAMP:20260425T165516
CREATED:20260105T190244Z
LAST-MODIFIED:20260105T190421Z
UID:10000316-1894964400-1894978800@classicmotormuseum.org
SUMMARY:The Exhibit Barn
DESCRIPTION:General Admission Required for Entry. Members and children under 6 are always free!
URL:https://classicmotormuseum.org/event/the-event-barn/2030-01-18/
END:VEVENT
BEGIN:VEVENT
DTSTART;TZID=America/New_York:20300119T090000
DTEND;TZID=America/New_York:20300119T160000
DTSTAMP:20260425T165516
CREATED:20260105T190346Z
LAST-MODIFIED:20260105T190428Z
UID:10000578-1895043600-1895068800@classicmotormuseum.org
SUMMARY:The Exhibit Barn
DESCRIPTION:General Admission Required for Entry. Members and children under 6 are always free!
URL:https://classicmotormuseum.org/event/the-event-barn-2/2030-01-19/
END:VEVENT
BEGIN:VEVENT
DTSTART;TZID=America/New_York:20300120T110000
DTEND;TZID=America/New_York:20300120T150000
DTSTAMP:20260425T165516
CREATED:20260105T190519Z
LAST-MODIFIED:20260105T190519Z
UID:10000840-1895137200-1895151600@classicmotormuseum.org
SUMMARY:The Exhibit Barn
DESCRIPTION:General Admission Required for Entry. Members and children under 6 are always free!
URL:https://classicmotormuseum.org/event/the-exhibit-barn-51/2030-01-20/
END:VEVENT
BEGIN:VEVENT
DTSTART;TZID=America/New_York:20300125T110000
DTEND;TZID=America/New_York:20300125T150000
DTSTAMP:20260425T165516
CREATED:20260105T190244Z
LAST-MODIFIED:20260105T190421Z
UID:10000317-1895569200-1895583600@classicmotormuseum.org
SUMMARY:The Exhibit Barn
DESCRIPTION:General Admission Required for Entry. Members and children under 6 are always free!
URL:https://classicmotormuseum.org/event/the-event-barn/2030-01-25/
END:VEVENT
BEGIN:VEVENT
DTSTART;TZID=America/New_York:20300126T090000
DTEND;TZID=America/New_York:20300126T160000
DTSTAMP:20260425T165516
CREATED:20260105T190346Z
LAST-MODIFIED:20260105T190428Z
UID:10000579-1895648400-1895673600@classicmotormuseum.org
SUMMARY:The Exhibit Barn
DESCRIPTION:General Admission Required for Entry. Members and children under 6 are always free!
URL:https://classicmotormuseum.org/event/the-event-barn-2/2030-01-26/
END:VEVENT
BEGIN:VEVENT
DTSTART;TZID=America/New_York:20300127T110000
DTEND;TZID=America/New_York:20300127T150000
DTSTAMP:20260425T165516
CREATED:20260105T190519Z
LAST-MODIFIED:20260105T190519Z
UID:10000841-1895742000-1895756400@classicmotormuseum.org
SUMMARY:The Exhibit Barn
DESCRIPTION:General Admission Required for Entry. Members and children under 6 are always free!
URL:https://classicmotormuseum.org/event/the-exhibit-barn-51/2030-01-27/
END:VEVENT
BEGIN:VEVENT
DTSTART;TZID=America/New_York:20300201T110000
DTEND;TZID=America/New_York:20300201T150000
DTSTAMP:20260425T165516
CREATED:20260105T190244Z
LAST-MODIFIED:20260105T190421Z
UID:10000318-1896174000-1896188400@classicmotormuseum.org
SUMMARY:The Exhibit Barn
DESCRIPTION:General Admission Required for Entry. Members and children under 6 are always free!
URL:https://classicmotormuseum.org/event/the-event-barn/2030-02-01/
END:VEVENT
BEGIN:VEVENT
DTSTART;TZID=America/New_York:20300202T090000
DTEND;TZID=America/New_York:20300202T160000
DTSTAMP:20260425T165516
CREATED:20260105T190346Z
LAST-MODIFIED:20260105T190428Z
UID:10000580-1896253200-1896278400@classicmotormuseum.org
SUMMARY:The Exhibit Barn
DESCRIPTION:General Admission Required for Entry. Members and children under 6 are always free!
URL:https://classicmotormuseum.org/event/the-event-barn-2/2030-02-02/
END:VEVENT
BEGIN:VEVENT
DTSTART;TZID=America/New_York:20300203T110000
DTEND;TZID=America/New_York:20300203T150000
DTSTAMP:20260425T165516
CREATED:20260105T190519Z
LAST-MODIFIED:20260105T190519Z
UID:10000842-1896346800-1896361200@classicmotormuseum.org
SUMMARY:The Exhibit Barn
DESCRIPTION:General Admission Required for Entry. Members and children under 6 are always free!
URL:https://classicmotormuseum.org/event/the-exhibit-barn-51/2030-02-03/
END:VEVENT
BEGIN:VEVENT
DTSTART;TZID=America/New_York:20300208T110000
DTEND;TZID=America/New_York:20300208T150000
DTSTAMP:20260425T165516
CREATED:20260105T190244Z
LAST-MODIFIED:20260105T190421Z
UID:10000319-1896778800-1896793200@classicmotormuseum.org
SUMMARY:The Exhibit Barn
DESCRIPTION:General Admission Required for Entry. Members and children under 6 are always free!
URL:https://classicmotormuseum.org/event/the-event-barn/2030-02-08/
END:VEVENT
BEGIN:VEVENT
DTSTART;TZID=America/New_York:20300209T090000
DTEND;TZID=America/New_York:20300209T160000
DTSTAMP:20260425T165516
CREATED:20260105T190346Z
LAST-MODIFIED:20260105T190428Z
UID:10000581-1896858000-1896883200@classicmotormuseum.org
SUMMARY:The Exhibit Barn
DESCRIPTION:General Admission Required for Entry. Members and children under 6 are always free!
URL:https://classicmotormuseum.org/event/the-event-barn-2/2030-02-09/
END:VEVENT
BEGIN:VEVENT
DTSTART;TZID=America/New_York:20300210T110000
DTEND;TZID=America/New_York:20300210T150000
DTSTAMP:20260425T165516
CREATED:20260105T190519Z
LAST-MODIFIED:20260105T190519Z
UID:10000843-1896951600-1896966000@classicmotormuseum.org
SUMMARY:The Exhibit Barn
DESCRIPTION:General Admission Required for Entry. Members and children under 6 are always free!
URL:https://classicmotormuseum.org/event/the-exhibit-barn-51/2030-02-10/
END:VEVENT
BEGIN:VEVENT
DTSTART;TZID=America/New_York:20300215T110000
DTEND;TZID=America/New_York:20300215T150000
DTSTAMP:20260425T165516
CREATED:20260105T190244Z
LAST-MODIFIED:20260105T190421Z
UID:10000320-1897383600-1897398000@classicmotormuseum.org
SUMMARY:The Exhibit Barn
DESCRIPTION:General Admission Required for Entry. Members and children under 6 are always free!
URL:https://classicmotormuseum.org/event/the-event-barn/2030-02-15/
END:VEVENT
BEGIN:VEVENT
DTSTART;TZID=America/New_York:20300216T090000
DTEND;TZID=America/New_York:20300216T160000
DTSTAMP:20260425T165516
CREATED:20260105T190346Z
LAST-MODIFIED:20260105T190428Z
UID:10000582-1897462800-1897488000@classicmotormuseum.org
SUMMARY:The Exhibit Barn
DESCRIPTION:General Admission Required for Entry. Members and children under 6 are always free!
URL:https://classicmotormuseum.org/event/the-event-barn-2/2030-02-16/
END:VEVENT
BEGIN:VEVENT
DTSTART;TZID=America/New_York:20300217T110000
DTEND;TZID=America/New_York:20300217T150000
DTSTAMP:20260425T165516
CREATED:20260105T190519Z
LAST-MODIFIED:20260105T190519Z
UID:10000844-1897556400-1897570800@classicmotormuseum.org
SUMMARY:The Exhibit Barn
DESCRIPTION:General Admission Required for Entry. Members and children under 6 are always free!
URL:https://classicmotormuseum.org/event/the-exhibit-barn-51/2030-02-17/
END:VEVENT
BEGIN:VEVENT
DTSTART;TZID=America/New_York:20300222T110000
DTEND;TZID=America/New_York:20300222T150000
DTSTAMP:20260425T165516
CREATED:20260105T190244Z
LAST-MODIFIED:20260105T190421Z
UID:10000321-1897988400-1898002800@classicmotormuseum.org
SUMMARY:The Exhibit Barn
DESCRIPTION:General Admission Required for Entry. Members and children under 6 are always free!
URL:https://classicmotormuseum.org/event/the-event-barn/2030-02-22/
END:VEVENT
BEGIN:VEVENT
DTSTART;TZID=America/New_York:20300223T090000
DTEND;TZID=America/New_York:20300223T160000
DTSTAMP:20260425T165516
CREATED:20260105T190346Z
LAST-MODIFIED:20260105T190428Z
UID:10000583-1898067600-1898092800@classicmotormuseum.org
SUMMARY:The Exhibit Barn
DESCRIPTION:General Admission Required for Entry. Members and children under 6 are always free!
URL:https://classicmotormuseum.org/event/the-event-barn-2/2030-02-23/
END:VEVENT
BEGIN:VEVENT
DTSTART;TZID=America/New_York:20300224T110000
DTEND;TZID=America/New_York:20300224T150000
DTSTAMP:20260425T165516
CREATED:20260105T190519Z
LAST-MODIFIED:20260105T190519Z
UID:10000845-1898161200-1898175600@classicmotormuseum.org
SUMMARY:The Exhibit Barn
DESCRIPTION:General Admission Required for Entry. Members and children under 6 are always free!
URL:https://classicmotormuseum.org/event/the-exhibit-barn-51/2030-02-24/
END:VEVENT
BEGIN:VEVENT
DTSTART;TZID=America/New_York:20300301T110000
DTEND;TZID=America/New_York:20300301T150000
DTSTAMP:20260425T165516
CREATED:20260105T190244Z
LAST-MODIFIED:20260105T190421Z
UID:10000322-1898593200-1898607600@classicmotormuseum.org
SUMMARY:The Exhibit Barn
DESCRIPTION:General Admission Required for Entry. Members and children under 6 are always free!
URL:https://classicmotormuseum.org/event/the-event-barn/2030-03-01/
END:VEVENT
BEGIN:VEVENT
DTSTART;TZID=America/New_York:20300302T090000
DTEND;TZID=America/New_York:20300302T160000
DTSTAMP:20260425T165516
CREATED:20260105T190346Z
LAST-MODIFIED:20260105T190428Z
UID:10000584-1898672400-1898697600@classicmotormuseum.org
SUMMARY:The Exhibit Barn
DESCRIPTION:General Admission Required for Entry. Members and children under 6 are always free!
URL:https://classicmotormuseum.org/event/the-event-barn-2/2030-03-02/
END:VEVENT
BEGIN:VEVENT
DTSTART;TZID=America/New_York:20300303T110000
DTEND;TZID=America/New_York:20300303T150000
DTSTAMP:20260425T165516
CREATED:20260105T190519Z
LAST-MODIFIED:20260105T190519Z
UID:10000846-1898766000-1898780400@classicmotormuseum.org
SUMMARY:The Exhibit Barn
DESCRIPTION:General Admission Required for Entry. Members and children under 6 are always free!
URL:https://classicmotormuseum.org/event/the-exhibit-barn-51/2030-03-03/
END:VEVENT
BEGIN:VEVENT
DTSTART;TZID=America/New_York:20300308T110000
DTEND;TZID=America/New_York:20300308T150000
DTSTAMP:20260425T165516
CREATED:20260105T190244Z
LAST-MODIFIED:20260105T190421Z
UID:10000323-1899198000-1899212400@classicmotormuseum.org
SUMMARY:The Exhibit Barn
DESCRIPTION:General Admission Required for Entry. Members and children under 6 are always free!
URL:https://classicmotormuseum.org/event/the-event-barn/2030-03-08/
END:VEVENT
BEGIN:VEVENT
DTSTART;TZID=America/New_York:20300309T090000
DTEND;TZID=America/New_York:20300309T160000
DTSTAMP:20260425T165516
CREATED:20260105T190346Z
LAST-MODIFIED:20260105T190428Z
UID:10000585-1899277200-1899302400@classicmotormuseum.org
SUMMARY:The Exhibit Barn
DESCRIPTION:General Admission Required for Entry. Members and children under 6 are always free!
URL:https://classicmotormuseum.org/event/the-event-barn-2/2030-03-09/
END:VEVENT
BEGIN:VEVENT
DTSTART;TZID=America/New_York:20300310T110000
DTEND;TZID=America/New_York:20300310T150000
DTSTAMP:20260425T165516
CREATED:20260105T190519Z
LAST-MODIFIED:20260105T190519Z
UID:10000847-1899370800-1899385200@classicmotormuseum.org
SUMMARY:The Exhibit Barn
DESCRIPTION:General Admission Required for Entry. Members and children under 6 are always free!
URL:https://classicmotormuseum.org/event/the-exhibit-barn-51/2030-03-10/
END:VEVENT
BEGIN:VEVENT
DTSTART;TZID=America/New_York:20300315T110000
DTEND;TZID=America/New_York:20300315T150000
DTSTAMP:20260425T165516
CREATED:20260105T190244Z
LAST-MODIFIED:20260105T190421Z
UID:10000324-1899802800-1899817200@classicmotormuseum.org
SUMMARY:The Exhibit Barn
DESCRIPTION:General Admission Required for Entry. Members and children under 6 are always free!
URL:https://classicmotormuseum.org/event/the-event-barn/2030-03-15/
END:VEVENT
BEGIN:VEVENT
DTSTART;TZID=America/New_York:20300316T090000
DTEND;TZID=America/New_York:20300316T160000
DTSTAMP:20260425T165516
CREATED:20260105T190346Z
LAST-MODIFIED:20260105T190428Z
UID:10000586-1899882000-1899907200@classicmotormuseum.org
SUMMARY:The Exhibit Barn
DESCRIPTION:General Admission Required for Entry. Members and children under 6 are always free!
URL:https://classicmotormuseum.org/event/the-event-barn-2/2030-03-16/
END:VEVENT
END:VCALENDAR