BEGIN:VCALENDAR
VERSION:2.0
PRODID:-//Classic Motor Museum - ECPv6.15.17//NONSGML v1.0//EN
CALSCALE:GREGORIAN
METHOD:PUBLISH
X-ORIGINAL-URL:https://classicmotormuseum.org
X-WR-CALDESC:Events for Classic Motor Museum
REFRESH-INTERVAL;VALUE=DURATION:PT1H
X-Robots-Tag:noindex
X-PUBLISHED-TTL:PT1H
BEGIN:VTIMEZONE
TZID:America/New_York
BEGIN:DAYLIGHT
TZOFFSETFROM:-0500
TZOFFSETTO:-0400
TZNAME:EDT
DTSTART:20280312T070000
END:DAYLIGHT
BEGIN:STANDARD
TZOFFSETFROM:-0400
TZOFFSETTO:-0500
TZNAME:EST
DTSTART:20281105T060000
END:STANDARD
BEGIN:DAYLIGHT
TZOFFSETFROM:-0500
TZOFFSETTO:-0400
TZNAME:EDT
DTSTART:20290311T070000
END:DAYLIGHT
BEGIN:STANDARD
TZOFFSETFROM:-0400
TZOFFSETTO:-0500
TZNAME:EST
DTSTART:20291104T060000
END:STANDARD
BEGIN:DAYLIGHT
TZOFFSETFROM:-0500
TZOFFSETTO:-0400
TZNAME:EDT
DTSTART:20300310T070000
END:DAYLIGHT
BEGIN:STANDARD
TZOFFSETFROM:-0400
TZOFFSETTO:-0500
TZNAME:EST
DTSTART:20301103T060000
END:STANDARD
END:VTIMEZONE
BEGIN:VEVENT
DTSTART;TZID=America/New_York:20290427T110000
DTEND;TZID=America/New_York:20290427T150000
DTSTAMP:20260425T125403
CREATED:20260105T190244Z
LAST-MODIFIED:20260105T190421Z
UID:10000278-1871982000-1871996400@classicmotormuseum.org
SUMMARY:The Exhibit Barn
DESCRIPTION:General Admission Required for Entry. Members and children under 6 are always free!
URL:https://classicmotormuseum.org/event/the-event-barn/2029-04-27/
END:VEVENT
BEGIN:VEVENT
DTSTART;TZID=America/New_York:20290428T090000
DTEND;TZID=America/New_York:20290428T160000
DTSTAMP:20260425T125403
CREATED:20260105T190346Z
LAST-MODIFIED:20260105T190428Z
UID:10000540-1872061200-1872086400@classicmotormuseum.org
SUMMARY:The Exhibit Barn
DESCRIPTION:General Admission Required for Entry. Members and children under 6 are always free!
URL:https://classicmotormuseum.org/event/the-event-barn-2/2029-04-28/
END:VEVENT
BEGIN:VEVENT
DTSTART;TZID=America/New_York:20290429T110000
DTEND;TZID=America/New_York:20290429T150000
DTSTAMP:20260425T125403
CREATED:20260105T190519Z
LAST-MODIFIED:20260105T190519Z
UID:10000802-1872154800-1872169200@classicmotormuseum.org
SUMMARY:The Exhibit Barn
DESCRIPTION:General Admission Required for Entry. Members and children under 6 are always free!
URL:https://classicmotormuseum.org/event/the-exhibit-barn-51/2029-04-29/
END:VEVENT
BEGIN:VEVENT
DTSTART;TZID=America/New_York:20290504T110000
DTEND;TZID=America/New_York:20290504T150000
DTSTAMP:20260425T125403
CREATED:20260105T190244Z
LAST-MODIFIED:20260105T190421Z
UID:10000279-1872586800-1872601200@classicmotormuseum.org
SUMMARY:The Exhibit Barn
DESCRIPTION:General Admission Required for Entry. Members and children under 6 are always free!
URL:https://classicmotormuseum.org/event/the-event-barn/2029-05-04/
END:VEVENT
BEGIN:VEVENT
DTSTART;TZID=America/New_York:20290505T090000
DTEND;TZID=America/New_York:20290505T160000
DTSTAMP:20260425T125403
CREATED:20260105T190346Z
LAST-MODIFIED:20260105T190428Z
UID:10000541-1872666000-1872691200@classicmotormuseum.org
SUMMARY:The Exhibit Barn
DESCRIPTION:General Admission Required for Entry. Members and children under 6 are always free!
URL:https://classicmotormuseum.org/event/the-event-barn-2/2029-05-05/
END:VEVENT
BEGIN:VEVENT
DTSTART;TZID=America/New_York:20290506T110000
DTEND;TZID=America/New_York:20290506T150000
DTSTAMP:20260425T125403
CREATED:20260105T190519Z
LAST-MODIFIED:20260105T190519Z
UID:10000803-1872759600-1872774000@classicmotormuseum.org
SUMMARY:The Exhibit Barn
DESCRIPTION:General Admission Required for Entry. Members and children under 6 are always free!
URL:https://classicmotormuseum.org/event/the-exhibit-barn-51/2029-05-06/
END:VEVENT
BEGIN:VEVENT
DTSTART;TZID=America/New_York:20290511T110000
DTEND;TZID=America/New_York:20290511T150000
DTSTAMP:20260425T125403
CREATED:20260105T190244Z
LAST-MODIFIED:20260105T190421Z
UID:10000280-1873191600-1873206000@classicmotormuseum.org
SUMMARY:The Exhibit Barn
DESCRIPTION:General Admission Required for Entry. Members and children under 6 are always free!
URL:https://classicmotormuseum.org/event/the-event-barn/2029-05-11/
END:VEVENT
BEGIN:VEVENT
DTSTART;TZID=America/New_York:20290512T090000
DTEND;TZID=America/New_York:20290512T160000
DTSTAMP:20260425T125403
CREATED:20260105T190346Z
LAST-MODIFIED:20260105T190428Z
UID:10000542-1873270800-1873296000@classicmotormuseum.org
SUMMARY:The Exhibit Barn
DESCRIPTION:General Admission Required for Entry. Members and children under 6 are always free!
URL:https://classicmotormuseum.org/event/the-event-barn-2/2029-05-12/
END:VEVENT
BEGIN:VEVENT
DTSTART;TZID=America/New_York:20290513T110000
DTEND;TZID=America/New_York:20290513T150000
DTSTAMP:20260425T125403
CREATED:20260105T190519Z
LAST-MODIFIED:20260105T190519Z
UID:10000804-1873364400-1873378800@classicmotormuseum.org
SUMMARY:The Exhibit Barn
DESCRIPTION:General Admission Required for Entry. Members and children under 6 are always free!
URL:https://classicmotormuseum.org/event/the-exhibit-barn-51/2029-05-13/
END:VEVENT
BEGIN:VEVENT
DTSTART;TZID=America/New_York:20290518T110000
DTEND;TZID=America/New_York:20290518T150000
DTSTAMP:20260425T125403
CREATED:20260105T190244Z
LAST-MODIFIED:20260105T190421Z
UID:10000281-1873796400-1873810800@classicmotormuseum.org
SUMMARY:The Exhibit Barn
DESCRIPTION:General Admission Required for Entry. Members and children under 6 are always free!
URL:https://classicmotormuseum.org/event/the-event-barn/2029-05-18/
END:VEVENT
BEGIN:VEVENT
DTSTART;TZID=America/New_York:20290519T090000
DTEND;TZID=America/New_York:20290519T160000
DTSTAMP:20260425T125403
CREATED:20260105T190346Z
LAST-MODIFIED:20260105T190428Z
UID:10000543-1873875600-1873900800@classicmotormuseum.org
SUMMARY:The Exhibit Barn
DESCRIPTION:General Admission Required for Entry. Members and children under 6 are always free!
URL:https://classicmotormuseum.org/event/the-event-barn-2/2029-05-19/
END:VEVENT
BEGIN:VEVENT
DTSTART;TZID=America/New_York:20290520T110000
DTEND;TZID=America/New_York:20290520T150000
DTSTAMP:20260425T125403
CREATED:20260105T190519Z
LAST-MODIFIED:20260105T190519Z
UID:10000805-1873969200-1873983600@classicmotormuseum.org
SUMMARY:The Exhibit Barn
DESCRIPTION:General Admission Required for Entry. Members and children under 6 are always free!
URL:https://classicmotormuseum.org/event/the-exhibit-barn-51/2029-05-20/
END:VEVENT
BEGIN:VEVENT
DTSTART;TZID=America/New_York:20290525T110000
DTEND;TZID=America/New_York:20290525T150000
DTSTAMP:20260425T125403
CREATED:20260105T190244Z
LAST-MODIFIED:20260105T190421Z
UID:10000282-1874401200-1874415600@classicmotormuseum.org
SUMMARY:The Exhibit Barn
DESCRIPTION:General Admission Required for Entry. Members and children under 6 are always free!
URL:https://classicmotormuseum.org/event/the-event-barn/2029-05-25/
END:VEVENT
BEGIN:VEVENT
DTSTART;TZID=America/New_York:20290526T090000
DTEND;TZID=America/New_York:20290526T160000
DTSTAMP:20260425T125403
CREATED:20260105T190346Z
LAST-MODIFIED:20260105T190428Z
UID:10000544-1874480400-1874505600@classicmotormuseum.org
SUMMARY:The Exhibit Barn
DESCRIPTION:General Admission Required for Entry. Members and children under 6 are always free!
URL:https://classicmotormuseum.org/event/the-event-barn-2/2029-05-26/
END:VEVENT
BEGIN:VEVENT
DTSTART;TZID=America/New_York:20290527T110000
DTEND;TZID=America/New_York:20290527T150000
DTSTAMP:20260425T125403
CREATED:20260105T190519Z
LAST-MODIFIED:20260105T190519Z
UID:10000806-1874574000-1874588400@classicmotormuseum.org
SUMMARY:The Exhibit Barn
DESCRIPTION:General Admission Required for Entry. Members and children under 6 are always free!
URL:https://classicmotormuseum.org/event/the-exhibit-barn-51/2029-05-27/
END:VEVENT
BEGIN:VEVENT
DTSTART;TZID=America/New_York:20290601T110000
DTEND;TZID=America/New_York:20290601T150000
DTSTAMP:20260425T125403
CREATED:20260105T190244Z
LAST-MODIFIED:20260105T190421Z
UID:10000283-1875006000-1875020400@classicmotormuseum.org
SUMMARY:The Exhibit Barn
DESCRIPTION:General Admission Required for Entry. Members and children under 6 are always free!
URL:https://classicmotormuseum.org/event/the-event-barn/2029-06-01/
END:VEVENT
BEGIN:VEVENT
DTSTART;TZID=America/New_York:20290602T090000
DTEND;TZID=America/New_York:20290602T160000
DTSTAMP:20260425T125403
CREATED:20260105T190346Z
LAST-MODIFIED:20260105T190428Z
UID:10000545-1875085200-1875110400@classicmotormuseum.org
SUMMARY:The Exhibit Barn
DESCRIPTION:General Admission Required for Entry. Members and children under 6 are always free!
URL:https://classicmotormuseum.org/event/the-event-barn-2/2029-06-02/
END:VEVENT
BEGIN:VEVENT
DTSTART;TZID=America/New_York:20290603T110000
DTEND;TZID=America/New_York:20290603T150000
DTSTAMP:20260425T125403
CREATED:20260105T190519Z
LAST-MODIFIED:20260105T190519Z
UID:10000807-1875178800-1875193200@classicmotormuseum.org
SUMMARY:The Exhibit Barn
DESCRIPTION:General Admission Required for Entry. Members and children under 6 are always free!
URL:https://classicmotormuseum.org/event/the-exhibit-barn-51/2029-06-03/
END:VEVENT
BEGIN:VEVENT
DTSTART;TZID=America/New_York:20290608T110000
DTEND;TZID=America/New_York:20290608T150000
DTSTAMP:20260425T125403
CREATED:20260105T190244Z
LAST-MODIFIED:20260105T190421Z
UID:10000284-1875610800-1875625200@classicmotormuseum.org
SUMMARY:The Exhibit Barn
DESCRIPTION:General Admission Required for Entry. Members and children under 6 are always free!
URL:https://classicmotormuseum.org/event/the-event-barn/2029-06-08/
END:VEVENT
BEGIN:VEVENT
DTSTART;TZID=America/New_York:20290609T090000
DTEND;TZID=America/New_York:20290609T160000
DTSTAMP:20260425T125403
CREATED:20260105T190346Z
LAST-MODIFIED:20260105T190428Z
UID:10000546-1875690000-1875715200@classicmotormuseum.org
SUMMARY:The Exhibit Barn
DESCRIPTION:General Admission Required for Entry. Members and children under 6 are always free!
URL:https://classicmotormuseum.org/event/the-event-barn-2/2029-06-09/
END:VEVENT
BEGIN:VEVENT
DTSTART;TZID=America/New_York:20290610T110000
DTEND;TZID=America/New_York:20290610T150000
DTSTAMP:20260425T125403
CREATED:20260105T190519Z
LAST-MODIFIED:20260105T190519Z
UID:10000808-1875783600-1875798000@classicmotormuseum.org
SUMMARY:The Exhibit Barn
DESCRIPTION:General Admission Required for Entry. Members and children under 6 are always free!
URL:https://classicmotormuseum.org/event/the-exhibit-barn-51/2029-06-10/
END:VEVENT
BEGIN:VEVENT
DTSTART;TZID=America/New_York:20290615T110000
DTEND;TZID=America/New_York:20290615T150000
DTSTAMP:20260425T125403
CREATED:20260105T190244Z
LAST-MODIFIED:20260105T190421Z
UID:10000285-1876215600-1876230000@classicmotormuseum.org
SUMMARY:The Exhibit Barn
DESCRIPTION:General Admission Required for Entry. Members and children under 6 are always free!
URL:https://classicmotormuseum.org/event/the-event-barn/2029-06-15/
END:VEVENT
BEGIN:VEVENT
DTSTART;TZID=America/New_York:20290616T090000
DTEND;TZID=America/New_York:20290616T160000
DTSTAMP:20260425T125403
CREATED:20260105T190346Z
LAST-MODIFIED:20260105T190428Z
UID:10000547-1876294800-1876320000@classicmotormuseum.org
SUMMARY:The Exhibit Barn
DESCRIPTION:General Admission Required for Entry. Members and children under 6 are always free!
URL:https://classicmotormuseum.org/event/the-event-barn-2/2029-06-16/
END:VEVENT
BEGIN:VEVENT
DTSTART;TZID=America/New_York:20290617T110000
DTEND;TZID=America/New_York:20290617T150000
DTSTAMP:20260425T125403
CREATED:20260105T190519Z
LAST-MODIFIED:20260105T190519Z
UID:10000809-1876388400-1876402800@classicmotormuseum.org
SUMMARY:The Exhibit Barn
DESCRIPTION:General Admission Required for Entry. Members and children under 6 are always free!
URL:https://classicmotormuseum.org/event/the-exhibit-barn-51/2029-06-17/
END:VEVENT
BEGIN:VEVENT
DTSTART;TZID=America/New_York:20290622T110000
DTEND;TZID=America/New_York:20290622T150000
DTSTAMP:20260425T125403
CREATED:20260105T190244Z
LAST-MODIFIED:20260105T190421Z
UID:10000286-1876820400-1876834800@classicmotormuseum.org
SUMMARY:The Exhibit Barn
DESCRIPTION:General Admission Required for Entry. Members and children under 6 are always free!
URL:https://classicmotormuseum.org/event/the-event-barn/2029-06-22/
END:VEVENT
BEGIN:VEVENT
DTSTART;TZID=America/New_York:20290623T090000
DTEND;TZID=America/New_York:20290623T160000
DTSTAMP:20260425T125403
CREATED:20260105T190346Z
LAST-MODIFIED:20260105T190428Z
UID:10000548-1876899600-1876924800@classicmotormuseum.org
SUMMARY:The Exhibit Barn
DESCRIPTION:General Admission Required for Entry. Members and children under 6 are always free!
URL:https://classicmotormuseum.org/event/the-event-barn-2/2029-06-23/
END:VEVENT
BEGIN:VEVENT
DTSTART;TZID=America/New_York:20290624T110000
DTEND;TZID=America/New_York:20290624T150000
DTSTAMP:20260425T125403
CREATED:20260105T190519Z
LAST-MODIFIED:20260105T190519Z
UID:10000810-1876993200-1877007600@classicmotormuseum.org
SUMMARY:The Exhibit Barn
DESCRIPTION:General Admission Required for Entry. Members and children under 6 are always free!
URL:https://classicmotormuseum.org/event/the-exhibit-barn-51/2029-06-24/
END:VEVENT
BEGIN:VEVENT
DTSTART;TZID=America/New_York:20290629T110000
DTEND;TZID=America/New_York:20290629T150000
DTSTAMP:20260425T125403
CREATED:20260105T190244Z
LAST-MODIFIED:20260105T190421Z
UID:10000287-1877425200-1877439600@classicmotormuseum.org
SUMMARY:The Exhibit Barn
DESCRIPTION:General Admission Required for Entry. Members and children under 6 are always free!
URL:https://classicmotormuseum.org/event/the-event-barn/2029-06-29/
END:VEVENT
BEGIN:VEVENT
DTSTART;TZID=America/New_York:20290630T090000
DTEND;TZID=America/New_York:20290630T160000
DTSTAMP:20260425T125403
CREATED:20260105T190346Z
LAST-MODIFIED:20260105T190428Z
UID:10000549-1877504400-1877529600@classicmotormuseum.org
SUMMARY:The Exhibit Barn
DESCRIPTION:General Admission Required for Entry. Members and children under 6 are always free!
URL:https://classicmotormuseum.org/event/the-event-barn-2/2029-06-30/
END:VEVENT
BEGIN:VEVENT
DTSTART;TZID=America/New_York:20290701T110000
DTEND;TZID=America/New_York:20290701T150000
DTSTAMP:20260425T125403
CREATED:20260105T190519Z
LAST-MODIFIED:20260105T190519Z
UID:10000811-1877598000-1877612400@classicmotormuseum.org
SUMMARY:The Exhibit Barn
DESCRIPTION:General Admission Required for Entry. Members and children under 6 are always free!
URL:https://classicmotormuseum.org/event/the-exhibit-barn-51/2029-07-01/
END:VEVENT
END:VCALENDAR