BEGIN:VCALENDAR
VERSION:2.0
PRODID:-//Classic Motor Museum - ECPv6.15.17//NONSGML v1.0//EN
CALSCALE:GREGORIAN
METHOD:PUBLISH
X-ORIGINAL-URL:https://classicmotormuseum.org
X-WR-CALDESC:Events for Classic Motor Museum
REFRESH-INTERVAL;VALUE=DURATION:PT1H
X-Robots-Tag:noindex
X-PUBLISHED-TTL:PT1H
BEGIN:VTIMEZONE
TZID:America/New_York
BEGIN:DAYLIGHT
TZOFFSETFROM:-0500
TZOFFSETTO:-0400
TZNAME:EDT
DTSTART:20280312T070000
END:DAYLIGHT
BEGIN:STANDARD
TZOFFSETFROM:-0400
TZOFFSETTO:-0500
TZNAME:EST
DTSTART:20281105T060000
END:STANDARD
BEGIN:DAYLIGHT
TZOFFSETFROM:-0500
TZOFFSETTO:-0400
TZNAME:EDT
DTSTART:20290311T070000
END:DAYLIGHT
BEGIN:STANDARD
TZOFFSETFROM:-0400
TZOFFSETTO:-0500
TZNAME:EST
DTSTART:20291104T060000
END:STANDARD
BEGIN:DAYLIGHT
TZOFFSETFROM:-0500
TZOFFSETTO:-0400
TZNAME:EDT
DTSTART:20300310T070000
END:DAYLIGHT
BEGIN:STANDARD
TZOFFSETFROM:-0400
TZOFFSETTO:-0500
TZNAME:EST
DTSTART:20301103T060000
END:STANDARD
END:VTIMEZONE
BEGIN:VEVENT
DTSTART;TZID=America/New_York:20291007T110000
DTEND;TZID=America/New_York:20291007T150000
DTSTAMP:20260425T122908
CREATED:20260105T190519Z
LAST-MODIFIED:20260105T190519Z
UID:10000825-1886065200-1886079600@classicmotormuseum.org
SUMMARY:The Exhibit Barn
DESCRIPTION:General Admission Required for Entry. Members and children under 6 are always free!
URL:https://classicmotormuseum.org/event/the-exhibit-barn-51/2029-10-07/
END:VEVENT
BEGIN:VEVENT
DTSTART;TZID=America/New_York:20291012T110000
DTEND;TZID=America/New_York:20291012T150000
DTSTAMP:20260425T122908
CREATED:20260105T190244Z
LAST-MODIFIED:20260105T190421Z
UID:10000302-1886497200-1886511600@classicmotormuseum.org
SUMMARY:The Exhibit Barn
DESCRIPTION:General Admission Required for Entry. Members and children under 6 are always free!
URL:https://classicmotormuseum.org/event/the-event-barn/2029-10-12/
END:VEVENT
BEGIN:VEVENT
DTSTART;TZID=America/New_York:20291013T090000
DTEND;TZID=America/New_York:20291013T160000
DTSTAMP:20260425T122908
CREATED:20260105T190346Z
LAST-MODIFIED:20260105T190428Z
UID:10000564-1886576400-1886601600@classicmotormuseum.org
SUMMARY:The Exhibit Barn
DESCRIPTION:General Admission Required for Entry. Members and children under 6 are always free!
URL:https://classicmotormuseum.org/event/the-event-barn-2/2029-10-13/
END:VEVENT
BEGIN:VEVENT
DTSTART;TZID=America/New_York:20291014T110000
DTEND;TZID=America/New_York:20291014T150000
DTSTAMP:20260425T122908
CREATED:20260105T190519Z
LAST-MODIFIED:20260105T190519Z
UID:10000826-1886670000-1886684400@classicmotormuseum.org
SUMMARY:The Exhibit Barn
DESCRIPTION:General Admission Required for Entry. Members and children under 6 are always free!
URL:https://classicmotormuseum.org/event/the-exhibit-barn-51/2029-10-14/
END:VEVENT
BEGIN:VEVENT
DTSTART;TZID=America/New_York:20291019T110000
DTEND;TZID=America/New_York:20291019T150000
DTSTAMP:20260425T122908
CREATED:20260105T190244Z
LAST-MODIFIED:20260105T190421Z
UID:10000303-1887102000-1887116400@classicmotormuseum.org
SUMMARY:The Exhibit Barn
DESCRIPTION:General Admission Required for Entry. Members and children under 6 are always free!
URL:https://classicmotormuseum.org/event/the-event-barn/2029-10-19/
END:VEVENT
BEGIN:VEVENT
DTSTART;TZID=America/New_York:20291020T090000
DTEND;TZID=America/New_York:20291020T160000
DTSTAMP:20260425T122908
CREATED:20260105T190346Z
LAST-MODIFIED:20260105T190428Z
UID:10000565-1887181200-1887206400@classicmotormuseum.org
SUMMARY:The Exhibit Barn
DESCRIPTION:General Admission Required for Entry. Members and children under 6 are always free!
URL:https://classicmotormuseum.org/event/the-event-barn-2/2029-10-20/
END:VEVENT
BEGIN:VEVENT
DTSTART;TZID=America/New_York:20291021T110000
DTEND;TZID=America/New_York:20291021T150000
DTSTAMP:20260425T122908
CREATED:20260105T190519Z
LAST-MODIFIED:20260105T190519Z
UID:10000827-1887274800-1887289200@classicmotormuseum.org
SUMMARY:The Exhibit Barn
DESCRIPTION:General Admission Required for Entry. Members and children under 6 are always free!
URL:https://classicmotormuseum.org/event/the-exhibit-barn-51/2029-10-21/
END:VEVENT
BEGIN:VEVENT
DTSTART;TZID=America/New_York:20291026T110000
DTEND;TZID=America/New_York:20291026T150000
DTSTAMP:20260425T122908
CREATED:20260105T190244Z
LAST-MODIFIED:20260105T190421Z
UID:10000304-1887706800-1887721200@classicmotormuseum.org
SUMMARY:The Exhibit Barn
DESCRIPTION:General Admission Required for Entry. Members and children under 6 are always free!
URL:https://classicmotormuseum.org/event/the-event-barn/2029-10-26/
END:VEVENT
BEGIN:VEVENT
DTSTART;TZID=America/New_York:20291027T090000
DTEND;TZID=America/New_York:20291027T160000
DTSTAMP:20260425T122908
CREATED:20260105T190346Z
LAST-MODIFIED:20260105T190428Z
UID:10000566-1887786000-1887811200@classicmotormuseum.org
SUMMARY:The Exhibit Barn
DESCRIPTION:General Admission Required for Entry. Members and children under 6 are always free!
URL:https://classicmotormuseum.org/event/the-event-barn-2/2029-10-27/
END:VEVENT
BEGIN:VEVENT
DTSTART;TZID=America/New_York:20291028T110000
DTEND;TZID=America/New_York:20291028T150000
DTSTAMP:20260425T122908
CREATED:20260105T190519Z
LAST-MODIFIED:20260105T190519Z
UID:10000828-1887879600-1887894000@classicmotormuseum.org
SUMMARY:The Exhibit Barn
DESCRIPTION:General Admission Required for Entry. Members and children under 6 are always free!
URL:https://classicmotormuseum.org/event/the-exhibit-barn-51/2029-10-28/
END:VEVENT
BEGIN:VEVENT
DTSTART;TZID=America/New_York:20291102T110000
DTEND;TZID=America/New_York:20291102T150000
DTSTAMP:20260425T122908
CREATED:20260105T190244Z
LAST-MODIFIED:20260105T190421Z
UID:10000305-1888311600-1888326000@classicmotormuseum.org
SUMMARY:The Exhibit Barn
DESCRIPTION:General Admission Required for Entry. Members and children under 6 are always free!
URL:https://classicmotormuseum.org/event/the-event-barn/2029-11-02/
END:VEVENT
BEGIN:VEVENT
DTSTART;TZID=America/New_York:20291103T090000
DTEND;TZID=America/New_York:20291103T160000
DTSTAMP:20260425T122908
CREATED:20260105T190346Z
LAST-MODIFIED:20260105T190428Z
UID:10000567-1888390800-1888416000@classicmotormuseum.org
SUMMARY:The Exhibit Barn
DESCRIPTION:General Admission Required for Entry. Members and children under 6 are always free!
URL:https://classicmotormuseum.org/event/the-event-barn-2/2029-11-03/
END:VEVENT
BEGIN:VEVENT
DTSTART;TZID=America/New_York:20291104T110000
DTEND;TZID=America/New_York:20291104T150000
DTSTAMP:20260425T122908
CREATED:20260105T190519Z
LAST-MODIFIED:20260105T190519Z
UID:10000829-1888484400-1888498800@classicmotormuseum.org
SUMMARY:The Exhibit Barn
DESCRIPTION:General Admission Required for Entry. Members and children under 6 are always free!
URL:https://classicmotormuseum.org/event/the-exhibit-barn-51/2029-11-04/
END:VEVENT
BEGIN:VEVENT
DTSTART;TZID=America/New_York:20291109T110000
DTEND;TZID=America/New_York:20291109T150000
DTSTAMP:20260425T122908
CREATED:20260105T190244Z
LAST-MODIFIED:20260105T190421Z
UID:10000306-1888916400-1888930800@classicmotormuseum.org
SUMMARY:The Exhibit Barn
DESCRIPTION:General Admission Required for Entry. Members and children under 6 are always free!
URL:https://classicmotormuseum.org/event/the-event-barn/2029-11-09/
END:VEVENT
BEGIN:VEVENT
DTSTART;TZID=America/New_York:20291110T090000
DTEND;TZID=America/New_York:20291110T160000
DTSTAMP:20260425T122908
CREATED:20260105T190346Z
LAST-MODIFIED:20260105T190428Z
UID:10000568-1888995600-1889020800@classicmotormuseum.org
SUMMARY:The Exhibit Barn
DESCRIPTION:General Admission Required for Entry. Members and children under 6 are always free!
URL:https://classicmotormuseum.org/event/the-event-barn-2/2029-11-10/
END:VEVENT
BEGIN:VEVENT
DTSTART;TZID=America/New_York:20291111T110000
DTEND;TZID=America/New_York:20291111T150000
DTSTAMP:20260425T122908
CREATED:20260105T190519Z
LAST-MODIFIED:20260105T190519Z
UID:10000830-1889089200-1889103600@classicmotormuseum.org
SUMMARY:The Exhibit Barn
DESCRIPTION:General Admission Required for Entry. Members and children under 6 are always free!
URL:https://classicmotormuseum.org/event/the-exhibit-barn-51/2029-11-11/
END:VEVENT
BEGIN:VEVENT
DTSTART;TZID=America/New_York:20291116T110000
DTEND;TZID=America/New_York:20291116T150000
DTSTAMP:20260425T122908
CREATED:20260105T190244Z
LAST-MODIFIED:20260105T190421Z
UID:10000307-1889521200-1889535600@classicmotormuseum.org
SUMMARY:The Exhibit Barn
DESCRIPTION:General Admission Required for Entry. Members and children under 6 are always free!
URL:https://classicmotormuseum.org/event/the-event-barn/2029-11-16/
END:VEVENT
BEGIN:VEVENT
DTSTART;TZID=America/New_York:20291117T090000
DTEND;TZID=America/New_York:20291117T160000
DTSTAMP:20260425T122908
CREATED:20260105T190346Z
LAST-MODIFIED:20260105T190428Z
UID:10000569-1889600400-1889625600@classicmotormuseum.org
SUMMARY:The Exhibit Barn
DESCRIPTION:General Admission Required for Entry. Members and children under 6 are always free!
URL:https://classicmotormuseum.org/event/the-event-barn-2/2029-11-17/
END:VEVENT
BEGIN:VEVENT
DTSTART;TZID=America/New_York:20291118T110000
DTEND;TZID=America/New_York:20291118T150000
DTSTAMP:20260425T122908
CREATED:20260105T190519Z
LAST-MODIFIED:20260105T190519Z
UID:10000831-1889694000-1889708400@classicmotormuseum.org
SUMMARY:The Exhibit Barn
DESCRIPTION:General Admission Required for Entry. Members and children under 6 are always free!
URL:https://classicmotormuseum.org/event/the-exhibit-barn-51/2029-11-18/
END:VEVENT
BEGIN:VEVENT
DTSTART;TZID=America/New_York:20291123T110000
DTEND;TZID=America/New_York:20291123T150000
DTSTAMP:20260425T122908
CREATED:20260105T190244Z
LAST-MODIFIED:20260105T190421Z
UID:10000308-1890126000-1890140400@classicmotormuseum.org
SUMMARY:The Exhibit Barn
DESCRIPTION:General Admission Required for Entry. Members and children under 6 are always free!
URL:https://classicmotormuseum.org/event/the-event-barn/2029-11-23/
END:VEVENT
BEGIN:VEVENT
DTSTART;TZID=America/New_York:20291124T090000
DTEND;TZID=America/New_York:20291124T160000
DTSTAMP:20260425T122908
CREATED:20260105T190346Z
LAST-MODIFIED:20260105T190428Z
UID:10000570-1890205200-1890230400@classicmotormuseum.org
SUMMARY:The Exhibit Barn
DESCRIPTION:General Admission Required for Entry. Members and children under 6 are always free!
URL:https://classicmotormuseum.org/event/the-event-barn-2/2029-11-24/
END:VEVENT
BEGIN:VEVENT
DTSTART;TZID=America/New_York:20291125T110000
DTEND;TZID=America/New_York:20291125T150000
DTSTAMP:20260425T122908
CREATED:20260105T190519Z
LAST-MODIFIED:20260105T190519Z
UID:10000832-1890298800-1890313200@classicmotormuseum.org
SUMMARY:The Exhibit Barn
DESCRIPTION:General Admission Required for Entry. Members and children under 6 are always free!
URL:https://classicmotormuseum.org/event/the-exhibit-barn-51/2029-11-25/
END:VEVENT
BEGIN:VEVENT
DTSTART;TZID=America/New_York:20291130T110000
DTEND;TZID=America/New_York:20291130T150000
DTSTAMP:20260425T122908
CREATED:20260105T190244Z
LAST-MODIFIED:20260105T190421Z
UID:10000309-1890730800-1890745200@classicmotormuseum.org
SUMMARY:The Exhibit Barn
DESCRIPTION:General Admission Required for Entry. Members and children under 6 are always free!
URL:https://classicmotormuseum.org/event/the-event-barn/2029-11-30/
END:VEVENT
BEGIN:VEVENT
DTSTART;TZID=America/New_York:20291201T090000
DTEND;TZID=America/New_York:20291201T160000
DTSTAMP:20260425T122908
CREATED:20260105T190346Z
LAST-MODIFIED:20260105T190428Z
UID:10000571-1890810000-1890835200@classicmotormuseum.org
SUMMARY:The Exhibit Barn
DESCRIPTION:General Admission Required for Entry. Members and children under 6 are always free!
URL:https://classicmotormuseum.org/event/the-event-barn-2/2029-12-01/
END:VEVENT
BEGIN:VEVENT
DTSTART;TZID=America/New_York:20291202T110000
DTEND;TZID=America/New_York:20291202T150000
DTSTAMP:20260425T122908
CREATED:20260105T190519Z
LAST-MODIFIED:20260105T190519Z
UID:10000833-1890903600-1890918000@classicmotormuseum.org
SUMMARY:The Exhibit Barn
DESCRIPTION:General Admission Required for Entry. Members and children under 6 are always free!
URL:https://classicmotormuseum.org/event/the-exhibit-barn-51/2029-12-02/
END:VEVENT
BEGIN:VEVENT
DTSTART;TZID=America/New_York:20291207T110000
DTEND;TZID=America/New_York:20291207T150000
DTSTAMP:20260425T122908
CREATED:20260105T190244Z
LAST-MODIFIED:20260105T190421Z
UID:10000310-1891335600-1891350000@classicmotormuseum.org
SUMMARY:The Exhibit Barn
DESCRIPTION:General Admission Required for Entry. Members and children under 6 are always free!
URL:https://classicmotormuseum.org/event/the-event-barn/2029-12-07/
END:VEVENT
BEGIN:VEVENT
DTSTART;TZID=America/New_York:20291208T090000
DTEND;TZID=America/New_York:20291208T160000
DTSTAMP:20260425T122908
CREATED:20260105T190346Z
LAST-MODIFIED:20260105T190428Z
UID:10000572-1891414800-1891440000@classicmotormuseum.org
SUMMARY:The Exhibit Barn
DESCRIPTION:General Admission Required for Entry. Members and children under 6 are always free!
URL:https://classicmotormuseum.org/event/the-event-barn-2/2029-12-08/
END:VEVENT
BEGIN:VEVENT
DTSTART;TZID=America/New_York:20291209T110000
DTEND;TZID=America/New_York:20291209T150000
DTSTAMP:20260425T122908
CREATED:20260105T190519Z
LAST-MODIFIED:20260105T190519Z
UID:10000834-1891508400-1891522800@classicmotormuseum.org
SUMMARY:The Exhibit Barn
DESCRIPTION:General Admission Required for Entry. Members and children under 6 are always free!
URL:https://classicmotormuseum.org/event/the-exhibit-barn-51/2029-12-09/
END:VEVENT
BEGIN:VEVENT
DTSTART;TZID=America/New_York:20291214T110000
DTEND;TZID=America/New_York:20291214T150000
DTSTAMP:20260425T122908
CREATED:20260105T190244Z
LAST-MODIFIED:20260105T190421Z
UID:10000311-1891940400-1891954800@classicmotormuseum.org
SUMMARY:The Exhibit Barn
DESCRIPTION:General Admission Required for Entry. Members and children under 6 are always free!
URL:https://classicmotormuseum.org/event/the-event-barn/2029-12-14/
END:VEVENT
BEGIN:VEVENT
DTSTART;TZID=America/New_York:20291215T090000
DTEND;TZID=America/New_York:20291215T160000
DTSTAMP:20260425T122908
CREATED:20260105T190346Z
LAST-MODIFIED:20260105T190428Z
UID:10000573-1892019600-1892044800@classicmotormuseum.org
SUMMARY:The Exhibit Barn
DESCRIPTION:General Admission Required for Entry. Members and children under 6 are always free!
URL:https://classicmotormuseum.org/event/the-event-barn-2/2029-12-15/
END:VEVENT
END:VCALENDAR