BEGIN:VCALENDAR
VERSION:2.0
PRODID:-//Classic Motor Museum - ECPv6.15.17//NONSGML v1.0//EN
CALSCALE:GREGORIAN
METHOD:PUBLISH
X-ORIGINAL-URL:https://classicmotormuseum.org
X-WR-CALDESC:Events for Classic Motor Museum
REFRESH-INTERVAL;VALUE=DURATION:PT1H
X-Robots-Tag:noindex
X-PUBLISHED-TTL:PT1H
BEGIN:VTIMEZONE
TZID:America/New_York
BEGIN:DAYLIGHT
TZOFFSETFROM:-0500
TZOFFSETTO:-0400
TZNAME:EDT
DTSTART:20280312T070000
END:DAYLIGHT
BEGIN:STANDARD
TZOFFSETFROM:-0400
TZOFFSETTO:-0500
TZNAME:EST
DTSTART:20281105T060000
END:STANDARD
BEGIN:DAYLIGHT
TZOFFSETFROM:-0500
TZOFFSETTO:-0400
TZNAME:EDT
DTSTART:20290311T070000
END:DAYLIGHT
BEGIN:STANDARD
TZOFFSETFROM:-0400
TZOFFSETTO:-0500
TZNAME:EST
DTSTART:20291104T060000
END:STANDARD
BEGIN:DAYLIGHT
TZOFFSETFROM:-0500
TZOFFSETTO:-0400
TZNAME:EDT
DTSTART:20300310T070000
END:DAYLIGHT
BEGIN:STANDARD
TZOFFSETFROM:-0400
TZOFFSETTO:-0500
TZNAME:EST
DTSTART:20301103T060000
END:STANDARD
END:VTIMEZONE
BEGIN:VEVENT
DTSTART;TZID=America/New_York:20290603T110000
DTEND;TZID=America/New_York:20290603T150000
DTSTAMP:20260425T064058
CREATED:20260105T190519Z
LAST-MODIFIED:20260105T190519Z
UID:10000807-1875178800-1875193200@classicmotormuseum.org
SUMMARY:The Exhibit Barn
DESCRIPTION:General Admission Required for Entry. Members and children under 6 are always free!
URL:https://classicmotormuseum.org/event/the-exhibit-barn-51/2029-06-03/
END:VEVENT
BEGIN:VEVENT
DTSTART;TZID=America/New_York:20290608T110000
DTEND;TZID=America/New_York:20290608T150000
DTSTAMP:20260425T064058
CREATED:20260105T190244Z
LAST-MODIFIED:20260105T190421Z
UID:10000284-1875610800-1875625200@classicmotormuseum.org
SUMMARY:The Exhibit Barn
DESCRIPTION:General Admission Required for Entry. Members and children under 6 are always free!
URL:https://classicmotormuseum.org/event/the-event-barn/2029-06-08/
END:VEVENT
BEGIN:VEVENT
DTSTART;TZID=America/New_York:20290609T090000
DTEND;TZID=America/New_York:20290609T160000
DTSTAMP:20260425T064058
CREATED:20260105T190346Z
LAST-MODIFIED:20260105T190428Z
UID:10000546-1875690000-1875715200@classicmotormuseum.org
SUMMARY:The Exhibit Barn
DESCRIPTION:General Admission Required for Entry. Members and children under 6 are always free!
URL:https://classicmotormuseum.org/event/the-event-barn-2/2029-06-09/
END:VEVENT
BEGIN:VEVENT
DTSTART;TZID=America/New_York:20290610T110000
DTEND;TZID=America/New_York:20290610T150000
DTSTAMP:20260425T064058
CREATED:20260105T190519Z
LAST-MODIFIED:20260105T190519Z
UID:10000808-1875783600-1875798000@classicmotormuseum.org
SUMMARY:The Exhibit Barn
DESCRIPTION:General Admission Required for Entry. Members and children under 6 are always free!
URL:https://classicmotormuseum.org/event/the-exhibit-barn-51/2029-06-10/
END:VEVENT
BEGIN:VEVENT
DTSTART;TZID=America/New_York:20290615T110000
DTEND;TZID=America/New_York:20290615T150000
DTSTAMP:20260425T064058
CREATED:20260105T190244Z
LAST-MODIFIED:20260105T190421Z
UID:10000285-1876215600-1876230000@classicmotormuseum.org
SUMMARY:The Exhibit Barn
DESCRIPTION:General Admission Required for Entry. Members and children under 6 are always free!
URL:https://classicmotormuseum.org/event/the-event-barn/2029-06-15/
END:VEVENT
BEGIN:VEVENT
DTSTART;TZID=America/New_York:20290616T090000
DTEND;TZID=America/New_York:20290616T160000
DTSTAMP:20260425T064058
CREATED:20260105T190346Z
LAST-MODIFIED:20260105T190428Z
UID:10000547-1876294800-1876320000@classicmotormuseum.org
SUMMARY:The Exhibit Barn
DESCRIPTION:General Admission Required for Entry. Members and children under 6 are always free!
URL:https://classicmotormuseum.org/event/the-event-barn-2/2029-06-16/
END:VEVENT
BEGIN:VEVENT
DTSTART;TZID=America/New_York:20290617T110000
DTEND;TZID=America/New_York:20290617T150000
DTSTAMP:20260425T064058
CREATED:20260105T190519Z
LAST-MODIFIED:20260105T190519Z
UID:10000809-1876388400-1876402800@classicmotormuseum.org
SUMMARY:The Exhibit Barn
DESCRIPTION:General Admission Required for Entry. Members and children under 6 are always free!
URL:https://classicmotormuseum.org/event/the-exhibit-barn-51/2029-06-17/
END:VEVENT
BEGIN:VEVENT
DTSTART;TZID=America/New_York:20290622T110000
DTEND;TZID=America/New_York:20290622T150000
DTSTAMP:20260425T064058
CREATED:20260105T190244Z
LAST-MODIFIED:20260105T190421Z
UID:10000286-1876820400-1876834800@classicmotormuseum.org
SUMMARY:The Exhibit Barn
DESCRIPTION:General Admission Required for Entry. Members and children under 6 are always free!
URL:https://classicmotormuseum.org/event/the-event-barn/2029-06-22/
END:VEVENT
BEGIN:VEVENT
DTSTART;TZID=America/New_York:20290623T090000
DTEND;TZID=America/New_York:20290623T160000
DTSTAMP:20260425T064058
CREATED:20260105T190346Z
LAST-MODIFIED:20260105T190428Z
UID:10000548-1876899600-1876924800@classicmotormuseum.org
SUMMARY:The Exhibit Barn
DESCRIPTION:General Admission Required for Entry. Members and children under 6 are always free!
URL:https://classicmotormuseum.org/event/the-event-barn-2/2029-06-23/
END:VEVENT
BEGIN:VEVENT
DTSTART;TZID=America/New_York:20290624T110000
DTEND;TZID=America/New_York:20290624T150000
DTSTAMP:20260425T064058
CREATED:20260105T190519Z
LAST-MODIFIED:20260105T190519Z
UID:10000810-1876993200-1877007600@classicmotormuseum.org
SUMMARY:The Exhibit Barn
DESCRIPTION:General Admission Required for Entry. Members and children under 6 are always free!
URL:https://classicmotormuseum.org/event/the-exhibit-barn-51/2029-06-24/
END:VEVENT
BEGIN:VEVENT
DTSTART;TZID=America/New_York:20290629T110000
DTEND;TZID=America/New_York:20290629T150000
DTSTAMP:20260425T064058
CREATED:20260105T190244Z
LAST-MODIFIED:20260105T190421Z
UID:10000287-1877425200-1877439600@classicmotormuseum.org
SUMMARY:The Exhibit Barn
DESCRIPTION:General Admission Required for Entry. Members and children under 6 are always free!
URL:https://classicmotormuseum.org/event/the-event-barn/2029-06-29/
END:VEVENT
BEGIN:VEVENT
DTSTART;TZID=America/New_York:20290630T090000
DTEND;TZID=America/New_York:20290630T160000
DTSTAMP:20260425T064058
CREATED:20260105T190346Z
LAST-MODIFIED:20260105T190428Z
UID:10000549-1877504400-1877529600@classicmotormuseum.org
SUMMARY:The Exhibit Barn
DESCRIPTION:General Admission Required for Entry. Members and children under 6 are always free!
URL:https://classicmotormuseum.org/event/the-event-barn-2/2029-06-30/
END:VEVENT
BEGIN:VEVENT
DTSTART;TZID=America/New_York:20290701T110000
DTEND;TZID=America/New_York:20290701T150000
DTSTAMP:20260425T064058
CREATED:20260105T190519Z
LAST-MODIFIED:20260105T190519Z
UID:10000811-1877598000-1877612400@classicmotormuseum.org
SUMMARY:The Exhibit Barn
DESCRIPTION:General Admission Required for Entry. Members and children under 6 are always free!
URL:https://classicmotormuseum.org/event/the-exhibit-barn-51/2029-07-01/
END:VEVENT
BEGIN:VEVENT
DTSTART;TZID=America/New_York:20290706T110000
DTEND;TZID=America/New_York:20290706T150000
DTSTAMP:20260425T064058
CREATED:20260105T190244Z
LAST-MODIFIED:20260105T190421Z
UID:10000288-1878030000-1878044400@classicmotormuseum.org
SUMMARY:The Exhibit Barn
DESCRIPTION:General Admission Required for Entry. Members and children under 6 are always free!
URL:https://classicmotormuseum.org/event/the-event-barn/2029-07-06/
END:VEVENT
BEGIN:VEVENT
DTSTART;TZID=America/New_York:20290707T090000
DTEND;TZID=America/New_York:20290707T160000
DTSTAMP:20260425T064058
CREATED:20260105T190346Z
LAST-MODIFIED:20260105T190428Z
UID:10000550-1878109200-1878134400@classicmotormuseum.org
SUMMARY:The Exhibit Barn
DESCRIPTION:General Admission Required for Entry. Members and children under 6 are always free!
URL:https://classicmotormuseum.org/event/the-event-barn-2/2029-07-07/
END:VEVENT
BEGIN:VEVENT
DTSTART;TZID=America/New_York:20290708T110000
DTEND;TZID=America/New_York:20290708T150000
DTSTAMP:20260425T064058
CREATED:20260105T190519Z
LAST-MODIFIED:20260105T190519Z
UID:10000812-1878202800-1878217200@classicmotormuseum.org
SUMMARY:The Exhibit Barn
DESCRIPTION:General Admission Required for Entry. Members and children under 6 are always free!
URL:https://classicmotormuseum.org/event/the-exhibit-barn-51/2029-07-08/
END:VEVENT
BEGIN:VEVENT
DTSTART;TZID=America/New_York:20290713T110000
DTEND;TZID=America/New_York:20290713T150000
DTSTAMP:20260425T064058
CREATED:20260105T190244Z
LAST-MODIFIED:20260105T190421Z
UID:10000289-1878634800-1878649200@classicmotormuseum.org
SUMMARY:The Exhibit Barn
DESCRIPTION:General Admission Required for Entry. Members and children under 6 are always free!
URL:https://classicmotormuseum.org/event/the-event-barn/2029-07-13/
END:VEVENT
BEGIN:VEVENT
DTSTART;TZID=America/New_York:20290714T090000
DTEND;TZID=America/New_York:20290714T160000
DTSTAMP:20260425T064058
CREATED:20260105T190346Z
LAST-MODIFIED:20260105T190428Z
UID:10000551-1878714000-1878739200@classicmotormuseum.org
SUMMARY:The Exhibit Barn
DESCRIPTION:General Admission Required for Entry. Members and children under 6 are always free!
URL:https://classicmotormuseum.org/event/the-event-barn-2/2029-07-14/
END:VEVENT
BEGIN:VEVENT
DTSTART;TZID=America/New_York:20290715T110000
DTEND;TZID=America/New_York:20290715T150000
DTSTAMP:20260425T064058
CREATED:20260105T190519Z
LAST-MODIFIED:20260105T190519Z
UID:10000813-1878807600-1878822000@classicmotormuseum.org
SUMMARY:The Exhibit Barn
DESCRIPTION:General Admission Required for Entry. Members and children under 6 are always free!
URL:https://classicmotormuseum.org/event/the-exhibit-barn-51/2029-07-15/
END:VEVENT
BEGIN:VEVENT
DTSTART;TZID=America/New_York:20290720T110000
DTEND;TZID=America/New_York:20290720T150000
DTSTAMP:20260425T064058
CREATED:20260105T190244Z
LAST-MODIFIED:20260105T190421Z
UID:10000290-1879239600-1879254000@classicmotormuseum.org
SUMMARY:The Exhibit Barn
DESCRIPTION:General Admission Required for Entry. Members and children under 6 are always free!
URL:https://classicmotormuseum.org/event/the-event-barn/2029-07-20/
END:VEVENT
BEGIN:VEVENT
DTSTART;TZID=America/New_York:20290721T090000
DTEND;TZID=America/New_York:20290721T160000
DTSTAMP:20260425T064058
CREATED:20260105T190346Z
LAST-MODIFIED:20260105T190428Z
UID:10000552-1879318800-1879344000@classicmotormuseum.org
SUMMARY:The Exhibit Barn
DESCRIPTION:General Admission Required for Entry. Members and children under 6 are always free!
URL:https://classicmotormuseum.org/event/the-event-barn-2/2029-07-21/
END:VEVENT
BEGIN:VEVENT
DTSTART;TZID=America/New_York:20290722T110000
DTEND;TZID=America/New_York:20290722T150000
DTSTAMP:20260425T064058
CREATED:20260105T190519Z
LAST-MODIFIED:20260105T190519Z
UID:10000814-1879412400-1879426800@classicmotormuseum.org
SUMMARY:The Exhibit Barn
DESCRIPTION:General Admission Required for Entry. Members and children under 6 are always free!
URL:https://classicmotormuseum.org/event/the-exhibit-barn-51/2029-07-22/
END:VEVENT
BEGIN:VEVENT
DTSTART;TZID=America/New_York:20290727T110000
DTEND;TZID=America/New_York:20290727T150000
DTSTAMP:20260425T064058
CREATED:20260105T190244Z
LAST-MODIFIED:20260105T190421Z
UID:10000291-1879844400-1879858800@classicmotormuseum.org
SUMMARY:The Exhibit Barn
DESCRIPTION:General Admission Required for Entry. Members and children under 6 are always free!
URL:https://classicmotormuseum.org/event/the-event-barn/2029-07-27/
END:VEVENT
BEGIN:VEVENT
DTSTART;TZID=America/New_York:20290728T090000
DTEND;TZID=America/New_York:20290728T160000
DTSTAMP:20260425T064058
CREATED:20260105T190346Z
LAST-MODIFIED:20260105T190428Z
UID:10000553-1879923600-1879948800@classicmotormuseum.org
SUMMARY:The Exhibit Barn
DESCRIPTION:General Admission Required for Entry. Members and children under 6 are always free!
URL:https://classicmotormuseum.org/event/the-event-barn-2/2029-07-28/
END:VEVENT
BEGIN:VEVENT
DTSTART;TZID=America/New_York:20290729T110000
DTEND;TZID=America/New_York:20290729T150000
DTSTAMP:20260425T064058
CREATED:20260105T190519Z
LAST-MODIFIED:20260105T190519Z
UID:10000815-1880017200-1880031600@classicmotormuseum.org
SUMMARY:The Exhibit Barn
DESCRIPTION:General Admission Required for Entry. Members and children under 6 are always free!
URL:https://classicmotormuseum.org/event/the-exhibit-barn-51/2029-07-29/
END:VEVENT
BEGIN:VEVENT
DTSTART;TZID=America/New_York:20290803T110000
DTEND;TZID=America/New_York:20290803T150000
DTSTAMP:20260425T064058
CREATED:20260105T190244Z
LAST-MODIFIED:20260105T190421Z
UID:10000292-1880449200-1880463600@classicmotormuseum.org
SUMMARY:The Exhibit Barn
DESCRIPTION:General Admission Required for Entry. Members and children under 6 are always free!
URL:https://classicmotormuseum.org/event/the-event-barn/2029-08-03/
END:VEVENT
BEGIN:VEVENT
DTSTART;TZID=America/New_York:20290804T090000
DTEND;TZID=America/New_York:20290804T160000
DTSTAMP:20260425T064058
CREATED:20260105T190346Z
LAST-MODIFIED:20260105T190428Z
UID:10000554-1880528400-1880553600@classicmotormuseum.org
SUMMARY:The Exhibit Barn
DESCRIPTION:General Admission Required for Entry. Members and children under 6 are always free!
URL:https://classicmotormuseum.org/event/the-event-barn-2/2029-08-04/
END:VEVENT
BEGIN:VEVENT
DTSTART;TZID=America/New_York:20290805T110000
DTEND;TZID=America/New_York:20290805T150000
DTSTAMP:20260425T064058
CREATED:20260105T190519Z
LAST-MODIFIED:20260105T190519Z
UID:10000816-1880622000-1880636400@classicmotormuseum.org
SUMMARY:The Exhibit Barn
DESCRIPTION:General Admission Required for Entry. Members and children under 6 are always free!
URL:https://classicmotormuseum.org/event/the-exhibit-barn-51/2029-08-05/
END:VEVENT
BEGIN:VEVENT
DTSTART;TZID=America/New_York:20290810T110000
DTEND;TZID=America/New_York:20290810T150000
DTSTAMP:20260425T064058
CREATED:20260105T190244Z
LAST-MODIFIED:20260105T190421Z
UID:10000293-1881054000-1881068400@classicmotormuseum.org
SUMMARY:The Exhibit Barn
DESCRIPTION:General Admission Required for Entry. Members and children under 6 are always free!
URL:https://classicmotormuseum.org/event/the-event-barn/2029-08-10/
END:VEVENT
BEGIN:VEVENT
DTSTART;TZID=America/New_York:20290811T090000
DTEND;TZID=America/New_York:20290811T160000
DTSTAMP:20260425T064058
CREATED:20260105T190346Z
LAST-MODIFIED:20260105T190428Z
UID:10000555-1881133200-1881158400@classicmotormuseum.org
SUMMARY:The Exhibit Barn
DESCRIPTION:General Admission Required for Entry. Members and children under 6 are always free!
URL:https://classicmotormuseum.org/event/the-event-barn-2/2029-08-11/
END:VEVENT
END:VCALENDAR