BEGIN:VCALENDAR
VERSION:2.0
PRODID:-//Classic Motor Museum - ECPv6.15.17//NONSGML v1.0//EN
CALSCALE:GREGORIAN
METHOD:PUBLISH
X-ORIGINAL-URL:https://classicmotormuseum.org
X-WR-CALDESC:Events for Classic Motor Museum
REFRESH-INTERVAL;VALUE=DURATION:PT1H
X-Robots-Tag:noindex
X-PUBLISHED-TTL:PT1H
BEGIN:VTIMEZONE
TZID:America/New_York
BEGIN:DAYLIGHT
TZOFFSETFROM:-0500
TZOFFSETTO:-0400
TZNAME:EDT
DTSTART:20270314T070000
END:DAYLIGHT
BEGIN:STANDARD
TZOFFSETFROM:-0400
TZOFFSETTO:-0500
TZNAME:EST
DTSTART:20271107T060000
END:STANDARD
BEGIN:DAYLIGHT
TZOFFSETFROM:-0500
TZOFFSETTO:-0400
TZNAME:EDT
DTSTART:20280312T070000
END:DAYLIGHT
BEGIN:STANDARD
TZOFFSETFROM:-0400
TZOFFSETTO:-0500
TZNAME:EST
DTSTART:20281105T060000
END:STANDARD
BEGIN:DAYLIGHT
TZOFFSETFROM:-0500
TZOFFSETTO:-0400
TZNAME:EDT
DTSTART:20290311T070000
END:DAYLIGHT
BEGIN:STANDARD
TZOFFSETFROM:-0400
TZOFFSETTO:-0500
TZNAME:EST
DTSTART:20291104T060000
END:STANDARD
BEGIN:DAYLIGHT
TZOFFSETFROM:-0500
TZOFFSETTO:-0400
TZNAME:EDT
DTSTART:20300310T070000
END:DAYLIGHT
BEGIN:STANDARD
TZOFFSETFROM:-0400
TZOFFSETTO:-0500
TZNAME:EST
DTSTART:20301103T060000
END:STANDARD
END:VTIMEZONE
BEGIN:VEVENT
DTSTART;TZID=America/New_York:20281029T110000
DTEND;TZID=America/New_York:20281029T150000
DTSTAMP:20260425T100841
CREATED:20260105T190519Z
LAST-MODIFIED:20260105T190519Z
UID:10000776-1856430000-1856444400@classicmotormuseum.org
SUMMARY:The Exhibit Barn
DESCRIPTION:General Admission Required for Entry. Members and children under 6 are always free!
URL:https://classicmotormuseum.org/event/the-exhibit-barn-51/2028-10-29/
END:VEVENT
BEGIN:VEVENT
DTSTART;TZID=America/New_York:20281103T110000
DTEND;TZID=America/New_York:20281103T150000
DTSTAMP:20260425T100841
CREATED:20260105T190244Z
LAST-MODIFIED:20260105T190421Z
UID:10000253-1856862000-1856876400@classicmotormuseum.org
SUMMARY:The Exhibit Barn
DESCRIPTION:General Admission Required for Entry. Members and children under 6 are always free!
URL:https://classicmotormuseum.org/event/the-event-barn/2028-11-03/
END:VEVENT
BEGIN:VEVENT
DTSTART;TZID=America/New_York:20281104T090000
DTEND;TZID=America/New_York:20281104T160000
DTSTAMP:20260425T100841
CREATED:20260105T190346Z
LAST-MODIFIED:20260105T190428Z
UID:10000515-1856941200-1856966400@classicmotormuseum.org
SUMMARY:The Exhibit Barn
DESCRIPTION:General Admission Required for Entry. Members and children under 6 are always free!
URL:https://classicmotormuseum.org/event/the-event-barn-2/2028-11-04/
END:VEVENT
BEGIN:VEVENT
DTSTART;TZID=America/New_York:20281105T110000
DTEND;TZID=America/New_York:20281105T150000
DTSTAMP:20260425T100841
CREATED:20260105T190519Z
LAST-MODIFIED:20260105T190519Z
UID:10000777-1857034800-1857049200@classicmotormuseum.org
SUMMARY:The Exhibit Barn
DESCRIPTION:General Admission Required for Entry. Members and children under 6 are always free!
URL:https://classicmotormuseum.org/event/the-exhibit-barn-51/2028-11-05/
END:VEVENT
BEGIN:VEVENT
DTSTART;TZID=America/New_York:20281110T110000
DTEND;TZID=America/New_York:20281110T150000
DTSTAMP:20260425T100841
CREATED:20260105T190244Z
LAST-MODIFIED:20260105T190421Z
UID:10000254-1857466800-1857481200@classicmotormuseum.org
SUMMARY:The Exhibit Barn
DESCRIPTION:General Admission Required for Entry. Members and children under 6 are always free!
URL:https://classicmotormuseum.org/event/the-event-barn/2028-11-10/
END:VEVENT
BEGIN:VEVENT
DTSTART;TZID=America/New_York:20281111T090000
DTEND;TZID=America/New_York:20281111T160000
DTSTAMP:20260425T100841
CREATED:20260105T190346Z
LAST-MODIFIED:20260105T190428Z
UID:10000516-1857546000-1857571200@classicmotormuseum.org
SUMMARY:The Exhibit Barn
DESCRIPTION:General Admission Required for Entry. Members and children under 6 are always free!
URL:https://classicmotormuseum.org/event/the-event-barn-2/2028-11-11/
END:VEVENT
BEGIN:VEVENT
DTSTART;TZID=America/New_York:20281112T110000
DTEND;TZID=America/New_York:20281112T150000
DTSTAMP:20260425T100841
CREATED:20260105T190519Z
LAST-MODIFIED:20260105T190519Z
UID:10000778-1857639600-1857654000@classicmotormuseum.org
SUMMARY:The Exhibit Barn
DESCRIPTION:General Admission Required for Entry. Members and children under 6 are always free!
URL:https://classicmotormuseum.org/event/the-exhibit-barn-51/2028-11-12/
END:VEVENT
BEGIN:VEVENT
DTSTART;TZID=America/New_York:20281117T110000
DTEND;TZID=America/New_York:20281117T150000
DTSTAMP:20260425T100841
CREATED:20260105T190244Z
LAST-MODIFIED:20260105T190421Z
UID:10000255-1858071600-1858086000@classicmotormuseum.org
SUMMARY:The Exhibit Barn
DESCRIPTION:General Admission Required for Entry. Members and children under 6 are always free!
URL:https://classicmotormuseum.org/event/the-event-barn/2028-11-17/
END:VEVENT
BEGIN:VEVENT
DTSTART;TZID=America/New_York:20281118T090000
DTEND;TZID=America/New_York:20281118T160000
DTSTAMP:20260425T100841
CREATED:20260105T190346Z
LAST-MODIFIED:20260105T190428Z
UID:10000517-1858150800-1858176000@classicmotormuseum.org
SUMMARY:The Exhibit Barn
DESCRIPTION:General Admission Required for Entry. Members and children under 6 are always free!
URL:https://classicmotormuseum.org/event/the-event-barn-2/2028-11-18/
END:VEVENT
BEGIN:VEVENT
DTSTART;TZID=America/New_York:20281119T110000
DTEND;TZID=America/New_York:20281119T150000
DTSTAMP:20260425T100841
CREATED:20260105T190519Z
LAST-MODIFIED:20260105T190519Z
UID:10000779-1858244400-1858258800@classicmotormuseum.org
SUMMARY:The Exhibit Barn
DESCRIPTION:General Admission Required for Entry. Members and children under 6 are always free!
URL:https://classicmotormuseum.org/event/the-exhibit-barn-51/2028-11-19/
END:VEVENT
BEGIN:VEVENT
DTSTART;TZID=America/New_York:20281124T110000
DTEND;TZID=America/New_York:20281124T150000
DTSTAMP:20260425T100841
CREATED:20260105T190244Z
LAST-MODIFIED:20260105T190421Z
UID:10000256-1858676400-1858690800@classicmotormuseum.org
SUMMARY:The Exhibit Barn
DESCRIPTION:General Admission Required for Entry. Members and children under 6 are always free!
URL:https://classicmotormuseum.org/event/the-event-barn/2028-11-24/
END:VEVENT
BEGIN:VEVENT
DTSTART;TZID=America/New_York:20281125T090000
DTEND;TZID=America/New_York:20281125T160000
DTSTAMP:20260425T100841
CREATED:20260105T190346Z
LAST-MODIFIED:20260105T190428Z
UID:10000518-1858755600-1858780800@classicmotormuseum.org
SUMMARY:The Exhibit Barn
DESCRIPTION:General Admission Required for Entry. Members and children under 6 are always free!
URL:https://classicmotormuseum.org/event/the-event-barn-2/2028-11-25/
END:VEVENT
BEGIN:VEVENT
DTSTART;TZID=America/New_York:20281126T110000
DTEND;TZID=America/New_York:20281126T150000
DTSTAMP:20260425T100841
CREATED:20260105T190519Z
LAST-MODIFIED:20260105T190519Z
UID:10000780-1858849200-1858863600@classicmotormuseum.org
SUMMARY:The Exhibit Barn
DESCRIPTION:General Admission Required for Entry. Members and children under 6 are always free!
URL:https://classicmotormuseum.org/event/the-exhibit-barn-51/2028-11-26/
END:VEVENT
BEGIN:VEVENT
DTSTART;TZID=America/New_York:20281201T110000
DTEND;TZID=America/New_York:20281201T150000
DTSTAMP:20260425T100841
CREATED:20260105T190244Z
LAST-MODIFIED:20260105T190421Z
UID:10000257-1859281200-1859295600@classicmotormuseum.org
SUMMARY:The Exhibit Barn
DESCRIPTION:General Admission Required for Entry. Members and children under 6 are always free!
URL:https://classicmotormuseum.org/event/the-event-barn/2028-12-01/
END:VEVENT
BEGIN:VEVENT
DTSTART;TZID=America/New_York:20281202T090000
DTEND;TZID=America/New_York:20281202T160000
DTSTAMP:20260425T100841
CREATED:20260105T190346Z
LAST-MODIFIED:20260105T190428Z
UID:10000519-1859360400-1859385600@classicmotormuseum.org
SUMMARY:The Exhibit Barn
DESCRIPTION:General Admission Required for Entry. Members and children under 6 are always free!
URL:https://classicmotormuseum.org/event/the-event-barn-2/2028-12-02/
END:VEVENT
BEGIN:VEVENT
DTSTART;TZID=America/New_York:20281203T110000
DTEND;TZID=America/New_York:20281203T150000
DTSTAMP:20260425T100841
CREATED:20260105T190519Z
LAST-MODIFIED:20260105T190519Z
UID:10000781-1859454000-1859468400@classicmotormuseum.org
SUMMARY:The Exhibit Barn
DESCRIPTION:General Admission Required for Entry. Members and children under 6 are always free!
URL:https://classicmotormuseum.org/event/the-exhibit-barn-51/2028-12-03/
END:VEVENT
BEGIN:VEVENT
DTSTART;TZID=America/New_York:20281208T110000
DTEND;TZID=America/New_York:20281208T150000
DTSTAMP:20260425T100841
CREATED:20260105T190244Z
LAST-MODIFIED:20260105T190421Z
UID:10000258-1859886000-1859900400@classicmotormuseum.org
SUMMARY:The Exhibit Barn
DESCRIPTION:General Admission Required for Entry. Members and children under 6 are always free!
URL:https://classicmotormuseum.org/event/the-event-barn/2028-12-08/
END:VEVENT
BEGIN:VEVENT
DTSTART;TZID=America/New_York:20281209T090000
DTEND;TZID=America/New_York:20281209T160000
DTSTAMP:20260425T100841
CREATED:20260105T190346Z
LAST-MODIFIED:20260105T190428Z
UID:10000520-1859965200-1859990400@classicmotormuseum.org
SUMMARY:The Exhibit Barn
DESCRIPTION:General Admission Required for Entry. Members and children under 6 are always free!
URL:https://classicmotormuseum.org/event/the-event-barn-2/2028-12-09/
END:VEVENT
BEGIN:VEVENT
DTSTART;TZID=America/New_York:20281210T110000
DTEND;TZID=America/New_York:20281210T150000
DTSTAMP:20260425T100841
CREATED:20260105T190519Z
LAST-MODIFIED:20260105T190519Z
UID:10000782-1860058800-1860073200@classicmotormuseum.org
SUMMARY:The Exhibit Barn
DESCRIPTION:General Admission Required for Entry. Members and children under 6 are always free!
URL:https://classicmotormuseum.org/event/the-exhibit-barn-51/2028-12-10/
END:VEVENT
BEGIN:VEVENT
DTSTART;TZID=America/New_York:20281215T110000
DTEND;TZID=America/New_York:20281215T150000
DTSTAMP:20260425T100841
CREATED:20260105T190244Z
LAST-MODIFIED:20260105T190421Z
UID:10000259-1860490800-1860505200@classicmotormuseum.org
SUMMARY:The Exhibit Barn
DESCRIPTION:General Admission Required for Entry. Members and children under 6 are always free!
URL:https://classicmotormuseum.org/event/the-event-barn/2028-12-15/
END:VEVENT
BEGIN:VEVENT
DTSTART;TZID=America/New_York:20281216T090000
DTEND;TZID=America/New_York:20281216T160000
DTSTAMP:20260425T100841
CREATED:20260105T190346Z
LAST-MODIFIED:20260105T190428Z
UID:10000521-1860570000-1860595200@classicmotormuseum.org
SUMMARY:The Exhibit Barn
DESCRIPTION:General Admission Required for Entry. Members and children under 6 are always free!
URL:https://classicmotormuseum.org/event/the-event-barn-2/2028-12-16/
END:VEVENT
BEGIN:VEVENT
DTSTART;TZID=America/New_York:20281217T110000
DTEND;TZID=America/New_York:20281217T150000
DTSTAMP:20260425T100841
CREATED:20260105T190519Z
LAST-MODIFIED:20260105T190519Z
UID:10000783-1860663600-1860678000@classicmotormuseum.org
SUMMARY:The Exhibit Barn
DESCRIPTION:General Admission Required for Entry. Members and children under 6 are always free!
URL:https://classicmotormuseum.org/event/the-exhibit-barn-51/2028-12-17/
END:VEVENT
BEGIN:VEVENT
DTSTART;TZID=America/New_York:20281222T110000
DTEND;TZID=America/New_York:20281222T150000
DTSTAMP:20260425T100841
CREATED:20260105T190244Z
LAST-MODIFIED:20260105T190421Z
UID:10000260-1861095600-1861110000@classicmotormuseum.org
SUMMARY:The Exhibit Barn
DESCRIPTION:General Admission Required for Entry. Members and children under 6 are always free!
URL:https://classicmotormuseum.org/event/the-event-barn/2028-12-22/
END:VEVENT
BEGIN:VEVENT
DTSTART;TZID=America/New_York:20281223T090000
DTEND;TZID=America/New_York:20281223T160000
DTSTAMP:20260425T100841
CREATED:20260105T190346Z
LAST-MODIFIED:20260105T190428Z
UID:10000522-1861174800-1861200000@classicmotormuseum.org
SUMMARY:The Exhibit Barn
DESCRIPTION:General Admission Required for Entry. Members and children under 6 are always free!
URL:https://classicmotormuseum.org/event/the-event-barn-2/2028-12-23/
END:VEVENT
BEGIN:VEVENT
DTSTART;TZID=America/New_York:20281224T110000
DTEND;TZID=America/New_York:20281224T150000
DTSTAMP:20260425T100841
CREATED:20260105T190519Z
LAST-MODIFIED:20260105T190519Z
UID:10000784-1861268400-1861282800@classicmotormuseum.org
SUMMARY:The Exhibit Barn
DESCRIPTION:General Admission Required for Entry. Members and children under 6 are always free!
URL:https://classicmotormuseum.org/event/the-exhibit-barn-51/2028-12-24/
END:VEVENT
BEGIN:VEVENT
DTSTART;TZID=America/New_York:20281229T110000
DTEND;TZID=America/New_York:20281229T150000
DTSTAMP:20260425T100841
CREATED:20260105T190244Z
LAST-MODIFIED:20260105T190421Z
UID:10000261-1861700400-1861714800@classicmotormuseum.org
SUMMARY:The Exhibit Barn
DESCRIPTION:General Admission Required for Entry. Members and children under 6 are always free!
URL:https://classicmotormuseum.org/event/the-event-barn/2028-12-29/
END:VEVENT
BEGIN:VEVENT
DTSTART;TZID=America/New_York:20281230T090000
DTEND;TZID=America/New_York:20281230T160000
DTSTAMP:20260425T100841
CREATED:20260105T190346Z
LAST-MODIFIED:20260105T190428Z
UID:10000523-1861779600-1861804800@classicmotormuseum.org
SUMMARY:The Exhibit Barn
DESCRIPTION:General Admission Required for Entry. Members and children under 6 are always free!
URL:https://classicmotormuseum.org/event/the-event-barn-2/2028-12-30/
END:VEVENT
BEGIN:VEVENT
DTSTART;TZID=America/New_York:20281231T110000
DTEND;TZID=America/New_York:20281231T150000
DTSTAMP:20260425T100841
CREATED:20260105T190519Z
LAST-MODIFIED:20260105T190519Z
UID:10000785-1861873200-1861887600@classicmotormuseum.org
SUMMARY:The Exhibit Barn
DESCRIPTION:General Admission Required for Entry. Members and children under 6 are always free!
URL:https://classicmotormuseum.org/event/the-exhibit-barn-51/2028-12-31/
END:VEVENT
BEGIN:VEVENT
DTSTART;TZID=America/New_York:20290105T110000
DTEND;TZID=America/New_York:20290105T150000
DTSTAMP:20260425T100841
CREATED:20260105T190244Z
LAST-MODIFIED:20260105T190421Z
UID:10000262-1862305200-1862319600@classicmotormuseum.org
SUMMARY:The Exhibit Barn
DESCRIPTION:General Admission Required for Entry. Members and children under 6 are always free!
URL:https://classicmotormuseum.org/event/the-event-barn/2029-01-05/
END:VEVENT
BEGIN:VEVENT
DTSTART;TZID=America/New_York:20290106T090000
DTEND;TZID=America/New_York:20290106T160000
DTSTAMP:20260425T100841
CREATED:20260105T190346Z
LAST-MODIFIED:20260105T190428Z
UID:10000524-1862384400-1862409600@classicmotormuseum.org
SUMMARY:The Exhibit Barn
DESCRIPTION:General Admission Required for Entry. Members and children under 6 are always free!
URL:https://classicmotormuseum.org/event/the-event-barn-2/2029-01-06/
END:VEVENT
END:VCALENDAR