BEGIN:VCALENDAR
VERSION:2.0
PRODID:-//Classic Motor Museum - ECPv6.15.17//NONSGML v1.0//EN
CALSCALE:GREGORIAN
METHOD:PUBLISH
X-ORIGINAL-URL:https://classicmotormuseum.org
X-WR-CALDESC:Events for Classic Motor Museum
REFRESH-INTERVAL;VALUE=DURATION:PT1H
X-Robots-Tag:noindex
X-PUBLISHED-TTL:PT1H
BEGIN:VTIMEZONE
TZID:America/New_York
BEGIN:DAYLIGHT
TZOFFSETFROM:-0500
TZOFFSETTO:-0400
TZNAME:EDT
DTSTART:20250309T070000
END:DAYLIGHT
BEGIN:STANDARD
TZOFFSETFROM:-0400
TZOFFSETTO:-0500
TZNAME:EST
DTSTART:20251102T060000
END:STANDARD
BEGIN:DAYLIGHT
TZOFFSETFROM:-0500
TZOFFSETTO:-0400
TZNAME:EDT
DTSTART:20260308T070000
END:DAYLIGHT
BEGIN:STANDARD
TZOFFSETFROM:-0400
TZOFFSETTO:-0500
TZNAME:EST
DTSTART:20261101T060000
END:STANDARD
BEGIN:DAYLIGHT
TZOFFSETFROM:-0500
TZOFFSETTO:-0400
TZNAME:EDT
DTSTART:20270314T070000
END:DAYLIGHT
BEGIN:STANDARD
TZOFFSETFROM:-0400
TZOFFSETTO:-0500
TZNAME:EST
DTSTART:20271107T060000
END:STANDARD
END:VTIMEZONE
BEGIN:VEVENT
DTSTART;TZID=America/New_York:20260905T090000
DTEND;TZID=America/New_York:20260905T160000
DTSTAMP:20260422T180609
CREATED:20260105T190346Z
LAST-MODIFIED:20260105T190428Z
UID:10000402-1788598800-1788624000@classicmotormuseum.org
SUMMARY:The Exhibit Barn
DESCRIPTION:General Admission Required for Entry. Members and children under 6 are always free!
URL:https://classicmotormuseum.org/event/the-event-barn-2/2026-09-05/
END:VEVENT
BEGIN:VEVENT
DTSTART;TZID=America/New_York:20260906T110000
DTEND;TZID=America/New_York:20260906T150000
DTSTAMP:20260422T180609
CREATED:20260105T190519Z
LAST-MODIFIED:20260105T190519Z
UID:10000664-1788692400-1788706800@classicmotormuseum.org
SUMMARY:The Exhibit Barn
DESCRIPTION:General Admission Required for Entry. Members and children under 6 are always free!
URL:https://classicmotormuseum.org/event/the-exhibit-barn-51/2026-09-06/
END:VEVENT
BEGIN:VEVENT
DTSTART;TZID=America/New_York:20260911T110000
DTEND;TZID=America/New_York:20260911T150000
DTSTAMP:20260422T180609
CREATED:20260105T190244Z
LAST-MODIFIED:20260105T190421Z
UID:10000141-1789124400-1789138800@classicmotormuseum.org
SUMMARY:The Exhibit Barn
DESCRIPTION:General Admission Required for Entry. Members and children under 6 are always free!
URL:https://classicmotormuseum.org/event/the-event-barn/2026-09-11/
END:VEVENT
BEGIN:VEVENT
DTSTART;TZID=America/New_York:20260912T090000
DTEND;TZID=America/New_York:20260912T160000
DTSTAMP:20260422T180609
CREATED:20250608T203432Z
LAST-MODIFIED:20260320T192401Z
UID:10000030-1789203600-1789228800@classicmotormuseum.org
SUMMARY:Awesome Deals to Classic Wheels
DESCRIPTION:A car auction with vendors & more!
URL:https://classicmotormuseum.org/event/awesome-deals-to-classic-wheels/
END:VEVENT
BEGIN:VEVENT
DTSTART;TZID=America/New_York:20260912T090000
DTEND;TZID=America/New_York:20260912T160000
DTSTAMP:20260422T180609
CREATED:20260105T190346Z
LAST-MODIFIED:20260105T190428Z
UID:10000403-1789203600-1789228800@classicmotormuseum.org
SUMMARY:The Exhibit Barn
DESCRIPTION:General Admission Required for Entry. Members and children under 6 are always free!
URL:https://classicmotormuseum.org/event/the-event-barn-2/2026-09-12/
END:VEVENT
BEGIN:VEVENT
DTSTART;TZID=America/New_York:20260913T110000
DTEND;TZID=America/New_York:20260913T150000
DTSTAMP:20260422T180609
CREATED:20260105T190519Z
LAST-MODIFIED:20260105T190519Z
UID:10000665-1789297200-1789311600@classicmotormuseum.org
SUMMARY:The Exhibit Barn
DESCRIPTION:General Admission Required for Entry. Members and children under 6 are always free!
URL:https://classicmotormuseum.org/event/the-exhibit-barn-51/2026-09-13/
END:VEVENT
BEGIN:VEVENT
DTSTART;TZID=America/New_York:20260918T110000
DTEND;TZID=America/New_York:20260918T150000
DTSTAMP:20260422T180609
CREATED:20260105T190244Z
LAST-MODIFIED:20260105T190421Z
UID:10000142-1789729200-1789743600@classicmotormuseum.org
SUMMARY:The Exhibit Barn
DESCRIPTION:General Admission Required for Entry. Members and children under 6 are always free!
URL:https://classicmotormuseum.org/event/the-event-barn/2026-09-18/
END:VEVENT
BEGIN:VEVENT
DTSTART;TZID=America/New_York:20260919T090000
DTEND;TZID=America/New_York:20260919T160000
DTSTAMP:20260422T180609
CREATED:20260105T190346Z
LAST-MODIFIED:20260105T190428Z
UID:10000404-1789808400-1789833600@classicmotormuseum.org
SUMMARY:The Exhibit Barn
DESCRIPTION:General Admission Required for Entry. Members and children under 6 are always free!
URL:https://classicmotormuseum.org/event/the-event-barn-2/2026-09-19/
END:VEVENT
BEGIN:VEVENT
DTSTART;TZID=America/New_York:20260920T110000
DTEND;TZID=America/New_York:20260920T150000
DTSTAMP:20260422T180609
CREATED:20260105T190519Z
LAST-MODIFIED:20260105T190519Z
UID:10000666-1789902000-1789916400@classicmotormuseum.org
SUMMARY:The Exhibit Barn
DESCRIPTION:General Admission Required for Entry. Members and children under 6 are always free!
URL:https://classicmotormuseum.org/event/the-exhibit-barn-51/2026-09-20/
END:VEVENT
BEGIN:VEVENT
DTSTART;TZID=America/New_York:20260925T110000
DTEND;TZID=America/New_York:20260925T150000
DTSTAMP:20260422T180609
CREATED:20260105T190244Z
LAST-MODIFIED:20260105T190421Z
UID:10000143-1790334000-1790348400@classicmotormuseum.org
SUMMARY:The Exhibit Barn
DESCRIPTION:General Admission Required for Entry. Members and children under 6 are always free!
URL:https://classicmotormuseum.org/event/the-event-barn/2026-09-25/
END:VEVENT
BEGIN:VEVENT
DTSTART;TZID=America/New_York:20260926T090000
DTEND;TZID=America/New_York:20260926T160000
DTSTAMP:20260422T180609
CREATED:20260105T190346Z
LAST-MODIFIED:20260105T190428Z
UID:10000405-1790413200-1790438400@classicmotormuseum.org
SUMMARY:The Exhibit Barn
DESCRIPTION:General Admission Required for Entry. Members and children under 6 are always free!
URL:https://classicmotormuseum.org/event/the-event-barn-2/2026-09-26/
END:VEVENT
BEGIN:VEVENT
DTSTART;TZID=America/New_York:20260927T110000
DTEND;TZID=America/New_York:20260927T150000
DTSTAMP:20260422T180609
CREATED:20260105T190519Z
LAST-MODIFIED:20260105T190519Z
UID:10000667-1790506800-1790521200@classicmotormuseum.org
SUMMARY:The Exhibit Barn
DESCRIPTION:General Admission Required for Entry. Members and children under 6 are always free!
URL:https://classicmotormuseum.org/event/the-exhibit-barn-51/2026-09-27/
END:VEVENT
BEGIN:VEVENT
DTSTART;TZID=America/New_York:20261002T110000
DTEND;TZID=America/New_York:20261002T150000
DTSTAMP:20260422T180609
CREATED:20260105T190244Z
LAST-MODIFIED:20260105T190421Z
UID:10000144-1790938800-1790953200@classicmotormuseum.org
SUMMARY:The Exhibit Barn
DESCRIPTION:General Admission Required for Entry. Members and children under 6 are always free!
URL:https://classicmotormuseum.org/event/the-event-barn/2026-10-02/
END:VEVENT
BEGIN:VEVENT
DTSTART;TZID=America/New_York:20261003T090000
DTEND;TZID=America/New_York:20261003T160000
DTSTAMP:20260422T180609
CREATED:20260105T190346Z
LAST-MODIFIED:20260105T190428Z
UID:10000406-1791018000-1791043200@classicmotormuseum.org
SUMMARY:The Exhibit Barn
DESCRIPTION:General Admission Required for Entry. Members and children under 6 are always free!
URL:https://classicmotormuseum.org/event/the-event-barn-2/2026-10-03/
END:VEVENT
BEGIN:VEVENT
DTSTART;TZID=America/New_York:20261004T110000
DTEND;TZID=America/New_York:20261004T150000
DTSTAMP:20260422T180609
CREATED:20260105T190519Z
LAST-MODIFIED:20260105T190519Z
UID:10000668-1791111600-1791126000@classicmotormuseum.org
SUMMARY:The Exhibit Barn
DESCRIPTION:General Admission Required for Entry. Members and children under 6 are always free!
URL:https://classicmotormuseum.org/event/the-exhibit-barn-51/2026-10-04/
END:VEVENT
BEGIN:VEVENT
DTSTART;TZID=America/New_York:20261009T110000
DTEND;TZID=America/New_York:20261009T150000
DTSTAMP:20260422T180609
CREATED:20260105T190244Z
LAST-MODIFIED:20260105T190421Z
UID:10000145-1791543600-1791558000@classicmotormuseum.org
SUMMARY:The Exhibit Barn
DESCRIPTION:General Admission Required for Entry. Members and children under 6 are always free!
URL:https://classicmotormuseum.org/event/the-event-barn/2026-10-09/
END:VEVENT
BEGIN:VEVENT
DTSTART;TZID=America/New_York:20261010T090000
DTEND;TZID=America/New_York:20261010T160000
DTSTAMP:20260422T180609
CREATED:20260105T190346Z
LAST-MODIFIED:20260105T190428Z
UID:10000407-1791622800-1791648000@classicmotormuseum.org
SUMMARY:The Exhibit Barn
DESCRIPTION:General Admission Required for Entry. Members and children under 6 are always free!
URL:https://classicmotormuseum.org/event/the-event-barn-2/2026-10-10/
END:VEVENT
BEGIN:VEVENT
DTSTART;TZID=America/New_York:20261011T110000
DTEND;TZID=America/New_York:20261011T150000
DTSTAMP:20260422T180609
CREATED:20260105T190519Z
LAST-MODIFIED:20260105T190519Z
UID:10000669-1791716400-1791730800@classicmotormuseum.org
SUMMARY:The Exhibit Barn
DESCRIPTION:General Admission Required for Entry. Members and children under 6 are always free!
URL:https://classicmotormuseum.org/event/the-exhibit-barn-51/2026-10-11/
END:VEVENT
BEGIN:VEVENT
DTSTART;TZID=America/New_York:20261016T110000
DTEND;TZID=America/New_York:20261016T150000
DTSTAMP:20260422T180609
CREATED:20260105T190244Z
LAST-MODIFIED:20260105T190421Z
UID:10000146-1792148400-1792162800@classicmotormuseum.org
SUMMARY:The Exhibit Barn
DESCRIPTION:General Admission Required for Entry. Members and children under 6 are always free!
URL:https://classicmotormuseum.org/event/the-event-barn/2026-10-16/
END:VEVENT
BEGIN:VEVENT
DTSTART;TZID=America/New_York:20261017T090000
DTEND;TZID=America/New_York:20261017T160000
DTSTAMP:20260422T180609
CREATED:20260105T190346Z
LAST-MODIFIED:20260105T190428Z
UID:10000408-1792227600-1792252800@classicmotormuseum.org
SUMMARY:The Exhibit Barn
DESCRIPTION:General Admission Required for Entry. Members and children under 6 are always free!
URL:https://classicmotormuseum.org/event/the-event-barn-2/2026-10-17/
END:VEVENT
BEGIN:VEVENT
DTSTART;TZID=America/New_York:20261018T110000
DTEND;TZID=America/New_York:20261018T150000
DTSTAMP:20260422T180609
CREATED:20260105T190519Z
LAST-MODIFIED:20260105T190519Z
UID:10000670-1792321200-1792335600@classicmotormuseum.org
SUMMARY:The Exhibit Barn
DESCRIPTION:General Admission Required for Entry. Members and children under 6 are always free!
URL:https://classicmotormuseum.org/event/the-exhibit-barn-51/2026-10-18/
END:VEVENT
BEGIN:VEVENT
DTSTART;TZID=America/New_York:20261023T110000
DTEND;TZID=America/New_York:20261023T150000
DTSTAMP:20260422T180609
CREATED:20260105T190244Z
LAST-MODIFIED:20260105T190421Z
UID:10000147-1792753200-1792767600@classicmotormuseum.org
SUMMARY:The Exhibit Barn
DESCRIPTION:General Admission Required for Entry. Members and children under 6 are always free!
URL:https://classicmotormuseum.org/event/the-event-barn/2026-10-23/
END:VEVENT
BEGIN:VEVENT
DTSTART;TZID=America/New_York:20261024T090000
DTEND;TZID=America/New_York:20261024T160000
DTSTAMP:20260422T180609
CREATED:20260105T190346Z
LAST-MODIFIED:20260105T190428Z
UID:10000409-1792832400-1792857600@classicmotormuseum.org
SUMMARY:The Exhibit Barn
DESCRIPTION:General Admission Required for Entry. Members and children under 6 are always free!
URL:https://classicmotormuseum.org/event/the-event-barn-2/2026-10-24/
END:VEVENT
BEGIN:VEVENT
DTSTART;TZID=America/New_York:20261025T110000
DTEND;TZID=America/New_York:20261025T150000
DTSTAMP:20260422T180609
CREATED:20260105T190519Z
LAST-MODIFIED:20260105T190519Z
UID:10000671-1792926000-1792940400@classicmotormuseum.org
SUMMARY:The Exhibit Barn
DESCRIPTION:General Admission Required for Entry. Members and children under 6 are always free!
URL:https://classicmotormuseum.org/event/the-exhibit-barn-51/2026-10-25/
END:VEVENT
BEGIN:VEVENT
DTSTART;TZID=America/New_York:20261030T110000
DTEND;TZID=America/New_York:20261030T150000
DTSTAMP:20260422T180609
CREATED:20260105T190244Z
LAST-MODIFIED:20260105T190421Z
UID:10000148-1793358000-1793372400@classicmotormuseum.org
SUMMARY:The Exhibit Barn
DESCRIPTION:General Admission Required for Entry. Members and children under 6 are always free!
URL:https://classicmotormuseum.org/event/the-event-barn/2026-10-30/
END:VEVENT
BEGIN:VEVENT
DTSTART;TZID=America/New_York:20261031T090000
DTEND;TZID=America/New_York:20261031T160000
DTSTAMP:20260422T180609
CREATED:20260105T190346Z
LAST-MODIFIED:20260105T190428Z
UID:10000410-1793437200-1793462400@classicmotormuseum.org
SUMMARY:The Exhibit Barn
DESCRIPTION:General Admission Required for Entry. Members and children under 6 are always free!
URL:https://classicmotormuseum.org/event/the-event-barn-2/2026-10-31/
END:VEVENT
BEGIN:VEVENT
DTSTART;TZID=America/New_York:20261101T110000
DTEND;TZID=America/New_York:20261101T150000
DTSTAMP:20260422T180609
CREATED:20260105T190519Z
LAST-MODIFIED:20260105T190519Z
UID:10000672-1793530800-1793545200@classicmotormuseum.org
SUMMARY:The Exhibit Barn
DESCRIPTION:General Admission Required for Entry. Members and children under 6 are always free!
URL:https://classicmotormuseum.org/event/the-exhibit-barn-51/2026-11-01/
END:VEVENT
BEGIN:VEVENT
DTSTART;TZID=America/New_York:20261106T110000
DTEND;TZID=America/New_York:20261106T150000
DTSTAMP:20260422T180609
CREATED:20260105T190244Z
LAST-MODIFIED:20260105T190421Z
UID:10000149-1793962800-1793977200@classicmotormuseum.org
SUMMARY:The Exhibit Barn
DESCRIPTION:General Admission Required for Entry. Members and children under 6 are always free!
URL:https://classicmotormuseum.org/event/the-event-barn/2026-11-06/
END:VEVENT
BEGIN:VEVENT
DTSTART;TZID=America/New_York:20261107T090000
DTEND;TZID=America/New_York:20261107T160000
DTSTAMP:20260422T180609
CREATED:20260105T190346Z
LAST-MODIFIED:20260105T190428Z
UID:10000411-1794042000-1794067200@classicmotormuseum.org
SUMMARY:The Exhibit Barn
DESCRIPTION:General Admission Required for Entry. Members and children under 6 are always free!
URL:https://classicmotormuseum.org/event/the-event-barn-2/2026-11-07/
END:VEVENT
BEGIN:VEVENT
DTSTART;TZID=America/New_York:20261108T110000
DTEND;TZID=America/New_York:20261108T150000
DTSTAMP:20260422T180609
CREATED:20260105T190519Z
LAST-MODIFIED:20260105T190519Z
UID:10000673-1794135600-1794150000@classicmotormuseum.org
SUMMARY:The Exhibit Barn
DESCRIPTION:General Admission Required for Entry. Members and children under 6 are always free!
URL:https://classicmotormuseum.org/event/the-exhibit-barn-51/2026-11-08/
END:VEVENT
END:VCALENDAR