BEGIN:VCALENDAR
VERSION:2.0
PRODID:-//Classic Motor Museum - ECPv6.15.17//NONSGML v1.0//EN
CALSCALE:GREGORIAN
METHOD:PUBLISH
X-WR-CALNAME:Classic Motor Museum
X-ORIGINAL-URL:https://classicmotormuseum.org
X-WR-CALDESC:Events for Classic Motor Museum
REFRESH-INTERVAL;VALUE=DURATION:PT1H
X-Robots-Tag:noindex
X-PUBLISHED-TTL:PT1H
BEGIN:VTIMEZONE
TZID:America/New_York
BEGIN:DAYLIGHT
TZOFFSETFROM:-0500
TZOFFSETTO:-0400
TZNAME:EDT
DTSTART:20270314T070000
END:DAYLIGHT
BEGIN:STANDARD
TZOFFSETFROM:-0400
TZOFFSETTO:-0500
TZNAME:EST
DTSTART:20271107T060000
END:STANDARD
BEGIN:DAYLIGHT
TZOFFSETFROM:-0500
TZOFFSETTO:-0400
TZNAME:EDT
DTSTART:20280312T070000
END:DAYLIGHT
BEGIN:STANDARD
TZOFFSETFROM:-0400
TZOFFSETTO:-0500
TZNAME:EST
DTSTART:20281105T060000
END:STANDARD
BEGIN:DAYLIGHT
TZOFFSETFROM:-0500
TZOFFSETTO:-0400
TZNAME:EDT
DTSTART:20290311T070000
END:DAYLIGHT
BEGIN:STANDARD
TZOFFSETFROM:-0400
TZOFFSETTO:-0500
TZNAME:EST
DTSTART:20291104T060000
END:STANDARD
END:VTIMEZONE
BEGIN:VEVENT
DTSTART;TZID=America/New_York:20280820T110000
DTEND;TZID=America/New_York:20280820T150000
DTSTAMP:20260424T113508
CREATED:20260105T190519Z
LAST-MODIFIED:20260105T190519Z
UID:10000766-1850382000-1850396400@classicmotormuseum.org
SUMMARY:The Exhibit Barn
DESCRIPTION:General Admission Required for Entry. Members and children under 6 are always free!
URL:https://classicmotormuseum.org/event/the-exhibit-barn-51/2028-08-20/
END:VEVENT
BEGIN:VEVENT
DTSTART;TZID=America/New_York:20280825T110000
DTEND;TZID=America/New_York:20280825T150000
DTSTAMP:20260424T113508
CREATED:20260105T190244Z
LAST-MODIFIED:20260105T190421Z
UID:10000243-1850814000-1850828400@classicmotormuseum.org
SUMMARY:The Exhibit Barn
DESCRIPTION:General Admission Required for Entry. Members and children under 6 are always free!
URL:https://classicmotormuseum.org/event/the-event-barn/2028-08-25/
END:VEVENT
BEGIN:VEVENT
DTSTART;TZID=America/New_York:20280826T090000
DTEND;TZID=America/New_York:20280826T160000
DTSTAMP:20260424T113508
CREATED:20260105T190346Z
LAST-MODIFIED:20260105T190428Z
UID:10000505-1850893200-1850918400@classicmotormuseum.org
SUMMARY:The Exhibit Barn
DESCRIPTION:General Admission Required for Entry. Members and children under 6 are always free!
URL:https://classicmotormuseum.org/event/the-event-barn-2/2028-08-26/
END:VEVENT
BEGIN:VEVENT
DTSTART;TZID=America/New_York:20280827T110000
DTEND;TZID=America/New_York:20280827T150000
DTSTAMP:20260424T113508
CREATED:20260105T190519Z
LAST-MODIFIED:20260105T190519Z
UID:10000767-1850986800-1851001200@classicmotormuseum.org
SUMMARY:The Exhibit Barn
DESCRIPTION:General Admission Required for Entry. Members and children under 6 are always free!
URL:https://classicmotormuseum.org/event/the-exhibit-barn-51/2028-08-27/
END:VEVENT
BEGIN:VEVENT
DTSTART;TZID=America/New_York:20280901T110000
DTEND;TZID=America/New_York:20280901T150000
DTSTAMP:20260424T113508
CREATED:20260105T190244Z
LAST-MODIFIED:20260105T190421Z
UID:10000244-1851418800-1851433200@classicmotormuseum.org
SUMMARY:The Exhibit Barn
DESCRIPTION:General Admission Required for Entry. Members and children under 6 are always free!
URL:https://classicmotormuseum.org/event/the-event-barn/2028-09-01/
END:VEVENT
BEGIN:VEVENT
DTSTART;TZID=America/New_York:20280902T090000
DTEND;TZID=America/New_York:20280902T160000
DTSTAMP:20260424T113508
CREATED:20260105T190346Z
LAST-MODIFIED:20260105T190428Z
UID:10000506-1851498000-1851523200@classicmotormuseum.org
SUMMARY:The Exhibit Barn
DESCRIPTION:General Admission Required for Entry. Members and children under 6 are always free!
URL:https://classicmotormuseum.org/event/the-event-barn-2/2028-09-02/
END:VEVENT
BEGIN:VEVENT
DTSTART;TZID=America/New_York:20280903T110000
DTEND;TZID=America/New_York:20280903T150000
DTSTAMP:20260424T113508
CREATED:20260105T190519Z
LAST-MODIFIED:20260105T190519Z
UID:10000768-1851591600-1851606000@classicmotormuseum.org
SUMMARY:The Exhibit Barn
DESCRIPTION:General Admission Required for Entry. Members and children under 6 are always free!
URL:https://classicmotormuseum.org/event/the-exhibit-barn-51/2028-09-03/
END:VEVENT
BEGIN:VEVENT
DTSTART;TZID=America/New_York:20280908T110000
DTEND;TZID=America/New_York:20280908T150000
DTSTAMP:20260424T113508
CREATED:20260105T190244Z
LAST-MODIFIED:20260105T190421Z
UID:10000245-1852023600-1852038000@classicmotormuseum.org
SUMMARY:The Exhibit Barn
DESCRIPTION:General Admission Required for Entry. Members and children under 6 are always free!
URL:https://classicmotormuseum.org/event/the-event-barn/2028-09-08/
END:VEVENT
BEGIN:VEVENT
DTSTART;TZID=America/New_York:20280909T090000
DTEND;TZID=America/New_York:20280909T160000
DTSTAMP:20260424T113508
CREATED:20260105T190346Z
LAST-MODIFIED:20260105T190428Z
UID:10000507-1852102800-1852128000@classicmotormuseum.org
SUMMARY:The Exhibit Barn
DESCRIPTION:General Admission Required for Entry. Members and children under 6 are always free!
URL:https://classicmotormuseum.org/event/the-event-barn-2/2028-09-09/
END:VEVENT
BEGIN:VEVENT
DTSTART;TZID=America/New_York:20280910T110000
DTEND;TZID=America/New_York:20280910T150000
DTSTAMP:20260424T113508
CREATED:20260105T190519Z
LAST-MODIFIED:20260105T190519Z
UID:10000769-1852196400-1852210800@classicmotormuseum.org
SUMMARY:The Exhibit Barn
DESCRIPTION:General Admission Required for Entry. Members and children under 6 are always free!
URL:https://classicmotormuseum.org/event/the-exhibit-barn-51/2028-09-10/
END:VEVENT
BEGIN:VEVENT
DTSTART;TZID=America/New_York:20280915T110000
DTEND;TZID=America/New_York:20280915T150000
DTSTAMP:20260424T113508
CREATED:20260105T190244Z
LAST-MODIFIED:20260105T190421Z
UID:10000246-1852628400-1852642800@classicmotormuseum.org
SUMMARY:The Exhibit Barn
DESCRIPTION:General Admission Required for Entry. Members and children under 6 are always free!
URL:https://classicmotormuseum.org/event/the-event-barn/2028-09-15/
END:VEVENT
BEGIN:VEVENT
DTSTART;TZID=America/New_York:20280916T090000
DTEND;TZID=America/New_York:20280916T160000
DTSTAMP:20260424T113508
CREATED:20260105T190346Z
LAST-MODIFIED:20260105T190428Z
UID:10000508-1852707600-1852732800@classicmotormuseum.org
SUMMARY:The Exhibit Barn
DESCRIPTION:General Admission Required for Entry. Members and children under 6 are always free!
URL:https://classicmotormuseum.org/event/the-event-barn-2/2028-09-16/
END:VEVENT
BEGIN:VEVENT
DTSTART;TZID=America/New_York:20280917T110000
DTEND;TZID=America/New_York:20280917T150000
DTSTAMP:20260424T113508
CREATED:20260105T190519Z
LAST-MODIFIED:20260105T190519Z
UID:10000770-1852801200-1852815600@classicmotormuseum.org
SUMMARY:The Exhibit Barn
DESCRIPTION:General Admission Required for Entry. Members and children under 6 are always free!
URL:https://classicmotormuseum.org/event/the-exhibit-barn-51/2028-09-17/
END:VEVENT
BEGIN:VEVENT
DTSTART;TZID=America/New_York:20280922T110000
DTEND;TZID=America/New_York:20280922T150000
DTSTAMP:20260424T113508
CREATED:20260105T190244Z
LAST-MODIFIED:20260105T190421Z
UID:10000247-1853233200-1853247600@classicmotormuseum.org
SUMMARY:The Exhibit Barn
DESCRIPTION:General Admission Required for Entry. Members and children under 6 are always free!
URL:https://classicmotormuseum.org/event/the-event-barn/2028-09-22/
END:VEVENT
BEGIN:VEVENT
DTSTART;TZID=America/New_York:20280923T090000
DTEND;TZID=America/New_York:20280923T160000
DTSTAMP:20260424T113508
CREATED:20260105T190346Z
LAST-MODIFIED:20260105T190428Z
UID:10000509-1853312400-1853337600@classicmotormuseum.org
SUMMARY:The Exhibit Barn
DESCRIPTION:General Admission Required for Entry. Members and children under 6 are always free!
URL:https://classicmotormuseum.org/event/the-event-barn-2/2028-09-23/
END:VEVENT
BEGIN:VEVENT
DTSTART;TZID=America/New_York:20280924T110000
DTEND;TZID=America/New_York:20280924T150000
DTSTAMP:20260424T113508
CREATED:20260105T190519Z
LAST-MODIFIED:20260105T190519Z
UID:10000771-1853406000-1853420400@classicmotormuseum.org
SUMMARY:The Exhibit Barn
DESCRIPTION:General Admission Required for Entry. Members and children under 6 are always free!
URL:https://classicmotormuseum.org/event/the-exhibit-barn-51/2028-09-24/
END:VEVENT
BEGIN:VEVENT
DTSTART;TZID=America/New_York:20280929T110000
DTEND;TZID=America/New_York:20280929T150000
DTSTAMP:20260424T113508
CREATED:20260105T190244Z
LAST-MODIFIED:20260105T190421Z
UID:10000248-1853838000-1853852400@classicmotormuseum.org
SUMMARY:The Exhibit Barn
DESCRIPTION:General Admission Required for Entry. Members and children under 6 are always free!
URL:https://classicmotormuseum.org/event/the-event-barn/2028-09-29/
END:VEVENT
BEGIN:VEVENT
DTSTART;TZID=America/New_York:20280930T090000
DTEND;TZID=America/New_York:20280930T160000
DTSTAMP:20260424T113508
CREATED:20260105T190346Z
LAST-MODIFIED:20260105T190428Z
UID:10000510-1853917200-1853942400@classicmotormuseum.org
SUMMARY:The Exhibit Barn
DESCRIPTION:General Admission Required for Entry. Members and children under 6 are always free!
URL:https://classicmotormuseum.org/event/the-event-barn-2/2028-09-30/
END:VEVENT
BEGIN:VEVENT
DTSTART;TZID=America/New_York:20281001T110000
DTEND;TZID=America/New_York:20281001T150000
DTSTAMP:20260424T113508
CREATED:20260105T190519Z
LAST-MODIFIED:20260105T190519Z
UID:10000772-1854010800-1854025200@classicmotormuseum.org
SUMMARY:The Exhibit Barn
DESCRIPTION:General Admission Required for Entry. Members and children under 6 are always free!
URL:https://classicmotormuseum.org/event/the-exhibit-barn-51/2028-10-01/
END:VEVENT
BEGIN:VEVENT
DTSTART;TZID=America/New_York:20281006T110000
DTEND;TZID=America/New_York:20281006T150000
DTSTAMP:20260424T113508
CREATED:20260105T190244Z
LAST-MODIFIED:20260105T190421Z
UID:10000249-1854442800-1854457200@classicmotormuseum.org
SUMMARY:The Exhibit Barn
DESCRIPTION:General Admission Required for Entry. Members and children under 6 are always free!
URL:https://classicmotormuseum.org/event/the-event-barn/2028-10-06/
END:VEVENT
BEGIN:VEVENT
DTSTART;TZID=America/New_York:20281007T090000
DTEND;TZID=America/New_York:20281007T160000
DTSTAMP:20260424T113508
CREATED:20260105T190346Z
LAST-MODIFIED:20260105T190428Z
UID:10000511-1854522000-1854547200@classicmotormuseum.org
SUMMARY:The Exhibit Barn
DESCRIPTION:General Admission Required for Entry. Members and children under 6 are always free!
URL:https://classicmotormuseum.org/event/the-event-barn-2/2028-10-07/
END:VEVENT
BEGIN:VEVENT
DTSTART;TZID=America/New_York:20281008T110000
DTEND;TZID=America/New_York:20281008T150000
DTSTAMP:20260424T113508
CREATED:20260105T190519Z
LAST-MODIFIED:20260105T190519Z
UID:10000773-1854615600-1854630000@classicmotormuseum.org
SUMMARY:The Exhibit Barn
DESCRIPTION:General Admission Required for Entry. Members and children under 6 are always free!
URL:https://classicmotormuseum.org/event/the-exhibit-barn-51/2028-10-08/
END:VEVENT
BEGIN:VEVENT
DTSTART;TZID=America/New_York:20281013T110000
DTEND;TZID=America/New_York:20281013T150000
DTSTAMP:20260424T113508
CREATED:20260105T190244Z
LAST-MODIFIED:20260105T190421Z
UID:10000250-1855047600-1855062000@classicmotormuseum.org
SUMMARY:The Exhibit Barn
DESCRIPTION:General Admission Required for Entry. Members and children under 6 are always free!
URL:https://classicmotormuseum.org/event/the-event-barn/2028-10-13/
END:VEVENT
BEGIN:VEVENT
DTSTART;TZID=America/New_York:20281014T090000
DTEND;TZID=America/New_York:20281014T160000
DTSTAMP:20260424T113508
CREATED:20260105T190346Z
LAST-MODIFIED:20260105T190428Z
UID:10000512-1855126800-1855152000@classicmotormuseum.org
SUMMARY:The Exhibit Barn
DESCRIPTION:General Admission Required for Entry. Members and children under 6 are always free!
URL:https://classicmotormuseum.org/event/the-event-barn-2/2028-10-14/
END:VEVENT
BEGIN:VEVENT
DTSTART;TZID=America/New_York:20281015T110000
DTEND;TZID=America/New_York:20281015T150000
DTSTAMP:20260424T113508
CREATED:20260105T190519Z
LAST-MODIFIED:20260105T190519Z
UID:10000774-1855220400-1855234800@classicmotormuseum.org
SUMMARY:The Exhibit Barn
DESCRIPTION:General Admission Required for Entry. Members and children under 6 are always free!
URL:https://classicmotormuseum.org/event/the-exhibit-barn-51/2028-10-15/
END:VEVENT
BEGIN:VEVENT
DTSTART;TZID=America/New_York:20281020T110000
DTEND;TZID=America/New_York:20281020T150000
DTSTAMP:20260424T113508
CREATED:20260105T190244Z
LAST-MODIFIED:20260105T190421Z
UID:10000251-1855652400-1855666800@classicmotormuseum.org
SUMMARY:The Exhibit Barn
DESCRIPTION:General Admission Required for Entry. Members and children under 6 are always free!
URL:https://classicmotormuseum.org/event/the-event-barn/2028-10-20/
END:VEVENT
BEGIN:VEVENT
DTSTART;TZID=America/New_York:20281021T090000
DTEND;TZID=America/New_York:20281021T160000
DTSTAMP:20260424T113508
CREATED:20260105T190346Z
LAST-MODIFIED:20260105T190428Z
UID:10000513-1855731600-1855756800@classicmotormuseum.org
SUMMARY:The Exhibit Barn
DESCRIPTION:General Admission Required for Entry. Members and children under 6 are always free!
URL:https://classicmotormuseum.org/event/the-event-barn-2/2028-10-21/
END:VEVENT
BEGIN:VEVENT
DTSTART;TZID=America/New_York:20281022T110000
DTEND;TZID=America/New_York:20281022T150000
DTSTAMP:20260424T113508
CREATED:20260105T190519Z
LAST-MODIFIED:20260105T190519Z
UID:10000775-1855825200-1855839600@classicmotormuseum.org
SUMMARY:The Exhibit Barn
DESCRIPTION:General Admission Required for Entry. Members and children under 6 are always free!
URL:https://classicmotormuseum.org/event/the-exhibit-barn-51/2028-10-22/
END:VEVENT
BEGIN:VEVENT
DTSTART;TZID=America/New_York:20281027T110000
DTEND;TZID=America/New_York:20281027T150000
DTSTAMP:20260424T113508
CREATED:20260105T190244Z
LAST-MODIFIED:20260105T190421Z
UID:10000252-1856257200-1856271600@classicmotormuseum.org
SUMMARY:The Exhibit Barn
DESCRIPTION:General Admission Required for Entry. Members and children under 6 are always free!
URL:https://classicmotormuseum.org/event/the-event-barn/2028-10-27/
END:VEVENT
BEGIN:VEVENT
DTSTART;TZID=America/New_York:20281028T090000
DTEND;TZID=America/New_York:20281028T160000
DTSTAMP:20260424T113508
CREATED:20260105T190346Z
LAST-MODIFIED:20260105T190428Z
UID:10000514-1856336400-1856361600@classicmotormuseum.org
SUMMARY:The Exhibit Barn
DESCRIPTION:General Admission Required for Entry. Members and children under 6 are always free!
URL:https://classicmotormuseum.org/event/the-event-barn-2/2028-10-28/
END:VEVENT
END:VCALENDAR