BEGIN:VCALENDAR
VERSION:2.0
PRODID:-//Classic Motor Museum - ECPv6.15.17//NONSGML v1.0//EN
CALSCALE:GREGORIAN
METHOD:PUBLISH
X-WR-CALNAME:Classic Motor Museum
X-ORIGINAL-URL:https://classicmotormuseum.org
X-WR-CALDESC:Events for Classic Motor Museum
REFRESH-INTERVAL;VALUE=DURATION:PT1H
X-Robots-Tag:noindex
X-PUBLISHED-TTL:PT1H
BEGIN:VTIMEZONE
TZID:America/New_York
BEGIN:DAYLIGHT
TZOFFSETFROM:-0500
TZOFFSETTO:-0400
TZNAME:EDT
DTSTART:20270314T070000
END:DAYLIGHT
BEGIN:STANDARD
TZOFFSETFROM:-0400
TZOFFSETTO:-0500
TZNAME:EST
DTSTART:20271107T060000
END:STANDARD
BEGIN:DAYLIGHT
TZOFFSETFROM:-0500
TZOFFSETTO:-0400
TZNAME:EDT
DTSTART:20280312T070000
END:DAYLIGHT
BEGIN:STANDARD
TZOFFSETFROM:-0400
TZOFFSETTO:-0500
TZNAME:EST
DTSTART:20281105T060000
END:STANDARD
BEGIN:DAYLIGHT
TZOFFSETFROM:-0500
TZOFFSETTO:-0400
TZNAME:EDT
DTSTART:20290311T070000
END:DAYLIGHT
BEGIN:STANDARD
TZOFFSETFROM:-0400
TZOFFSETTO:-0500
TZNAME:EST
DTSTART:20291104T060000
END:STANDARD
END:VTIMEZONE
BEGIN:VEVENT
DTSTART;TZID=America/New_York:20280528T110000
DTEND;TZID=America/New_York:20280528T150000
DTSTAMP:20260424T083815
CREATED:20260105T190519Z
LAST-MODIFIED:20260105T190519Z
UID:10000754-1843124400-1843138800@classicmotormuseum.org
SUMMARY:The Exhibit Barn
DESCRIPTION:General Admission Required for Entry. Members and children under 6 are always free!
URL:https://classicmotormuseum.org/event/the-exhibit-barn-51/2028-05-28/
END:VEVENT
BEGIN:VEVENT
DTSTART;TZID=America/New_York:20280602T110000
DTEND;TZID=America/New_York:20280602T150000
DTSTAMP:20260424T083815
CREATED:20260105T190244Z
LAST-MODIFIED:20260105T190421Z
UID:10000231-1843556400-1843570800@classicmotormuseum.org
SUMMARY:The Exhibit Barn
DESCRIPTION:General Admission Required for Entry. Members and children under 6 are always free!
URL:https://classicmotormuseum.org/event/the-event-barn/2028-06-02/
END:VEVENT
BEGIN:VEVENT
DTSTART;TZID=America/New_York:20280603T090000
DTEND;TZID=America/New_York:20280603T160000
DTSTAMP:20260424T083815
CREATED:20260105T190346Z
LAST-MODIFIED:20260105T190428Z
UID:10000493-1843635600-1843660800@classicmotormuseum.org
SUMMARY:The Exhibit Barn
DESCRIPTION:General Admission Required for Entry. Members and children under 6 are always free!
URL:https://classicmotormuseum.org/event/the-event-barn-2/2028-06-03/
END:VEVENT
BEGIN:VEVENT
DTSTART;TZID=America/New_York:20280604T110000
DTEND;TZID=America/New_York:20280604T150000
DTSTAMP:20260424T083815
CREATED:20260105T190519Z
LAST-MODIFIED:20260105T190519Z
UID:10000755-1843729200-1843743600@classicmotormuseum.org
SUMMARY:The Exhibit Barn
DESCRIPTION:General Admission Required for Entry. Members and children under 6 are always free!
URL:https://classicmotormuseum.org/event/the-exhibit-barn-51/2028-06-04/
END:VEVENT
BEGIN:VEVENT
DTSTART;TZID=America/New_York:20280609T110000
DTEND;TZID=America/New_York:20280609T150000
DTSTAMP:20260424T083815
CREATED:20260105T190244Z
LAST-MODIFIED:20260105T190421Z
UID:10000232-1844161200-1844175600@classicmotormuseum.org
SUMMARY:The Exhibit Barn
DESCRIPTION:General Admission Required for Entry. Members and children under 6 are always free!
URL:https://classicmotormuseum.org/event/the-event-barn/2028-06-09/
END:VEVENT
BEGIN:VEVENT
DTSTART;TZID=America/New_York:20280610T090000
DTEND;TZID=America/New_York:20280610T160000
DTSTAMP:20260424T083815
CREATED:20260105T190346Z
LAST-MODIFIED:20260105T190428Z
UID:10000494-1844240400-1844265600@classicmotormuseum.org
SUMMARY:The Exhibit Barn
DESCRIPTION:General Admission Required for Entry. Members and children under 6 are always free!
URL:https://classicmotormuseum.org/event/the-event-barn-2/2028-06-10/
END:VEVENT
BEGIN:VEVENT
DTSTART;TZID=America/New_York:20280611T110000
DTEND;TZID=America/New_York:20280611T150000
DTSTAMP:20260424T083815
CREATED:20260105T190519Z
LAST-MODIFIED:20260105T190519Z
UID:10000756-1844334000-1844348400@classicmotormuseum.org
SUMMARY:The Exhibit Barn
DESCRIPTION:General Admission Required for Entry. Members and children under 6 are always free!
URL:https://classicmotormuseum.org/event/the-exhibit-barn-51/2028-06-11/
END:VEVENT
BEGIN:VEVENT
DTSTART;TZID=America/New_York:20280616T110000
DTEND;TZID=America/New_York:20280616T150000
DTSTAMP:20260424T083815
CREATED:20260105T190244Z
LAST-MODIFIED:20260105T190421Z
UID:10000233-1844766000-1844780400@classicmotormuseum.org
SUMMARY:The Exhibit Barn
DESCRIPTION:General Admission Required for Entry. Members and children under 6 are always free!
URL:https://classicmotormuseum.org/event/the-event-barn/2028-06-16/
END:VEVENT
BEGIN:VEVENT
DTSTART;TZID=America/New_York:20280617T090000
DTEND;TZID=America/New_York:20280617T160000
DTSTAMP:20260424T083815
CREATED:20260105T190346Z
LAST-MODIFIED:20260105T190428Z
UID:10000495-1844845200-1844870400@classicmotormuseum.org
SUMMARY:The Exhibit Barn
DESCRIPTION:General Admission Required for Entry. Members and children under 6 are always free!
URL:https://classicmotormuseum.org/event/the-event-barn-2/2028-06-17/
END:VEVENT
BEGIN:VEVENT
DTSTART;TZID=America/New_York:20280618T110000
DTEND;TZID=America/New_York:20280618T150000
DTSTAMP:20260424T083815
CREATED:20260105T190519Z
LAST-MODIFIED:20260105T190519Z
UID:10000757-1844938800-1844953200@classicmotormuseum.org
SUMMARY:The Exhibit Barn
DESCRIPTION:General Admission Required for Entry. Members and children under 6 are always free!
URL:https://classicmotormuseum.org/event/the-exhibit-barn-51/2028-06-18/
END:VEVENT
BEGIN:VEVENT
DTSTART;TZID=America/New_York:20280623T110000
DTEND;TZID=America/New_York:20280623T150000
DTSTAMP:20260424T083815
CREATED:20260105T190244Z
LAST-MODIFIED:20260105T190421Z
UID:10000234-1845370800-1845385200@classicmotormuseum.org
SUMMARY:The Exhibit Barn
DESCRIPTION:General Admission Required for Entry. Members and children under 6 are always free!
URL:https://classicmotormuseum.org/event/the-event-barn/2028-06-23/
END:VEVENT
BEGIN:VEVENT
DTSTART;TZID=America/New_York:20280624T090000
DTEND;TZID=America/New_York:20280624T160000
DTSTAMP:20260424T083815
CREATED:20260105T190346Z
LAST-MODIFIED:20260105T190428Z
UID:10000496-1845450000-1845475200@classicmotormuseum.org
SUMMARY:The Exhibit Barn
DESCRIPTION:General Admission Required for Entry. Members and children under 6 are always free!
URL:https://classicmotormuseum.org/event/the-event-barn-2/2028-06-24/
END:VEVENT
BEGIN:VEVENT
DTSTART;TZID=America/New_York:20280625T110000
DTEND;TZID=America/New_York:20280625T150000
DTSTAMP:20260424T083815
CREATED:20260105T190519Z
LAST-MODIFIED:20260105T190519Z
UID:10000758-1845543600-1845558000@classicmotormuseum.org
SUMMARY:The Exhibit Barn
DESCRIPTION:General Admission Required for Entry. Members and children under 6 are always free!
URL:https://classicmotormuseum.org/event/the-exhibit-barn-51/2028-06-25/
END:VEVENT
BEGIN:VEVENT
DTSTART;TZID=America/New_York:20280630T110000
DTEND;TZID=America/New_York:20280630T150000
DTSTAMP:20260424T083815
CREATED:20260105T190244Z
LAST-MODIFIED:20260105T190421Z
UID:10000235-1845975600-1845990000@classicmotormuseum.org
SUMMARY:The Exhibit Barn
DESCRIPTION:General Admission Required for Entry. Members and children under 6 are always free!
URL:https://classicmotormuseum.org/event/the-event-barn/2028-06-30/
END:VEVENT
BEGIN:VEVENT
DTSTART;TZID=America/New_York:20280701T090000
DTEND;TZID=America/New_York:20280701T160000
DTSTAMP:20260424T083815
CREATED:20260105T190346Z
LAST-MODIFIED:20260105T190428Z
UID:10000497-1846054800-1846080000@classicmotormuseum.org
SUMMARY:The Exhibit Barn
DESCRIPTION:General Admission Required for Entry. Members and children under 6 are always free!
URL:https://classicmotormuseum.org/event/the-event-barn-2/2028-07-01/
END:VEVENT
BEGIN:VEVENT
DTSTART;TZID=America/New_York:20280702T110000
DTEND;TZID=America/New_York:20280702T150000
DTSTAMP:20260424T083815
CREATED:20260105T190519Z
LAST-MODIFIED:20260105T190519Z
UID:10000759-1846148400-1846162800@classicmotormuseum.org
SUMMARY:The Exhibit Barn
DESCRIPTION:General Admission Required for Entry. Members and children under 6 are always free!
URL:https://classicmotormuseum.org/event/the-exhibit-barn-51/2028-07-02/
END:VEVENT
BEGIN:VEVENT
DTSTART;TZID=America/New_York:20280707T110000
DTEND;TZID=America/New_York:20280707T150000
DTSTAMP:20260424T083815
CREATED:20260105T190244Z
LAST-MODIFIED:20260105T190421Z
UID:10000236-1846580400-1846594800@classicmotormuseum.org
SUMMARY:The Exhibit Barn
DESCRIPTION:General Admission Required for Entry. Members and children under 6 are always free!
URL:https://classicmotormuseum.org/event/the-event-barn/2028-07-07/
END:VEVENT
BEGIN:VEVENT
DTSTART;TZID=America/New_York:20280708T090000
DTEND;TZID=America/New_York:20280708T160000
DTSTAMP:20260424T083815
CREATED:20260105T190346Z
LAST-MODIFIED:20260105T190428Z
UID:10000498-1846659600-1846684800@classicmotormuseum.org
SUMMARY:The Exhibit Barn
DESCRIPTION:General Admission Required for Entry. Members and children under 6 are always free!
URL:https://classicmotormuseum.org/event/the-event-barn-2/2028-07-08/
END:VEVENT
BEGIN:VEVENT
DTSTART;TZID=America/New_York:20280709T110000
DTEND;TZID=America/New_York:20280709T150000
DTSTAMP:20260424T083815
CREATED:20260105T190519Z
LAST-MODIFIED:20260105T190519Z
UID:10000760-1846753200-1846767600@classicmotormuseum.org
SUMMARY:The Exhibit Barn
DESCRIPTION:General Admission Required for Entry. Members and children under 6 are always free!
URL:https://classicmotormuseum.org/event/the-exhibit-barn-51/2028-07-09/
END:VEVENT
BEGIN:VEVENT
DTSTART;TZID=America/New_York:20280714T110000
DTEND;TZID=America/New_York:20280714T150000
DTSTAMP:20260424T083815
CREATED:20260105T190244Z
LAST-MODIFIED:20260105T190421Z
UID:10000237-1847185200-1847199600@classicmotormuseum.org
SUMMARY:The Exhibit Barn
DESCRIPTION:General Admission Required for Entry. Members and children under 6 are always free!
URL:https://classicmotormuseum.org/event/the-event-barn/2028-07-14/
END:VEVENT
BEGIN:VEVENT
DTSTART;TZID=America/New_York:20280715T090000
DTEND;TZID=America/New_York:20280715T160000
DTSTAMP:20260424T083815
CREATED:20260105T190346Z
LAST-MODIFIED:20260105T190428Z
UID:10000499-1847264400-1847289600@classicmotormuseum.org
SUMMARY:The Exhibit Barn
DESCRIPTION:General Admission Required for Entry. Members and children under 6 are always free!
URL:https://classicmotormuseum.org/event/the-event-barn-2/2028-07-15/
END:VEVENT
BEGIN:VEVENT
DTSTART;TZID=America/New_York:20280716T110000
DTEND;TZID=America/New_York:20280716T150000
DTSTAMP:20260424T083815
CREATED:20260105T190519Z
LAST-MODIFIED:20260105T190519Z
UID:10000761-1847358000-1847372400@classicmotormuseum.org
SUMMARY:The Exhibit Barn
DESCRIPTION:General Admission Required for Entry. Members and children under 6 are always free!
URL:https://classicmotormuseum.org/event/the-exhibit-barn-51/2028-07-16/
END:VEVENT
BEGIN:VEVENT
DTSTART;TZID=America/New_York:20280721T110000
DTEND;TZID=America/New_York:20280721T150000
DTSTAMP:20260424T083815
CREATED:20260105T190244Z
LAST-MODIFIED:20260105T190421Z
UID:10000238-1847790000-1847804400@classicmotormuseum.org
SUMMARY:The Exhibit Barn
DESCRIPTION:General Admission Required for Entry. Members and children under 6 are always free!
URL:https://classicmotormuseum.org/event/the-event-barn/2028-07-21/
END:VEVENT
BEGIN:VEVENT
DTSTART;TZID=America/New_York:20280722T090000
DTEND;TZID=America/New_York:20280722T160000
DTSTAMP:20260424T083815
CREATED:20260105T190346Z
LAST-MODIFIED:20260105T190428Z
UID:10000500-1847869200-1847894400@classicmotormuseum.org
SUMMARY:The Exhibit Barn
DESCRIPTION:General Admission Required for Entry. Members and children under 6 are always free!
URL:https://classicmotormuseum.org/event/the-event-barn-2/2028-07-22/
END:VEVENT
BEGIN:VEVENT
DTSTART;TZID=America/New_York:20280723T110000
DTEND;TZID=America/New_York:20280723T150000
DTSTAMP:20260424T083815
CREATED:20260105T190519Z
LAST-MODIFIED:20260105T190519Z
UID:10000762-1847962800-1847977200@classicmotormuseum.org
SUMMARY:The Exhibit Barn
DESCRIPTION:General Admission Required for Entry. Members and children under 6 are always free!
URL:https://classicmotormuseum.org/event/the-exhibit-barn-51/2028-07-23/
END:VEVENT
BEGIN:VEVENT
DTSTART;TZID=America/New_York:20280728T110000
DTEND;TZID=America/New_York:20280728T150000
DTSTAMP:20260424T083815
CREATED:20260105T190244Z
LAST-MODIFIED:20260105T190421Z
UID:10000239-1848394800-1848409200@classicmotormuseum.org
SUMMARY:The Exhibit Barn
DESCRIPTION:General Admission Required for Entry. Members and children under 6 are always free!
URL:https://classicmotormuseum.org/event/the-event-barn/2028-07-28/
END:VEVENT
BEGIN:VEVENT
DTSTART;TZID=America/New_York:20280729T090000
DTEND;TZID=America/New_York:20280729T160000
DTSTAMP:20260424T083815
CREATED:20260105T190346Z
LAST-MODIFIED:20260105T190428Z
UID:10000501-1848474000-1848499200@classicmotormuseum.org
SUMMARY:The Exhibit Barn
DESCRIPTION:General Admission Required for Entry. Members and children under 6 are always free!
URL:https://classicmotormuseum.org/event/the-event-barn-2/2028-07-29/
END:VEVENT
BEGIN:VEVENT
DTSTART;TZID=America/New_York:20280730T110000
DTEND;TZID=America/New_York:20280730T150000
DTSTAMP:20260424T083815
CREATED:20260105T190519Z
LAST-MODIFIED:20260105T190519Z
UID:10000763-1848567600-1848582000@classicmotormuseum.org
SUMMARY:The Exhibit Barn
DESCRIPTION:General Admission Required for Entry. Members and children under 6 are always free!
URL:https://classicmotormuseum.org/event/the-exhibit-barn-51/2028-07-30/
END:VEVENT
BEGIN:VEVENT
DTSTART;TZID=America/New_York:20280804T110000
DTEND;TZID=America/New_York:20280804T150000
DTSTAMP:20260424T083815
CREATED:20260105T190244Z
LAST-MODIFIED:20260105T190421Z
UID:10000240-1848999600-1849014000@classicmotormuseum.org
SUMMARY:The Exhibit Barn
DESCRIPTION:General Admission Required for Entry. Members and children under 6 are always free!
URL:https://classicmotormuseum.org/event/the-event-barn/2028-08-04/
END:VEVENT
BEGIN:VEVENT
DTSTART;TZID=America/New_York:20280805T090000
DTEND;TZID=America/New_York:20280805T160000
DTSTAMP:20260424T083815
CREATED:20260105T190346Z
LAST-MODIFIED:20260105T190428Z
UID:10000502-1849078800-1849104000@classicmotormuseum.org
SUMMARY:The Exhibit Barn
DESCRIPTION:General Admission Required for Entry. Members and children under 6 are always free!
URL:https://classicmotormuseum.org/event/the-event-barn-2/2028-08-05/
END:VEVENT
END:VCALENDAR