BEGIN:VCALENDAR
VERSION:2.0
PRODID:-//Classic Motor Museum - ECPv6.15.17//NONSGML v1.0//EN
CALSCALE:GREGORIAN
METHOD:PUBLISH
X-WR-CALNAME:Classic Motor Museum
X-ORIGINAL-URL:https://classicmotormuseum.org
X-WR-CALDESC:Events for Classic Motor Museum
REFRESH-INTERVAL;VALUE=DURATION:PT1H
X-Robots-Tag:noindex
X-PUBLISHED-TTL:PT1H
BEGIN:VTIMEZONE
TZID:America/New_York
BEGIN:DAYLIGHT
TZOFFSETFROM:-0500
TZOFFSETTO:-0400
TZNAME:EDT
DTSTART:20270314T070000
END:DAYLIGHT
BEGIN:STANDARD
TZOFFSETFROM:-0400
TZOFFSETTO:-0500
TZNAME:EST
DTSTART:20271107T060000
END:STANDARD
BEGIN:DAYLIGHT
TZOFFSETFROM:-0500
TZOFFSETTO:-0400
TZNAME:EDT
DTSTART:20280312T070000
END:DAYLIGHT
BEGIN:STANDARD
TZOFFSETFROM:-0400
TZOFFSETTO:-0500
TZNAME:EST
DTSTART:20281105T060000
END:STANDARD
BEGIN:DAYLIGHT
TZOFFSETFROM:-0500
TZOFFSETTO:-0400
TZNAME:EDT
DTSTART:20290311T070000
END:DAYLIGHT
BEGIN:STANDARD
TZOFFSETFROM:-0400
TZOFFSETTO:-0500
TZNAME:EST
DTSTART:20291104T060000
END:STANDARD
END:VTIMEZONE
BEGIN:VEVENT
DTSTART;TZID=America/New_York:20280414T110000
DTEND;TZID=America/New_York:20280414T150000
DTSTAMP:20260424T040204
CREATED:20260105T190244Z
LAST-MODIFIED:20260105T190421Z
UID:10000224-1839322800-1839337200@classicmotormuseum.org
SUMMARY:The Exhibit Barn
DESCRIPTION:General Admission Required for Entry. Members and children under 6 are always free!
URL:https://classicmotormuseum.org/event/the-event-barn/2028-04-14/
END:VEVENT
BEGIN:VEVENT
DTSTART;TZID=America/New_York:20280415T090000
DTEND;TZID=America/New_York:20280415T160000
DTSTAMP:20260424T040204
CREATED:20260105T190346Z
LAST-MODIFIED:20260105T190428Z
UID:10000486-1839402000-1839427200@classicmotormuseum.org
SUMMARY:The Exhibit Barn
DESCRIPTION:General Admission Required for Entry. Members and children under 6 are always free!
URL:https://classicmotormuseum.org/event/the-event-barn-2/2028-04-15/
END:VEVENT
BEGIN:VEVENT
DTSTART;TZID=America/New_York:20280416T110000
DTEND;TZID=America/New_York:20280416T150000
DTSTAMP:20260424T040204
CREATED:20260105T190519Z
LAST-MODIFIED:20260105T190519Z
UID:10000748-1839495600-1839510000@classicmotormuseum.org
SUMMARY:The Exhibit Barn
DESCRIPTION:General Admission Required for Entry. Members and children under 6 are always free!
URL:https://classicmotormuseum.org/event/the-exhibit-barn-51/2028-04-16/
END:VEVENT
BEGIN:VEVENT
DTSTART;TZID=America/New_York:20280421T110000
DTEND;TZID=America/New_York:20280421T150000
DTSTAMP:20260424T040204
CREATED:20260105T190244Z
LAST-MODIFIED:20260105T190421Z
UID:10000225-1839927600-1839942000@classicmotormuseum.org
SUMMARY:The Exhibit Barn
DESCRIPTION:General Admission Required for Entry. Members and children under 6 are always free!
URL:https://classicmotormuseum.org/event/the-event-barn/2028-04-21/
END:VEVENT
BEGIN:VEVENT
DTSTART;TZID=America/New_York:20280422T090000
DTEND;TZID=America/New_York:20280422T160000
DTSTAMP:20260424T040204
CREATED:20260105T190346Z
LAST-MODIFIED:20260105T190428Z
UID:10000487-1840006800-1840032000@classicmotormuseum.org
SUMMARY:The Exhibit Barn
DESCRIPTION:General Admission Required for Entry. Members and children under 6 are always free!
URL:https://classicmotormuseum.org/event/the-event-barn-2/2028-04-22/
END:VEVENT
BEGIN:VEVENT
DTSTART;TZID=America/New_York:20280423T110000
DTEND;TZID=America/New_York:20280423T150000
DTSTAMP:20260424T040204
CREATED:20260105T190519Z
LAST-MODIFIED:20260105T190519Z
UID:10000749-1840100400-1840114800@classicmotormuseum.org
SUMMARY:The Exhibit Barn
DESCRIPTION:General Admission Required for Entry. Members and children under 6 are always free!
URL:https://classicmotormuseum.org/event/the-exhibit-barn-51/2028-04-23/
END:VEVENT
BEGIN:VEVENT
DTSTART;TZID=America/New_York:20280428T110000
DTEND;TZID=America/New_York:20280428T150000
DTSTAMP:20260424T040204
CREATED:20260105T190244Z
LAST-MODIFIED:20260105T190421Z
UID:10000226-1840532400-1840546800@classicmotormuseum.org
SUMMARY:The Exhibit Barn
DESCRIPTION:General Admission Required for Entry. Members and children under 6 are always free!
URL:https://classicmotormuseum.org/event/the-event-barn/2028-04-28/
END:VEVENT
BEGIN:VEVENT
DTSTART;TZID=America/New_York:20280429T090000
DTEND;TZID=America/New_York:20280429T160000
DTSTAMP:20260424T040204
CREATED:20260105T190346Z
LAST-MODIFIED:20260105T190428Z
UID:10000488-1840611600-1840636800@classicmotormuseum.org
SUMMARY:The Exhibit Barn
DESCRIPTION:General Admission Required for Entry. Members and children under 6 are always free!
URL:https://classicmotormuseum.org/event/the-event-barn-2/2028-04-29/
END:VEVENT
BEGIN:VEVENT
DTSTART;TZID=America/New_York:20280430T110000
DTEND;TZID=America/New_York:20280430T150000
DTSTAMP:20260424T040204
CREATED:20260105T190519Z
LAST-MODIFIED:20260105T190519Z
UID:10000750-1840705200-1840719600@classicmotormuseum.org
SUMMARY:The Exhibit Barn
DESCRIPTION:General Admission Required for Entry. Members and children under 6 are always free!
URL:https://classicmotormuseum.org/event/the-exhibit-barn-51/2028-04-30/
END:VEVENT
BEGIN:VEVENT
DTSTART;TZID=America/New_York:20280505T110000
DTEND;TZID=America/New_York:20280505T150000
DTSTAMP:20260424T040204
CREATED:20260105T190244Z
LAST-MODIFIED:20260105T190421Z
UID:10000227-1841137200-1841151600@classicmotormuseum.org
SUMMARY:The Exhibit Barn
DESCRIPTION:General Admission Required for Entry. Members and children under 6 are always free!
URL:https://classicmotormuseum.org/event/the-event-barn/2028-05-05/
END:VEVENT
BEGIN:VEVENT
DTSTART;TZID=America/New_York:20280506T090000
DTEND;TZID=America/New_York:20280506T160000
DTSTAMP:20260424T040204
CREATED:20260105T190346Z
LAST-MODIFIED:20260105T190428Z
UID:10000489-1841216400-1841241600@classicmotormuseum.org
SUMMARY:The Exhibit Barn
DESCRIPTION:General Admission Required for Entry. Members and children under 6 are always free!
URL:https://classicmotormuseum.org/event/the-event-barn-2/2028-05-06/
END:VEVENT
BEGIN:VEVENT
DTSTART;TZID=America/New_York:20280507T110000
DTEND;TZID=America/New_York:20280507T150000
DTSTAMP:20260424T040204
CREATED:20260105T190519Z
LAST-MODIFIED:20260105T190519Z
UID:10000751-1841310000-1841324400@classicmotormuseum.org
SUMMARY:The Exhibit Barn
DESCRIPTION:General Admission Required for Entry. Members and children under 6 are always free!
URL:https://classicmotormuseum.org/event/the-exhibit-barn-51/2028-05-07/
END:VEVENT
BEGIN:VEVENT
DTSTART;TZID=America/New_York:20280512T110000
DTEND;TZID=America/New_York:20280512T150000
DTSTAMP:20260424T040204
CREATED:20260105T190244Z
LAST-MODIFIED:20260105T190421Z
UID:10000228-1841742000-1841756400@classicmotormuseum.org
SUMMARY:The Exhibit Barn
DESCRIPTION:General Admission Required for Entry. Members and children under 6 are always free!
URL:https://classicmotormuseum.org/event/the-event-barn/2028-05-12/
END:VEVENT
BEGIN:VEVENT
DTSTART;TZID=America/New_York:20280513T090000
DTEND;TZID=America/New_York:20280513T160000
DTSTAMP:20260424T040204
CREATED:20260105T190346Z
LAST-MODIFIED:20260105T190428Z
UID:10000490-1841821200-1841846400@classicmotormuseum.org
SUMMARY:The Exhibit Barn
DESCRIPTION:General Admission Required for Entry. Members and children under 6 are always free!
URL:https://classicmotormuseum.org/event/the-event-barn-2/2028-05-13/
END:VEVENT
BEGIN:VEVENT
DTSTART;TZID=America/New_York:20280514T110000
DTEND;TZID=America/New_York:20280514T150000
DTSTAMP:20260424T040204
CREATED:20260105T190519Z
LAST-MODIFIED:20260105T190519Z
UID:10000752-1841914800-1841929200@classicmotormuseum.org
SUMMARY:The Exhibit Barn
DESCRIPTION:General Admission Required for Entry. Members and children under 6 are always free!
URL:https://classicmotormuseum.org/event/the-exhibit-barn-51/2028-05-14/
END:VEVENT
BEGIN:VEVENT
DTSTART;TZID=America/New_York:20280519T110000
DTEND;TZID=America/New_York:20280519T150000
DTSTAMP:20260424T040204
CREATED:20260105T190244Z
LAST-MODIFIED:20260105T190421Z
UID:10000229-1842346800-1842361200@classicmotormuseum.org
SUMMARY:The Exhibit Barn
DESCRIPTION:General Admission Required for Entry. Members and children under 6 are always free!
URL:https://classicmotormuseum.org/event/the-event-barn/2028-05-19/
END:VEVENT
BEGIN:VEVENT
DTSTART;TZID=America/New_York:20280520T090000
DTEND;TZID=America/New_York:20280520T160000
DTSTAMP:20260424T040204
CREATED:20260105T190346Z
LAST-MODIFIED:20260105T190428Z
UID:10000491-1842426000-1842451200@classicmotormuseum.org
SUMMARY:The Exhibit Barn
DESCRIPTION:General Admission Required for Entry. Members and children under 6 are always free!
URL:https://classicmotormuseum.org/event/the-event-barn-2/2028-05-20/
END:VEVENT
BEGIN:VEVENT
DTSTART;TZID=America/New_York:20280521T110000
DTEND;TZID=America/New_York:20280521T150000
DTSTAMP:20260424T040204
CREATED:20260105T190519Z
LAST-MODIFIED:20260105T190519Z
UID:10000753-1842519600-1842534000@classicmotormuseum.org
SUMMARY:The Exhibit Barn
DESCRIPTION:General Admission Required for Entry. Members and children under 6 are always free!
URL:https://classicmotormuseum.org/event/the-exhibit-barn-51/2028-05-21/
END:VEVENT
BEGIN:VEVENT
DTSTART;TZID=America/New_York:20280526T110000
DTEND;TZID=America/New_York:20280526T150000
DTSTAMP:20260424T040204
CREATED:20260105T190244Z
LAST-MODIFIED:20260105T190421Z
UID:10000230-1842951600-1842966000@classicmotormuseum.org
SUMMARY:The Exhibit Barn
DESCRIPTION:General Admission Required for Entry. Members and children under 6 are always free!
URL:https://classicmotormuseum.org/event/the-event-barn/2028-05-26/
END:VEVENT
BEGIN:VEVENT
DTSTART;TZID=America/New_York:20280527T090000
DTEND;TZID=America/New_York:20280527T160000
DTSTAMP:20260424T040204
CREATED:20260105T190346Z
LAST-MODIFIED:20260105T190428Z
UID:10000492-1843030800-1843056000@classicmotormuseum.org
SUMMARY:The Exhibit Barn
DESCRIPTION:General Admission Required for Entry. Members and children under 6 are always free!
URL:https://classicmotormuseum.org/event/the-event-barn-2/2028-05-27/
END:VEVENT
BEGIN:VEVENT
DTSTART;TZID=America/New_York:20280528T110000
DTEND;TZID=America/New_York:20280528T150000
DTSTAMP:20260424T040204
CREATED:20260105T190519Z
LAST-MODIFIED:20260105T190519Z
UID:10000754-1843124400-1843138800@classicmotormuseum.org
SUMMARY:The Exhibit Barn
DESCRIPTION:General Admission Required for Entry. Members and children under 6 are always free!
URL:https://classicmotormuseum.org/event/the-exhibit-barn-51/2028-05-28/
END:VEVENT
BEGIN:VEVENT
DTSTART;TZID=America/New_York:20280602T110000
DTEND;TZID=America/New_York:20280602T150000
DTSTAMP:20260424T040204
CREATED:20260105T190244Z
LAST-MODIFIED:20260105T190421Z
UID:10000231-1843556400-1843570800@classicmotormuseum.org
SUMMARY:The Exhibit Barn
DESCRIPTION:General Admission Required for Entry. Members and children under 6 are always free!
URL:https://classicmotormuseum.org/event/the-event-barn/2028-06-02/
END:VEVENT
BEGIN:VEVENT
DTSTART;TZID=America/New_York:20280603T090000
DTEND;TZID=America/New_York:20280603T160000
DTSTAMP:20260424T040204
CREATED:20260105T190346Z
LAST-MODIFIED:20260105T190428Z
UID:10000493-1843635600-1843660800@classicmotormuseum.org
SUMMARY:The Exhibit Barn
DESCRIPTION:General Admission Required for Entry. Members and children under 6 are always free!
URL:https://classicmotormuseum.org/event/the-event-barn-2/2028-06-03/
END:VEVENT
BEGIN:VEVENT
DTSTART;TZID=America/New_York:20280604T110000
DTEND;TZID=America/New_York:20280604T150000
DTSTAMP:20260424T040204
CREATED:20260105T190519Z
LAST-MODIFIED:20260105T190519Z
UID:10000755-1843729200-1843743600@classicmotormuseum.org
SUMMARY:The Exhibit Barn
DESCRIPTION:General Admission Required for Entry. Members and children under 6 are always free!
URL:https://classicmotormuseum.org/event/the-exhibit-barn-51/2028-06-04/
END:VEVENT
BEGIN:VEVENT
DTSTART;TZID=America/New_York:20280609T110000
DTEND;TZID=America/New_York:20280609T150000
DTSTAMP:20260424T040204
CREATED:20260105T190244Z
LAST-MODIFIED:20260105T190421Z
UID:10000232-1844161200-1844175600@classicmotormuseum.org
SUMMARY:The Exhibit Barn
DESCRIPTION:General Admission Required for Entry. Members and children under 6 are always free!
URL:https://classicmotormuseum.org/event/the-event-barn/2028-06-09/
END:VEVENT
BEGIN:VEVENT
DTSTART;TZID=America/New_York:20280610T090000
DTEND;TZID=America/New_York:20280610T160000
DTSTAMP:20260424T040204
CREATED:20260105T190346Z
LAST-MODIFIED:20260105T190428Z
UID:10000494-1844240400-1844265600@classicmotormuseum.org
SUMMARY:The Exhibit Barn
DESCRIPTION:General Admission Required for Entry. Members and children under 6 are always free!
URL:https://classicmotormuseum.org/event/the-event-barn-2/2028-06-10/
END:VEVENT
BEGIN:VEVENT
DTSTART;TZID=America/New_York:20280611T110000
DTEND;TZID=America/New_York:20280611T150000
DTSTAMP:20260424T040204
CREATED:20260105T190519Z
LAST-MODIFIED:20260105T190519Z
UID:10000756-1844334000-1844348400@classicmotormuseum.org
SUMMARY:The Exhibit Barn
DESCRIPTION:General Admission Required for Entry. Members and children under 6 are always free!
URL:https://classicmotormuseum.org/event/the-exhibit-barn-51/2028-06-11/
END:VEVENT
BEGIN:VEVENT
DTSTART;TZID=America/New_York:20280616T110000
DTEND;TZID=America/New_York:20280616T150000
DTSTAMP:20260424T040204
CREATED:20260105T190244Z
LAST-MODIFIED:20260105T190421Z
UID:10000233-1844766000-1844780400@classicmotormuseum.org
SUMMARY:The Exhibit Barn
DESCRIPTION:General Admission Required for Entry. Members and children under 6 are always free!
URL:https://classicmotormuseum.org/event/the-event-barn/2028-06-16/
END:VEVENT
BEGIN:VEVENT
DTSTART;TZID=America/New_York:20280617T090000
DTEND;TZID=America/New_York:20280617T160000
DTSTAMP:20260424T040204
CREATED:20260105T190346Z
LAST-MODIFIED:20260105T190428Z
UID:10000495-1844845200-1844870400@classicmotormuseum.org
SUMMARY:The Exhibit Barn
DESCRIPTION:General Admission Required for Entry. Members and children under 6 are always free!
URL:https://classicmotormuseum.org/event/the-event-barn-2/2028-06-17/
END:VEVENT
BEGIN:VEVENT
DTSTART;TZID=America/New_York:20280618T110000
DTEND;TZID=America/New_York:20280618T150000
DTSTAMP:20260424T040204
CREATED:20260105T190519Z
LAST-MODIFIED:20260105T190519Z
UID:10000757-1844938800-1844953200@classicmotormuseum.org
SUMMARY:The Exhibit Barn
DESCRIPTION:General Admission Required for Entry. Members and children under 6 are always free!
URL:https://classicmotormuseum.org/event/the-exhibit-barn-51/2028-06-18/
END:VEVENT
END:VCALENDAR