BEGIN:VCALENDAR
VERSION:2.0
PRODID:-//Classic Motor Museum - ECPv6.15.17//NONSGML v1.0//EN
CALSCALE:GREGORIAN
METHOD:PUBLISH
X-ORIGINAL-URL:https://classicmotormuseum.org
X-WR-CALDESC:Events for Classic Motor Museum
REFRESH-INTERVAL;VALUE=DURATION:PT1H
X-Robots-Tag:noindex
X-PUBLISHED-TTL:PT1H
BEGIN:VTIMEZONE
TZID:America/New_York
BEGIN:DAYLIGHT
TZOFFSETFROM:-0500
TZOFFSETTO:-0400
TZNAME:EDT
DTSTART:20270314T070000
END:DAYLIGHT
BEGIN:STANDARD
TZOFFSETFROM:-0400
TZOFFSETTO:-0500
TZNAME:EST
DTSTART:20271107T060000
END:STANDARD
BEGIN:DAYLIGHT
TZOFFSETFROM:-0500
TZOFFSETTO:-0400
TZNAME:EDT
DTSTART:20280312T070000
END:DAYLIGHT
BEGIN:STANDARD
TZOFFSETFROM:-0400
TZOFFSETTO:-0500
TZNAME:EST
DTSTART:20281105T060000
END:STANDARD
BEGIN:DAYLIGHT
TZOFFSETFROM:-0500
TZOFFSETTO:-0400
TZNAME:EDT
DTSTART:20290311T070000
END:DAYLIGHT
BEGIN:STANDARD
TZOFFSETFROM:-0400
TZOFFSETTO:-0500
TZNAME:EST
DTSTART:20291104T060000
END:STANDARD
END:VTIMEZONE
BEGIN:VEVENT
DTSTART;TZID=America/New_York:20280305T110000
DTEND;TZID=America/New_York:20280305T150000
DTSTAMP:20260424T015539
CREATED:20260105T190519Z
LAST-MODIFIED:20260105T190519Z
UID:10000742-1835866800-1835881200@classicmotormuseum.org
SUMMARY:The Exhibit Barn
DESCRIPTION:General Admission Required for Entry. Members and children under 6 are always free!
URL:https://classicmotormuseum.org/event/the-exhibit-barn-51/2028-03-05/
END:VEVENT
BEGIN:VEVENT
DTSTART;TZID=America/New_York:20280310T110000
DTEND;TZID=America/New_York:20280310T150000
DTSTAMP:20260424T015539
CREATED:20260105T190244Z
LAST-MODIFIED:20260105T190421Z
UID:10000219-1836298800-1836313200@classicmotormuseum.org
SUMMARY:The Exhibit Barn
DESCRIPTION:General Admission Required for Entry. Members and children under 6 are always free!
URL:https://classicmotormuseum.org/event/the-event-barn/2028-03-10/
END:VEVENT
BEGIN:VEVENT
DTSTART;TZID=America/New_York:20280311T090000
DTEND;TZID=America/New_York:20280311T160000
DTSTAMP:20260424T015539
CREATED:20260105T190346Z
LAST-MODIFIED:20260105T190428Z
UID:10000481-1836378000-1836403200@classicmotormuseum.org
SUMMARY:The Exhibit Barn
DESCRIPTION:General Admission Required for Entry. Members and children under 6 are always free!
URL:https://classicmotormuseum.org/event/the-event-barn-2/2028-03-11/
END:VEVENT
BEGIN:VEVENT
DTSTART;TZID=America/New_York:20280312T110000
DTEND;TZID=America/New_York:20280312T150000
DTSTAMP:20260424T015539
CREATED:20260105T190519Z
LAST-MODIFIED:20260105T190519Z
UID:10000743-1836471600-1836486000@classicmotormuseum.org
SUMMARY:The Exhibit Barn
DESCRIPTION:General Admission Required for Entry. Members and children under 6 are always free!
URL:https://classicmotormuseum.org/event/the-exhibit-barn-51/2028-03-12/
END:VEVENT
BEGIN:VEVENT
DTSTART;TZID=America/New_York:20280317T110000
DTEND;TZID=America/New_York:20280317T150000
DTSTAMP:20260424T015539
CREATED:20260105T190244Z
LAST-MODIFIED:20260105T190421Z
UID:10000220-1836903600-1836918000@classicmotormuseum.org
SUMMARY:The Exhibit Barn
DESCRIPTION:General Admission Required for Entry. Members and children under 6 are always free!
URL:https://classicmotormuseum.org/event/the-event-barn/2028-03-17/
END:VEVENT
BEGIN:VEVENT
DTSTART;TZID=America/New_York:20280318T090000
DTEND;TZID=America/New_York:20280318T160000
DTSTAMP:20260424T015539
CREATED:20260105T190346Z
LAST-MODIFIED:20260105T190428Z
UID:10000482-1836982800-1837008000@classicmotormuseum.org
SUMMARY:The Exhibit Barn
DESCRIPTION:General Admission Required for Entry. Members and children under 6 are always free!
URL:https://classicmotormuseum.org/event/the-event-barn-2/2028-03-18/
END:VEVENT
BEGIN:VEVENT
DTSTART;TZID=America/New_York:20280319T110000
DTEND;TZID=America/New_York:20280319T150000
DTSTAMP:20260424T015539
CREATED:20260105T190519Z
LAST-MODIFIED:20260105T190519Z
UID:10000744-1837076400-1837090800@classicmotormuseum.org
SUMMARY:The Exhibit Barn
DESCRIPTION:General Admission Required for Entry. Members and children under 6 are always free!
URL:https://classicmotormuseum.org/event/the-exhibit-barn-51/2028-03-19/
END:VEVENT
BEGIN:VEVENT
DTSTART;TZID=America/New_York:20280324T110000
DTEND;TZID=America/New_York:20280324T150000
DTSTAMP:20260424T015539
CREATED:20260105T190244Z
LAST-MODIFIED:20260105T190421Z
UID:10000221-1837508400-1837522800@classicmotormuseum.org
SUMMARY:The Exhibit Barn
DESCRIPTION:General Admission Required for Entry. Members and children under 6 are always free!
URL:https://classicmotormuseum.org/event/the-event-barn/2028-03-24/
END:VEVENT
BEGIN:VEVENT
DTSTART;TZID=America/New_York:20280325T090000
DTEND;TZID=America/New_York:20280325T160000
DTSTAMP:20260424T015539
CREATED:20260105T190346Z
LAST-MODIFIED:20260105T190428Z
UID:10000483-1837587600-1837612800@classicmotormuseum.org
SUMMARY:The Exhibit Barn
DESCRIPTION:General Admission Required for Entry. Members and children under 6 are always free!
URL:https://classicmotormuseum.org/event/the-event-barn-2/2028-03-25/
END:VEVENT
BEGIN:VEVENT
DTSTART;TZID=America/New_York:20280326T110000
DTEND;TZID=America/New_York:20280326T150000
DTSTAMP:20260424T015539
CREATED:20260105T190519Z
LAST-MODIFIED:20260105T190519Z
UID:10000745-1837681200-1837695600@classicmotormuseum.org
SUMMARY:The Exhibit Barn
DESCRIPTION:General Admission Required for Entry. Members and children under 6 are always free!
URL:https://classicmotormuseum.org/event/the-exhibit-barn-51/2028-03-26/
END:VEVENT
BEGIN:VEVENT
DTSTART;TZID=America/New_York:20280331T110000
DTEND;TZID=America/New_York:20280331T150000
DTSTAMP:20260424T015539
CREATED:20260105T190244Z
LAST-MODIFIED:20260105T190421Z
UID:10000222-1838113200-1838127600@classicmotormuseum.org
SUMMARY:The Exhibit Barn
DESCRIPTION:General Admission Required for Entry. Members and children under 6 are always free!
URL:https://classicmotormuseum.org/event/the-event-barn/2028-03-31/
END:VEVENT
BEGIN:VEVENT
DTSTART;TZID=America/New_York:20280401T090000
DTEND;TZID=America/New_York:20280401T160000
DTSTAMP:20260424T015539
CREATED:20260105T190346Z
LAST-MODIFIED:20260105T190428Z
UID:10000484-1838192400-1838217600@classicmotormuseum.org
SUMMARY:The Exhibit Barn
DESCRIPTION:General Admission Required for Entry. Members and children under 6 are always free!
URL:https://classicmotormuseum.org/event/the-event-barn-2/2028-04-01/
END:VEVENT
BEGIN:VEVENT
DTSTART;TZID=America/New_York:20280402T110000
DTEND;TZID=America/New_York:20280402T150000
DTSTAMP:20260424T015539
CREATED:20260105T190519Z
LAST-MODIFIED:20260105T190519Z
UID:10000746-1838286000-1838300400@classicmotormuseum.org
SUMMARY:The Exhibit Barn
DESCRIPTION:General Admission Required for Entry. Members and children under 6 are always free!
URL:https://classicmotormuseum.org/event/the-exhibit-barn-51/2028-04-02/
END:VEVENT
BEGIN:VEVENT
DTSTART;TZID=America/New_York:20280407T110000
DTEND;TZID=America/New_York:20280407T150000
DTSTAMP:20260424T015539
CREATED:20260105T190244Z
LAST-MODIFIED:20260105T190421Z
UID:10000223-1838718000-1838732400@classicmotormuseum.org
SUMMARY:The Exhibit Barn
DESCRIPTION:General Admission Required for Entry. Members and children under 6 are always free!
URL:https://classicmotormuseum.org/event/the-event-barn/2028-04-07/
END:VEVENT
BEGIN:VEVENT
DTSTART;TZID=America/New_York:20280408T090000
DTEND;TZID=America/New_York:20280408T160000
DTSTAMP:20260424T015539
CREATED:20260105T190346Z
LAST-MODIFIED:20260105T190428Z
UID:10000485-1838797200-1838822400@classicmotormuseum.org
SUMMARY:The Exhibit Barn
DESCRIPTION:General Admission Required for Entry. Members and children under 6 are always free!
URL:https://classicmotormuseum.org/event/the-event-barn-2/2028-04-08/
END:VEVENT
BEGIN:VEVENT
DTSTART;TZID=America/New_York:20280409T110000
DTEND;TZID=America/New_York:20280409T150000
DTSTAMP:20260424T015539
CREATED:20260105T190519Z
LAST-MODIFIED:20260105T190519Z
UID:10000747-1838890800-1838905200@classicmotormuseum.org
SUMMARY:The Exhibit Barn
DESCRIPTION:General Admission Required for Entry. Members and children under 6 are always free!
URL:https://classicmotormuseum.org/event/the-exhibit-barn-51/2028-04-09/
END:VEVENT
BEGIN:VEVENT
DTSTART;TZID=America/New_York:20280414T110000
DTEND;TZID=America/New_York:20280414T150000
DTSTAMP:20260424T015539
CREATED:20260105T190244Z
LAST-MODIFIED:20260105T190421Z
UID:10000224-1839322800-1839337200@classicmotormuseum.org
SUMMARY:The Exhibit Barn
DESCRIPTION:General Admission Required for Entry. Members and children under 6 are always free!
URL:https://classicmotormuseum.org/event/the-event-barn/2028-04-14/
END:VEVENT
BEGIN:VEVENT
DTSTART;TZID=America/New_York:20280415T090000
DTEND;TZID=America/New_York:20280415T160000
DTSTAMP:20260424T015539
CREATED:20260105T190346Z
LAST-MODIFIED:20260105T190428Z
UID:10000486-1839402000-1839427200@classicmotormuseum.org
SUMMARY:The Exhibit Barn
DESCRIPTION:General Admission Required for Entry. Members and children under 6 are always free!
URL:https://classicmotormuseum.org/event/the-event-barn-2/2028-04-15/
END:VEVENT
BEGIN:VEVENT
DTSTART;TZID=America/New_York:20280416T110000
DTEND;TZID=America/New_York:20280416T150000
DTSTAMP:20260424T015539
CREATED:20260105T190519Z
LAST-MODIFIED:20260105T190519Z
UID:10000748-1839495600-1839510000@classicmotormuseum.org
SUMMARY:The Exhibit Barn
DESCRIPTION:General Admission Required for Entry. Members and children under 6 are always free!
URL:https://classicmotormuseum.org/event/the-exhibit-barn-51/2028-04-16/
END:VEVENT
BEGIN:VEVENT
DTSTART;TZID=America/New_York:20280421T110000
DTEND;TZID=America/New_York:20280421T150000
DTSTAMP:20260424T015539
CREATED:20260105T190244Z
LAST-MODIFIED:20260105T190421Z
UID:10000225-1839927600-1839942000@classicmotormuseum.org
SUMMARY:The Exhibit Barn
DESCRIPTION:General Admission Required for Entry. Members and children under 6 are always free!
URL:https://classicmotormuseum.org/event/the-event-barn/2028-04-21/
END:VEVENT
BEGIN:VEVENT
DTSTART;TZID=America/New_York:20280422T090000
DTEND;TZID=America/New_York:20280422T160000
DTSTAMP:20260424T015539
CREATED:20260105T190346Z
LAST-MODIFIED:20260105T190428Z
UID:10000487-1840006800-1840032000@classicmotormuseum.org
SUMMARY:The Exhibit Barn
DESCRIPTION:General Admission Required for Entry. Members and children under 6 are always free!
URL:https://classicmotormuseum.org/event/the-event-barn-2/2028-04-22/
END:VEVENT
BEGIN:VEVENT
DTSTART;TZID=America/New_York:20280423T110000
DTEND;TZID=America/New_York:20280423T150000
DTSTAMP:20260424T015539
CREATED:20260105T190519Z
LAST-MODIFIED:20260105T190519Z
UID:10000749-1840100400-1840114800@classicmotormuseum.org
SUMMARY:The Exhibit Barn
DESCRIPTION:General Admission Required for Entry. Members and children under 6 are always free!
URL:https://classicmotormuseum.org/event/the-exhibit-barn-51/2028-04-23/
END:VEVENT
BEGIN:VEVENT
DTSTART;TZID=America/New_York:20280428T110000
DTEND;TZID=America/New_York:20280428T150000
DTSTAMP:20260424T015539
CREATED:20260105T190244Z
LAST-MODIFIED:20260105T190421Z
UID:10000226-1840532400-1840546800@classicmotormuseum.org
SUMMARY:The Exhibit Barn
DESCRIPTION:General Admission Required for Entry. Members and children under 6 are always free!
URL:https://classicmotormuseum.org/event/the-event-barn/2028-04-28/
END:VEVENT
BEGIN:VEVENT
DTSTART;TZID=America/New_York:20280429T090000
DTEND;TZID=America/New_York:20280429T160000
DTSTAMP:20260424T015539
CREATED:20260105T190346Z
LAST-MODIFIED:20260105T190428Z
UID:10000488-1840611600-1840636800@classicmotormuseum.org
SUMMARY:The Exhibit Barn
DESCRIPTION:General Admission Required for Entry. Members and children under 6 are always free!
URL:https://classicmotormuseum.org/event/the-event-barn-2/2028-04-29/
END:VEVENT
BEGIN:VEVENT
DTSTART;TZID=America/New_York:20280430T110000
DTEND;TZID=America/New_York:20280430T150000
DTSTAMP:20260424T015539
CREATED:20260105T190519Z
LAST-MODIFIED:20260105T190519Z
UID:10000750-1840705200-1840719600@classicmotormuseum.org
SUMMARY:The Exhibit Barn
DESCRIPTION:General Admission Required for Entry. Members and children under 6 are always free!
URL:https://classicmotormuseum.org/event/the-exhibit-barn-51/2028-04-30/
END:VEVENT
BEGIN:VEVENT
DTSTART;TZID=America/New_York:20280505T110000
DTEND;TZID=America/New_York:20280505T150000
DTSTAMP:20260424T015539
CREATED:20260105T190244Z
LAST-MODIFIED:20260105T190421Z
UID:10000227-1841137200-1841151600@classicmotormuseum.org
SUMMARY:The Exhibit Barn
DESCRIPTION:General Admission Required for Entry. Members and children under 6 are always free!
URL:https://classicmotormuseum.org/event/the-event-barn/2028-05-05/
END:VEVENT
BEGIN:VEVENT
DTSTART;TZID=America/New_York:20280506T090000
DTEND;TZID=America/New_York:20280506T160000
DTSTAMP:20260424T015539
CREATED:20260105T190346Z
LAST-MODIFIED:20260105T190428Z
UID:10000489-1841216400-1841241600@classicmotormuseum.org
SUMMARY:The Exhibit Barn
DESCRIPTION:General Admission Required for Entry. Members and children under 6 are always free!
URL:https://classicmotormuseum.org/event/the-event-barn-2/2028-05-06/
END:VEVENT
BEGIN:VEVENT
DTSTART;TZID=America/New_York:20280507T110000
DTEND;TZID=America/New_York:20280507T150000
DTSTAMP:20260424T015539
CREATED:20260105T190519Z
LAST-MODIFIED:20260105T190519Z
UID:10000751-1841310000-1841324400@classicmotormuseum.org
SUMMARY:The Exhibit Barn
DESCRIPTION:General Admission Required for Entry. Members and children under 6 are always free!
URL:https://classicmotormuseum.org/event/the-exhibit-barn-51/2028-05-07/
END:VEVENT
BEGIN:VEVENT
DTSTART;TZID=America/New_York:20280512T110000
DTEND;TZID=America/New_York:20280512T150000
DTSTAMP:20260424T015539
CREATED:20260105T190244Z
LAST-MODIFIED:20260105T190421Z
UID:10000228-1841742000-1841756400@classicmotormuseum.org
SUMMARY:The Exhibit Barn
DESCRIPTION:General Admission Required for Entry. Members and children under 6 are always free!
URL:https://classicmotormuseum.org/event/the-event-barn/2028-05-12/
END:VEVENT
BEGIN:VEVENT
DTSTART;TZID=America/New_York:20280513T090000
DTEND;TZID=America/New_York:20280513T160000
DTSTAMP:20260424T015539
CREATED:20260105T190346Z
LAST-MODIFIED:20260105T190428Z
UID:10000490-1841821200-1841846400@classicmotormuseum.org
SUMMARY:The Exhibit Barn
DESCRIPTION:General Admission Required for Entry. Members and children under 6 are always free!
URL:https://classicmotormuseum.org/event/the-event-barn-2/2028-05-13/
END:VEVENT
END:VCALENDAR