BEGIN:VCALENDAR
VERSION:2.0
PRODID:-//Classic Motor Museum - ECPv6.15.17//NONSGML v1.0//EN
CALSCALE:GREGORIAN
METHOD:PUBLISH
X-WR-CALNAME:Classic Motor Museum
X-ORIGINAL-URL:https://classicmotormuseum.org
X-WR-CALDESC:Events for Classic Motor Museum
REFRESH-INTERVAL;VALUE=DURATION:PT1H
X-Robots-Tag:noindex
X-PUBLISHED-TTL:PT1H
BEGIN:VTIMEZONE
TZID:America/New_York
BEGIN:DAYLIGHT
TZOFFSETFROM:-0500
TZOFFSETTO:-0400
TZNAME:EDT
DTSTART:20260308T070000
END:DAYLIGHT
BEGIN:STANDARD
TZOFFSETFROM:-0400
TZOFFSETTO:-0500
TZNAME:EST
DTSTART:20261101T060000
END:STANDARD
BEGIN:DAYLIGHT
TZOFFSETFROM:-0500
TZOFFSETTO:-0400
TZNAME:EDT
DTSTART:20270314T070000
END:DAYLIGHT
BEGIN:STANDARD
TZOFFSETFROM:-0400
TZOFFSETTO:-0500
TZNAME:EST
DTSTART:20271107T060000
END:STANDARD
BEGIN:DAYLIGHT
TZOFFSETFROM:-0500
TZOFFSETTO:-0400
TZNAME:EDT
DTSTART:20280312T070000
END:DAYLIGHT
BEGIN:STANDARD
TZOFFSETFROM:-0400
TZOFFSETTO:-0500
TZNAME:EST
DTSTART:20281105T060000
END:STANDARD
BEGIN:DAYLIGHT
TZOFFSETFROM:-0500
TZOFFSETTO:-0400
TZNAME:EDT
DTSTART:20290311T070000
END:DAYLIGHT
BEGIN:STANDARD
TZOFFSETFROM:-0400
TZOFFSETTO:-0500
TZNAME:EST
DTSTART:20291104T060000
END:STANDARD
END:VTIMEZONE
BEGIN:VEVENT
DTSTART;TZID=America/New_York:20271212T110000
DTEND;TZID=America/New_York:20271212T150000
DTSTAMP:20260423T200018
CREATED:20260105T190519Z
LAST-MODIFIED:20260105T190519Z
UID:10000730-1828609200-1828623600@classicmotormuseum.org
SUMMARY:The Exhibit Barn
DESCRIPTION:General Admission Required for Entry. Members and children under 6 are always free!
URL:https://classicmotormuseum.org/event/the-exhibit-barn-51/2027-12-12/
END:VEVENT
BEGIN:VEVENT
DTSTART;TZID=America/New_York:20271217T110000
DTEND;TZID=America/New_York:20271217T150000
DTSTAMP:20260423T200018
CREATED:20260105T190244Z
LAST-MODIFIED:20260105T190421Z
UID:10000207-1829041200-1829055600@classicmotormuseum.org
SUMMARY:The Exhibit Barn
DESCRIPTION:General Admission Required for Entry. Members and children under 6 are always free!
URL:https://classicmotormuseum.org/event/the-event-barn/2027-12-17/
END:VEVENT
BEGIN:VEVENT
DTSTART;TZID=America/New_York:20271218T090000
DTEND;TZID=America/New_York:20271218T160000
DTSTAMP:20260423T200018
CREATED:20260105T190346Z
LAST-MODIFIED:20260105T190428Z
UID:10000469-1829120400-1829145600@classicmotormuseum.org
SUMMARY:The Exhibit Barn
DESCRIPTION:General Admission Required for Entry. Members and children under 6 are always free!
URL:https://classicmotormuseum.org/event/the-event-barn-2/2027-12-18/
END:VEVENT
BEGIN:VEVENT
DTSTART;TZID=America/New_York:20271219T110000
DTEND;TZID=America/New_York:20271219T150000
DTSTAMP:20260423T200018
CREATED:20260105T190519Z
LAST-MODIFIED:20260105T190519Z
UID:10000731-1829214000-1829228400@classicmotormuseum.org
SUMMARY:The Exhibit Barn
DESCRIPTION:General Admission Required for Entry. Members and children under 6 are always free!
URL:https://classicmotormuseum.org/event/the-exhibit-barn-51/2027-12-19/
END:VEVENT
BEGIN:VEVENT
DTSTART;TZID=America/New_York:20271224T110000
DTEND;TZID=America/New_York:20271224T150000
DTSTAMP:20260423T200018
CREATED:20260105T190244Z
LAST-MODIFIED:20260105T190421Z
UID:10000208-1829646000-1829660400@classicmotormuseum.org
SUMMARY:The Exhibit Barn
DESCRIPTION:General Admission Required for Entry. Members and children under 6 are always free!
URL:https://classicmotormuseum.org/event/the-event-barn/2027-12-24/
END:VEVENT
BEGIN:VEVENT
DTSTART;TZID=America/New_York:20271225T090000
DTEND;TZID=America/New_York:20271225T160000
DTSTAMP:20260423T200018
CREATED:20260105T190346Z
LAST-MODIFIED:20260105T190428Z
UID:10000470-1829725200-1829750400@classicmotormuseum.org
SUMMARY:The Exhibit Barn
DESCRIPTION:General Admission Required for Entry. Members and children under 6 are always free!
URL:https://classicmotormuseum.org/event/the-event-barn-2/2027-12-25/
END:VEVENT
BEGIN:VEVENT
DTSTART;TZID=America/New_York:20271226T110000
DTEND;TZID=America/New_York:20271226T150000
DTSTAMP:20260423T200018
CREATED:20260105T190519Z
LAST-MODIFIED:20260105T190519Z
UID:10000732-1829818800-1829833200@classicmotormuseum.org
SUMMARY:The Exhibit Barn
DESCRIPTION:General Admission Required for Entry. Members and children under 6 are always free!
URL:https://classicmotormuseum.org/event/the-exhibit-barn-51/2027-12-26/
END:VEVENT
BEGIN:VEVENT
DTSTART;TZID=America/New_York:20271231T110000
DTEND;TZID=America/New_York:20271231T150000
DTSTAMP:20260423T200018
CREATED:20260105T190244Z
LAST-MODIFIED:20260105T190421Z
UID:10000209-1830250800-1830265200@classicmotormuseum.org
SUMMARY:The Exhibit Barn
DESCRIPTION:General Admission Required for Entry. Members and children under 6 are always free!
URL:https://classicmotormuseum.org/event/the-event-barn/2027-12-31/
END:VEVENT
BEGIN:VEVENT
DTSTART;TZID=America/New_York:20280101T090000
DTEND;TZID=America/New_York:20280101T160000
DTSTAMP:20260423T200018
CREATED:20260105T190346Z
LAST-MODIFIED:20260105T190428Z
UID:10000471-1830330000-1830355200@classicmotormuseum.org
SUMMARY:The Exhibit Barn
DESCRIPTION:General Admission Required for Entry. Members and children under 6 are always free!
URL:https://classicmotormuseum.org/event/the-event-barn-2/2028-01-01/
END:VEVENT
BEGIN:VEVENT
DTSTART;TZID=America/New_York:20280102T110000
DTEND;TZID=America/New_York:20280102T150000
DTSTAMP:20260423T200018
CREATED:20260105T190519Z
LAST-MODIFIED:20260105T190519Z
UID:10000733-1830423600-1830438000@classicmotormuseum.org
SUMMARY:The Exhibit Barn
DESCRIPTION:General Admission Required for Entry. Members and children under 6 are always free!
URL:https://classicmotormuseum.org/event/the-exhibit-barn-51/2028-01-02/
END:VEVENT
BEGIN:VEVENT
DTSTART;TZID=America/New_York:20280107T110000
DTEND;TZID=America/New_York:20280107T150000
DTSTAMP:20260423T200018
CREATED:20260105T190244Z
LAST-MODIFIED:20260105T190421Z
UID:10000210-1830855600-1830870000@classicmotormuseum.org
SUMMARY:The Exhibit Barn
DESCRIPTION:General Admission Required for Entry. Members and children under 6 are always free!
URL:https://classicmotormuseum.org/event/the-event-barn/2028-01-07/
END:VEVENT
BEGIN:VEVENT
DTSTART;TZID=America/New_York:20280108T090000
DTEND;TZID=America/New_York:20280108T160000
DTSTAMP:20260423T200018
CREATED:20260105T190346Z
LAST-MODIFIED:20260105T190428Z
UID:10000472-1830934800-1830960000@classicmotormuseum.org
SUMMARY:The Exhibit Barn
DESCRIPTION:General Admission Required for Entry. Members and children under 6 are always free!
URL:https://classicmotormuseum.org/event/the-event-barn-2/2028-01-08/
END:VEVENT
BEGIN:VEVENT
DTSTART;TZID=America/New_York:20280109T110000
DTEND;TZID=America/New_York:20280109T150000
DTSTAMP:20260423T200018
CREATED:20260105T190519Z
LAST-MODIFIED:20260105T190519Z
UID:10000734-1831028400-1831042800@classicmotormuseum.org
SUMMARY:The Exhibit Barn
DESCRIPTION:General Admission Required for Entry. Members and children under 6 are always free!
URL:https://classicmotormuseum.org/event/the-exhibit-barn-51/2028-01-09/
END:VEVENT
BEGIN:VEVENT
DTSTART;TZID=America/New_York:20280114T110000
DTEND;TZID=America/New_York:20280114T150000
DTSTAMP:20260423T200018
CREATED:20260105T190244Z
LAST-MODIFIED:20260105T190421Z
UID:10000211-1831460400-1831474800@classicmotormuseum.org
SUMMARY:The Exhibit Barn
DESCRIPTION:General Admission Required for Entry. Members and children under 6 are always free!
URL:https://classicmotormuseum.org/event/the-event-barn/2028-01-14/
END:VEVENT
BEGIN:VEVENT
DTSTART;TZID=America/New_York:20280115T090000
DTEND;TZID=America/New_York:20280115T160000
DTSTAMP:20260423T200018
CREATED:20260105T190346Z
LAST-MODIFIED:20260105T190428Z
UID:10000473-1831539600-1831564800@classicmotormuseum.org
SUMMARY:The Exhibit Barn
DESCRIPTION:General Admission Required for Entry. Members and children under 6 are always free!
URL:https://classicmotormuseum.org/event/the-event-barn-2/2028-01-15/
END:VEVENT
BEGIN:VEVENT
DTSTART;TZID=America/New_York:20280116T110000
DTEND;TZID=America/New_York:20280116T150000
DTSTAMP:20260423T200018
CREATED:20260105T190519Z
LAST-MODIFIED:20260105T190519Z
UID:10000735-1831633200-1831647600@classicmotormuseum.org
SUMMARY:The Exhibit Barn
DESCRIPTION:General Admission Required for Entry. Members and children under 6 are always free!
URL:https://classicmotormuseum.org/event/the-exhibit-barn-51/2028-01-16/
END:VEVENT
BEGIN:VEVENT
DTSTART;TZID=America/New_York:20280121T110000
DTEND;TZID=America/New_York:20280121T150000
DTSTAMP:20260423T200018
CREATED:20260105T190244Z
LAST-MODIFIED:20260105T190421Z
UID:10000212-1832065200-1832079600@classicmotormuseum.org
SUMMARY:The Exhibit Barn
DESCRIPTION:General Admission Required for Entry. Members and children under 6 are always free!
URL:https://classicmotormuseum.org/event/the-event-barn/2028-01-21/
END:VEVENT
BEGIN:VEVENT
DTSTART;TZID=America/New_York:20280122T090000
DTEND;TZID=America/New_York:20280122T160000
DTSTAMP:20260423T200018
CREATED:20260105T190346Z
LAST-MODIFIED:20260105T190428Z
UID:10000474-1832144400-1832169600@classicmotormuseum.org
SUMMARY:The Exhibit Barn
DESCRIPTION:General Admission Required for Entry. Members and children under 6 are always free!
URL:https://classicmotormuseum.org/event/the-event-barn-2/2028-01-22/
END:VEVENT
BEGIN:VEVENT
DTSTART;TZID=America/New_York:20280123T110000
DTEND;TZID=America/New_York:20280123T150000
DTSTAMP:20260423T200018
CREATED:20260105T190519Z
LAST-MODIFIED:20260105T190519Z
UID:10000736-1832238000-1832252400@classicmotormuseum.org
SUMMARY:The Exhibit Barn
DESCRIPTION:General Admission Required for Entry. Members and children under 6 are always free!
URL:https://classicmotormuseum.org/event/the-exhibit-barn-51/2028-01-23/
END:VEVENT
BEGIN:VEVENT
DTSTART;TZID=America/New_York:20280128T110000
DTEND;TZID=America/New_York:20280128T150000
DTSTAMP:20260423T200018
CREATED:20260105T190244Z
LAST-MODIFIED:20260105T190421Z
UID:10000213-1832670000-1832684400@classicmotormuseum.org
SUMMARY:The Exhibit Barn
DESCRIPTION:General Admission Required for Entry. Members and children under 6 are always free!
URL:https://classicmotormuseum.org/event/the-event-barn/2028-01-28/
END:VEVENT
BEGIN:VEVENT
DTSTART;TZID=America/New_York:20280129T090000
DTEND;TZID=America/New_York:20280129T160000
DTSTAMP:20260423T200018
CREATED:20260105T190346Z
LAST-MODIFIED:20260105T190428Z
UID:10000475-1832749200-1832774400@classicmotormuseum.org
SUMMARY:The Exhibit Barn
DESCRIPTION:General Admission Required for Entry. Members and children under 6 are always free!
URL:https://classicmotormuseum.org/event/the-event-barn-2/2028-01-29/
END:VEVENT
BEGIN:VEVENT
DTSTART;TZID=America/New_York:20280130T110000
DTEND;TZID=America/New_York:20280130T150000
DTSTAMP:20260423T200018
CREATED:20260105T190519Z
LAST-MODIFIED:20260105T190519Z
UID:10000737-1832842800-1832857200@classicmotormuseum.org
SUMMARY:The Exhibit Barn
DESCRIPTION:General Admission Required for Entry. Members and children under 6 are always free!
URL:https://classicmotormuseum.org/event/the-exhibit-barn-51/2028-01-30/
END:VEVENT
BEGIN:VEVENT
DTSTART;TZID=America/New_York:20280204T110000
DTEND;TZID=America/New_York:20280204T150000
DTSTAMP:20260423T200018
CREATED:20260105T190244Z
LAST-MODIFIED:20260105T190421Z
UID:10000214-1833274800-1833289200@classicmotormuseum.org
SUMMARY:The Exhibit Barn
DESCRIPTION:General Admission Required for Entry. Members and children under 6 are always free!
URL:https://classicmotormuseum.org/event/the-event-barn/2028-02-04/
END:VEVENT
BEGIN:VEVENT
DTSTART;TZID=America/New_York:20280205T090000
DTEND;TZID=America/New_York:20280205T160000
DTSTAMP:20260423T200018
CREATED:20260105T190346Z
LAST-MODIFIED:20260105T190428Z
UID:10000476-1833354000-1833379200@classicmotormuseum.org
SUMMARY:The Exhibit Barn
DESCRIPTION:General Admission Required for Entry. Members and children under 6 are always free!
URL:https://classicmotormuseum.org/event/the-event-barn-2/2028-02-05/
END:VEVENT
BEGIN:VEVENT
DTSTART;TZID=America/New_York:20280206T110000
DTEND;TZID=America/New_York:20280206T150000
DTSTAMP:20260423T200018
CREATED:20260105T190519Z
LAST-MODIFIED:20260105T190519Z
UID:10000738-1833447600-1833462000@classicmotormuseum.org
SUMMARY:The Exhibit Barn
DESCRIPTION:General Admission Required for Entry. Members and children under 6 are always free!
URL:https://classicmotormuseum.org/event/the-exhibit-barn-51/2028-02-06/
END:VEVENT
BEGIN:VEVENT
DTSTART;TZID=America/New_York:20280211T110000
DTEND;TZID=America/New_York:20280211T150000
DTSTAMP:20260423T200018
CREATED:20260105T190244Z
LAST-MODIFIED:20260105T190421Z
UID:10000215-1833879600-1833894000@classicmotormuseum.org
SUMMARY:The Exhibit Barn
DESCRIPTION:General Admission Required for Entry. Members and children under 6 are always free!
URL:https://classicmotormuseum.org/event/the-event-barn/2028-02-11/
END:VEVENT
BEGIN:VEVENT
DTSTART;TZID=America/New_York:20280212T090000
DTEND;TZID=America/New_York:20280212T160000
DTSTAMP:20260423T200018
CREATED:20260105T190346Z
LAST-MODIFIED:20260105T190428Z
UID:10000477-1833958800-1833984000@classicmotormuseum.org
SUMMARY:The Exhibit Barn
DESCRIPTION:General Admission Required for Entry. Members and children under 6 are always free!
URL:https://classicmotormuseum.org/event/the-event-barn-2/2028-02-12/
END:VEVENT
BEGIN:VEVENT
DTSTART;TZID=America/New_York:20280213T110000
DTEND;TZID=America/New_York:20280213T150000
DTSTAMP:20260423T200018
CREATED:20260105T190519Z
LAST-MODIFIED:20260105T190519Z
UID:10000739-1834052400-1834066800@classicmotormuseum.org
SUMMARY:The Exhibit Barn
DESCRIPTION:General Admission Required for Entry. Members and children under 6 are always free!
URL:https://classicmotormuseum.org/event/the-exhibit-barn-51/2028-02-13/
END:VEVENT
BEGIN:VEVENT
DTSTART;TZID=America/New_York:20280218T110000
DTEND;TZID=America/New_York:20280218T150000
DTSTAMP:20260423T200018
CREATED:20260105T190244Z
LAST-MODIFIED:20260105T190421Z
UID:10000216-1834484400-1834498800@classicmotormuseum.org
SUMMARY:The Exhibit Barn
DESCRIPTION:General Admission Required for Entry. Members and children under 6 are always free!
URL:https://classicmotormuseum.org/event/the-event-barn/2028-02-18/
END:VEVENT
BEGIN:VEVENT
DTSTART;TZID=America/New_York:20280219T090000
DTEND;TZID=America/New_York:20280219T160000
DTSTAMP:20260423T200018
CREATED:20260105T190346Z
LAST-MODIFIED:20260105T190428Z
UID:10000478-1834563600-1834588800@classicmotormuseum.org
SUMMARY:The Exhibit Barn
DESCRIPTION:General Admission Required for Entry. Members and children under 6 are always free!
URL:https://classicmotormuseum.org/event/the-event-barn-2/2028-02-19/
END:VEVENT
END:VCALENDAR