BEGIN:VCALENDAR
VERSION:2.0
PRODID:-//Classic Motor Museum - ECPv6.15.17//NONSGML v1.0//EN
CALSCALE:GREGORIAN
METHOD:PUBLISH
X-WR-CALNAME:Classic Motor Museum
X-ORIGINAL-URL:https://classicmotormuseum.org
X-WR-CALDESC:Events for Classic Motor Museum
REFRESH-INTERVAL;VALUE=DURATION:PT1H
X-Robots-Tag:noindex
X-PUBLISHED-TTL:PT1H
BEGIN:VTIMEZONE
TZID:America/New_York
BEGIN:DAYLIGHT
TZOFFSETFROM:-0500
TZOFFSETTO:-0400
TZNAME:EDT
DTSTART:20260308T070000
END:DAYLIGHT
BEGIN:STANDARD
TZOFFSETFROM:-0400
TZOFFSETTO:-0500
TZNAME:EST
DTSTART:20261101T060000
END:STANDARD
BEGIN:DAYLIGHT
TZOFFSETFROM:-0500
TZOFFSETTO:-0400
TZNAME:EDT
DTSTART:20270314T070000
END:DAYLIGHT
BEGIN:STANDARD
TZOFFSETFROM:-0400
TZOFFSETTO:-0500
TZNAME:EST
DTSTART:20271107T060000
END:STANDARD
BEGIN:DAYLIGHT
TZOFFSETFROM:-0500
TZOFFSETTO:-0400
TZNAME:EDT
DTSTART:20280312T070000
END:DAYLIGHT
BEGIN:STANDARD
TZOFFSETFROM:-0400
TZOFFSETTO:-0500
TZNAME:EST
DTSTART:20281105T060000
END:STANDARD
END:VTIMEZONE
BEGIN:VEVENT
DTSTART;TZID=America/New_York:20271017T110000
DTEND;TZID=America/New_York:20271017T150000
DTSTAMP:20260423T195851
CREATED:20260105T190519Z
LAST-MODIFIED:20260105T190519Z
UID:10000722-1823770800-1823785200@classicmotormuseum.org
SUMMARY:The Exhibit Barn
DESCRIPTION:General Admission Required for Entry. Members and children under 6 are always free!
URL:https://classicmotormuseum.org/event/the-exhibit-barn-51/2027-10-17/
END:VEVENT
BEGIN:VEVENT
DTSTART;TZID=America/New_York:20271022T110000
DTEND;TZID=America/New_York:20271022T150000
DTSTAMP:20260423T195851
CREATED:20260105T190244Z
LAST-MODIFIED:20260105T190421Z
UID:10000199-1824202800-1824217200@classicmotormuseum.org
SUMMARY:The Exhibit Barn
DESCRIPTION:General Admission Required for Entry. Members and children under 6 are always free!
URL:https://classicmotormuseum.org/event/the-event-barn/2027-10-22/
END:VEVENT
BEGIN:VEVENT
DTSTART;TZID=America/New_York:20271023T090000
DTEND;TZID=America/New_York:20271023T160000
DTSTAMP:20260423T195851
CREATED:20260105T190346Z
LAST-MODIFIED:20260105T190428Z
UID:10000461-1824282000-1824307200@classicmotormuseum.org
SUMMARY:The Exhibit Barn
DESCRIPTION:General Admission Required for Entry. Members and children under 6 are always free!
URL:https://classicmotormuseum.org/event/the-event-barn-2/2027-10-23/
END:VEVENT
BEGIN:VEVENT
DTSTART;TZID=America/New_York:20271024T110000
DTEND;TZID=America/New_York:20271024T150000
DTSTAMP:20260423T195851
CREATED:20260105T190519Z
LAST-MODIFIED:20260105T190519Z
UID:10000723-1824375600-1824390000@classicmotormuseum.org
SUMMARY:The Exhibit Barn
DESCRIPTION:General Admission Required for Entry. Members and children under 6 are always free!
URL:https://classicmotormuseum.org/event/the-exhibit-barn-51/2027-10-24/
END:VEVENT
BEGIN:VEVENT
DTSTART;TZID=America/New_York:20271029T110000
DTEND;TZID=America/New_York:20271029T150000
DTSTAMP:20260423T195851
CREATED:20260105T190244Z
LAST-MODIFIED:20260105T190421Z
UID:10000200-1824807600-1824822000@classicmotormuseum.org
SUMMARY:The Exhibit Barn
DESCRIPTION:General Admission Required for Entry. Members and children under 6 are always free!
URL:https://classicmotormuseum.org/event/the-event-barn/2027-10-29/
END:VEVENT
BEGIN:VEVENT
DTSTART;TZID=America/New_York:20271030T090000
DTEND;TZID=America/New_York:20271030T160000
DTSTAMP:20260423T195851
CREATED:20260105T190346Z
LAST-MODIFIED:20260105T190428Z
UID:10000462-1824886800-1824912000@classicmotormuseum.org
SUMMARY:The Exhibit Barn
DESCRIPTION:General Admission Required for Entry. Members and children under 6 are always free!
URL:https://classicmotormuseum.org/event/the-event-barn-2/2027-10-30/
END:VEVENT
BEGIN:VEVENT
DTSTART;TZID=America/New_York:20271031T110000
DTEND;TZID=America/New_York:20271031T150000
DTSTAMP:20260423T195851
CREATED:20260105T190519Z
LAST-MODIFIED:20260105T190519Z
UID:10000724-1824980400-1824994800@classicmotormuseum.org
SUMMARY:The Exhibit Barn
DESCRIPTION:General Admission Required for Entry. Members and children under 6 are always free!
URL:https://classicmotormuseum.org/event/the-exhibit-barn-51/2027-10-31/
END:VEVENT
BEGIN:VEVENT
DTSTART;TZID=America/New_York:20271105T110000
DTEND;TZID=America/New_York:20271105T150000
DTSTAMP:20260423T195851
CREATED:20260105T190244Z
LAST-MODIFIED:20260105T190421Z
UID:10000201-1825412400-1825426800@classicmotormuseum.org
SUMMARY:The Exhibit Barn
DESCRIPTION:General Admission Required for Entry. Members and children under 6 are always free!
URL:https://classicmotormuseum.org/event/the-event-barn/2027-11-05/
END:VEVENT
BEGIN:VEVENT
DTSTART;TZID=America/New_York:20271106T090000
DTEND;TZID=America/New_York:20271106T160000
DTSTAMP:20260423T195851
CREATED:20260105T190346Z
LAST-MODIFIED:20260105T190428Z
UID:10000463-1825491600-1825516800@classicmotormuseum.org
SUMMARY:The Exhibit Barn
DESCRIPTION:General Admission Required for Entry. Members and children under 6 are always free!
URL:https://classicmotormuseum.org/event/the-event-barn-2/2027-11-06/
END:VEVENT
BEGIN:VEVENT
DTSTART;TZID=America/New_York:20271107T110000
DTEND;TZID=America/New_York:20271107T150000
DTSTAMP:20260423T195851
CREATED:20260105T190519Z
LAST-MODIFIED:20260105T190519Z
UID:10000725-1825585200-1825599600@classicmotormuseum.org
SUMMARY:The Exhibit Barn
DESCRIPTION:General Admission Required for Entry. Members and children under 6 are always free!
URL:https://classicmotormuseum.org/event/the-exhibit-barn-51/2027-11-07/
END:VEVENT
BEGIN:VEVENT
DTSTART;TZID=America/New_York:20271112T110000
DTEND;TZID=America/New_York:20271112T150000
DTSTAMP:20260423T195851
CREATED:20260105T190244Z
LAST-MODIFIED:20260105T190421Z
UID:10000202-1826017200-1826031600@classicmotormuseum.org
SUMMARY:The Exhibit Barn
DESCRIPTION:General Admission Required for Entry. Members and children under 6 are always free!
URL:https://classicmotormuseum.org/event/the-event-barn/2027-11-12/
END:VEVENT
BEGIN:VEVENT
DTSTART;TZID=America/New_York:20271113T090000
DTEND;TZID=America/New_York:20271113T160000
DTSTAMP:20260423T195851
CREATED:20260105T190346Z
LAST-MODIFIED:20260105T190428Z
UID:10000464-1826096400-1826121600@classicmotormuseum.org
SUMMARY:The Exhibit Barn
DESCRIPTION:General Admission Required for Entry. Members and children under 6 are always free!
URL:https://classicmotormuseum.org/event/the-event-barn-2/2027-11-13/
END:VEVENT
BEGIN:VEVENT
DTSTART;TZID=America/New_York:20271114T110000
DTEND;TZID=America/New_York:20271114T150000
DTSTAMP:20260423T195851
CREATED:20260105T190519Z
LAST-MODIFIED:20260105T190519Z
UID:10000726-1826190000-1826204400@classicmotormuseum.org
SUMMARY:The Exhibit Barn
DESCRIPTION:General Admission Required for Entry. Members and children under 6 are always free!
URL:https://classicmotormuseum.org/event/the-exhibit-barn-51/2027-11-14/
END:VEVENT
BEGIN:VEVENT
DTSTART;TZID=America/New_York:20271119T110000
DTEND;TZID=America/New_York:20271119T150000
DTSTAMP:20260423T195851
CREATED:20260105T190244Z
LAST-MODIFIED:20260105T190421Z
UID:10000203-1826622000-1826636400@classicmotormuseum.org
SUMMARY:The Exhibit Barn
DESCRIPTION:General Admission Required for Entry. Members and children under 6 are always free!
URL:https://classicmotormuseum.org/event/the-event-barn/2027-11-19/
END:VEVENT
BEGIN:VEVENT
DTSTART;TZID=America/New_York:20271120T090000
DTEND;TZID=America/New_York:20271120T160000
DTSTAMP:20260423T195851
CREATED:20260105T190346Z
LAST-MODIFIED:20260105T190428Z
UID:10000465-1826701200-1826726400@classicmotormuseum.org
SUMMARY:The Exhibit Barn
DESCRIPTION:General Admission Required for Entry. Members and children under 6 are always free!
URL:https://classicmotormuseum.org/event/the-event-barn-2/2027-11-20/
END:VEVENT
BEGIN:VEVENT
DTSTART;TZID=America/New_York:20271121T110000
DTEND;TZID=America/New_York:20271121T150000
DTSTAMP:20260423T195851
CREATED:20260105T190519Z
LAST-MODIFIED:20260105T190519Z
UID:10000727-1826794800-1826809200@classicmotormuseum.org
SUMMARY:The Exhibit Barn
DESCRIPTION:General Admission Required for Entry. Members and children under 6 are always free!
URL:https://classicmotormuseum.org/event/the-exhibit-barn-51/2027-11-21/
END:VEVENT
BEGIN:VEVENT
DTSTART;TZID=America/New_York:20271126T110000
DTEND;TZID=America/New_York:20271126T150000
DTSTAMP:20260423T195851
CREATED:20260105T190244Z
LAST-MODIFIED:20260105T190421Z
UID:10000204-1827226800-1827241200@classicmotormuseum.org
SUMMARY:The Exhibit Barn
DESCRIPTION:General Admission Required for Entry. Members and children under 6 are always free!
URL:https://classicmotormuseum.org/event/the-event-barn/2027-11-26/
END:VEVENT
BEGIN:VEVENT
DTSTART;TZID=America/New_York:20271127T090000
DTEND;TZID=America/New_York:20271127T160000
DTSTAMP:20260423T195851
CREATED:20260105T190346Z
LAST-MODIFIED:20260105T190428Z
UID:10000466-1827306000-1827331200@classicmotormuseum.org
SUMMARY:The Exhibit Barn
DESCRIPTION:General Admission Required for Entry. Members and children under 6 are always free!
URL:https://classicmotormuseum.org/event/the-event-barn-2/2027-11-27/
END:VEVENT
BEGIN:VEVENT
DTSTART;TZID=America/New_York:20271128T110000
DTEND;TZID=America/New_York:20271128T150000
DTSTAMP:20260423T195851
CREATED:20260105T190519Z
LAST-MODIFIED:20260105T190519Z
UID:10000728-1827399600-1827414000@classicmotormuseum.org
SUMMARY:The Exhibit Barn
DESCRIPTION:General Admission Required for Entry. Members and children under 6 are always free!
URL:https://classicmotormuseum.org/event/the-exhibit-barn-51/2027-11-28/
END:VEVENT
BEGIN:VEVENT
DTSTART;TZID=America/New_York:20271203T110000
DTEND;TZID=America/New_York:20271203T150000
DTSTAMP:20260423T195851
CREATED:20260105T190244Z
LAST-MODIFIED:20260105T190421Z
UID:10000205-1827831600-1827846000@classicmotormuseum.org
SUMMARY:The Exhibit Barn
DESCRIPTION:General Admission Required for Entry. Members and children under 6 are always free!
URL:https://classicmotormuseum.org/event/the-event-barn/2027-12-03/
END:VEVENT
BEGIN:VEVENT
DTSTART;TZID=America/New_York:20271204T090000
DTEND;TZID=America/New_York:20271204T160000
DTSTAMP:20260423T195851
CREATED:20260105T190346Z
LAST-MODIFIED:20260105T190428Z
UID:10000467-1827910800-1827936000@classicmotormuseum.org
SUMMARY:The Exhibit Barn
DESCRIPTION:General Admission Required for Entry. Members and children under 6 are always free!
URL:https://classicmotormuseum.org/event/the-event-barn-2/2027-12-04/
END:VEVENT
BEGIN:VEVENT
DTSTART;TZID=America/New_York:20271205T110000
DTEND;TZID=America/New_York:20271205T150000
DTSTAMP:20260423T195851
CREATED:20260105T190519Z
LAST-MODIFIED:20260105T190519Z
UID:10000729-1828004400-1828018800@classicmotormuseum.org
SUMMARY:The Exhibit Barn
DESCRIPTION:General Admission Required for Entry. Members and children under 6 are always free!
URL:https://classicmotormuseum.org/event/the-exhibit-barn-51/2027-12-05/
END:VEVENT
BEGIN:VEVENT
DTSTART;TZID=America/New_York:20271210T110000
DTEND;TZID=America/New_York:20271210T150000
DTSTAMP:20260423T195851
CREATED:20260105T190244Z
LAST-MODIFIED:20260105T190421Z
UID:10000206-1828436400-1828450800@classicmotormuseum.org
SUMMARY:The Exhibit Barn
DESCRIPTION:General Admission Required for Entry. Members and children under 6 are always free!
URL:https://classicmotormuseum.org/event/the-event-barn/2027-12-10/
END:VEVENT
BEGIN:VEVENT
DTSTART;TZID=America/New_York:20271211T090000
DTEND;TZID=America/New_York:20271211T160000
DTSTAMP:20260423T195851
CREATED:20260105T190346Z
LAST-MODIFIED:20260105T190428Z
UID:10000468-1828515600-1828540800@classicmotormuseum.org
SUMMARY:The Exhibit Barn
DESCRIPTION:General Admission Required for Entry. Members and children under 6 are always free!
URL:https://classicmotormuseum.org/event/the-event-barn-2/2027-12-11/
END:VEVENT
BEGIN:VEVENT
DTSTART;TZID=America/New_York:20271212T110000
DTEND;TZID=America/New_York:20271212T150000
DTSTAMP:20260423T195851
CREATED:20260105T190519Z
LAST-MODIFIED:20260105T190519Z
UID:10000730-1828609200-1828623600@classicmotormuseum.org
SUMMARY:The Exhibit Barn
DESCRIPTION:General Admission Required for Entry. Members and children under 6 are always free!
URL:https://classicmotormuseum.org/event/the-exhibit-barn-51/2027-12-12/
END:VEVENT
BEGIN:VEVENT
DTSTART;TZID=America/New_York:20271217T110000
DTEND;TZID=America/New_York:20271217T150000
DTSTAMP:20260423T195851
CREATED:20260105T190244Z
LAST-MODIFIED:20260105T190421Z
UID:10000207-1829041200-1829055600@classicmotormuseum.org
SUMMARY:The Exhibit Barn
DESCRIPTION:General Admission Required for Entry. Members and children under 6 are always free!
URL:https://classicmotormuseum.org/event/the-event-barn/2027-12-17/
END:VEVENT
BEGIN:VEVENT
DTSTART;TZID=America/New_York:20271218T090000
DTEND;TZID=America/New_York:20271218T160000
DTSTAMP:20260423T195851
CREATED:20260105T190346Z
LAST-MODIFIED:20260105T190428Z
UID:10000469-1829120400-1829145600@classicmotormuseum.org
SUMMARY:The Exhibit Barn
DESCRIPTION:General Admission Required for Entry. Members and children under 6 are always free!
URL:https://classicmotormuseum.org/event/the-event-barn-2/2027-12-18/
END:VEVENT
BEGIN:VEVENT
DTSTART;TZID=America/New_York:20271219T110000
DTEND;TZID=America/New_York:20271219T150000
DTSTAMP:20260423T195851
CREATED:20260105T190519Z
LAST-MODIFIED:20260105T190519Z
UID:10000731-1829214000-1829228400@classicmotormuseum.org
SUMMARY:The Exhibit Barn
DESCRIPTION:General Admission Required for Entry. Members and children under 6 are always free!
URL:https://classicmotormuseum.org/event/the-exhibit-barn-51/2027-12-19/
END:VEVENT
BEGIN:VEVENT
DTSTART;TZID=America/New_York:20271224T110000
DTEND;TZID=America/New_York:20271224T150000
DTSTAMP:20260423T195851
CREATED:20260105T190244Z
LAST-MODIFIED:20260105T190421Z
UID:10000208-1829646000-1829660400@classicmotormuseum.org
SUMMARY:The Exhibit Barn
DESCRIPTION:General Admission Required for Entry. Members and children under 6 are always free!
URL:https://classicmotormuseum.org/event/the-event-barn/2027-12-24/
END:VEVENT
BEGIN:VEVENT
DTSTART;TZID=America/New_York:20271225T090000
DTEND;TZID=America/New_York:20271225T160000
DTSTAMP:20260423T195851
CREATED:20260105T190346Z
LAST-MODIFIED:20260105T190428Z
UID:10000470-1829725200-1829750400@classicmotormuseum.org
SUMMARY:The Exhibit Barn
DESCRIPTION:General Admission Required for Entry. Members and children under 6 are always free!
URL:https://classicmotormuseum.org/event/the-event-barn-2/2027-12-25/
END:VEVENT
END:VCALENDAR