BEGIN:VCALENDAR
VERSION:2.0
PRODID:-//Classic Motor Museum - ECPv6.15.17//NONSGML v1.0//EN
CALSCALE:GREGORIAN
METHOD:PUBLISH
X-WR-CALNAME:Classic Motor Museum
X-ORIGINAL-URL:https://classicmotormuseum.org
X-WR-CALDESC:Events for Classic Motor Museum
REFRESH-INTERVAL;VALUE=DURATION:PT1H
X-Robots-Tag:noindex
X-PUBLISHED-TTL:PT1H
BEGIN:VTIMEZONE
TZID:America/New_York
BEGIN:DAYLIGHT
TZOFFSETFROM:-0500
TZOFFSETTO:-0400
TZNAME:EDT
DTSTART:20260308T070000
END:DAYLIGHT
BEGIN:STANDARD
TZOFFSETFROM:-0400
TZOFFSETTO:-0500
TZNAME:EST
DTSTART:20261101T060000
END:STANDARD
BEGIN:DAYLIGHT
TZOFFSETFROM:-0500
TZOFFSETTO:-0400
TZNAME:EDT
DTSTART:20270314T070000
END:DAYLIGHT
BEGIN:STANDARD
TZOFFSETFROM:-0400
TZOFFSETTO:-0500
TZNAME:EST
DTSTART:20271107T060000
END:STANDARD
BEGIN:DAYLIGHT
TZOFFSETFROM:-0500
TZOFFSETTO:-0400
TZNAME:EDT
DTSTART:20280312T070000
END:DAYLIGHT
BEGIN:STANDARD
TZOFFSETFROM:-0400
TZOFFSETTO:-0500
TZNAME:EST
DTSTART:20281105T060000
END:STANDARD
END:VTIMEZONE
BEGIN:VEVENT
DTSTART;TZID=America/New_York:20270822T110000
DTEND;TZID=America/New_York:20270822T150000
DTSTAMP:20260423T191323
CREATED:20260105T190519Z
LAST-MODIFIED:20260105T190519Z
UID:10000714-1818932400-1818946800@classicmotormuseum.org
SUMMARY:The Exhibit Barn
DESCRIPTION:General Admission Required for Entry. Members and children under 6 are always free!
URL:https://classicmotormuseum.org/event/the-exhibit-barn-51/2027-08-22/
END:VEVENT
BEGIN:VEVENT
DTSTART;TZID=America/New_York:20270827T110000
DTEND;TZID=America/New_York:20270827T150000
DTSTAMP:20260423T191323
CREATED:20260105T190244Z
LAST-MODIFIED:20260105T190421Z
UID:10000191-1819364400-1819378800@classicmotormuseum.org
SUMMARY:The Exhibit Barn
DESCRIPTION:General Admission Required for Entry. Members and children under 6 are always free!
URL:https://classicmotormuseum.org/event/the-event-barn/2027-08-27/
END:VEVENT
BEGIN:VEVENT
DTSTART;TZID=America/New_York:20270828T090000
DTEND;TZID=America/New_York:20270828T160000
DTSTAMP:20260423T191323
CREATED:20260105T190346Z
LAST-MODIFIED:20260105T190428Z
UID:10000453-1819443600-1819468800@classicmotormuseum.org
SUMMARY:The Exhibit Barn
DESCRIPTION:General Admission Required for Entry. Members and children under 6 are always free!
URL:https://classicmotormuseum.org/event/the-event-barn-2/2027-08-28/
END:VEVENT
BEGIN:VEVENT
DTSTART;TZID=America/New_York:20270829T110000
DTEND;TZID=America/New_York:20270829T150000
DTSTAMP:20260423T191323
CREATED:20260105T190519Z
LAST-MODIFIED:20260105T190519Z
UID:10000715-1819537200-1819551600@classicmotormuseum.org
SUMMARY:The Exhibit Barn
DESCRIPTION:General Admission Required for Entry. Members and children under 6 are always free!
URL:https://classicmotormuseum.org/event/the-exhibit-barn-51/2027-08-29/
END:VEVENT
BEGIN:VEVENT
DTSTART;TZID=America/New_York:20270903T110000
DTEND;TZID=America/New_York:20270903T150000
DTSTAMP:20260423T191323
CREATED:20260105T190244Z
LAST-MODIFIED:20260105T190421Z
UID:10000192-1819969200-1819983600@classicmotormuseum.org
SUMMARY:The Exhibit Barn
DESCRIPTION:General Admission Required for Entry. Members and children under 6 are always free!
URL:https://classicmotormuseum.org/event/the-event-barn/2027-09-03/
END:VEVENT
BEGIN:VEVENT
DTSTART;TZID=America/New_York:20270904T090000
DTEND;TZID=America/New_York:20270904T160000
DTSTAMP:20260423T191323
CREATED:20260105T190346Z
LAST-MODIFIED:20260105T190428Z
UID:10000454-1820048400-1820073600@classicmotormuseum.org
SUMMARY:The Exhibit Barn
DESCRIPTION:General Admission Required for Entry. Members and children under 6 are always free!
URL:https://classicmotormuseum.org/event/the-event-barn-2/2027-09-04/
END:VEVENT
BEGIN:VEVENT
DTSTART;TZID=America/New_York:20270905T110000
DTEND;TZID=America/New_York:20270905T150000
DTSTAMP:20260423T191323
CREATED:20260105T190519Z
LAST-MODIFIED:20260105T190519Z
UID:10000716-1820142000-1820156400@classicmotormuseum.org
SUMMARY:The Exhibit Barn
DESCRIPTION:General Admission Required for Entry. Members and children under 6 are always free!
URL:https://classicmotormuseum.org/event/the-exhibit-barn-51/2027-09-05/
END:VEVENT
BEGIN:VEVENT
DTSTART;TZID=America/New_York:20270910T110000
DTEND;TZID=America/New_York:20270910T150000
DTSTAMP:20260423T191323
CREATED:20260105T190244Z
LAST-MODIFIED:20260105T190421Z
UID:10000193-1820574000-1820588400@classicmotormuseum.org
SUMMARY:The Exhibit Barn
DESCRIPTION:General Admission Required for Entry. Members and children under 6 are always free!
URL:https://classicmotormuseum.org/event/the-event-barn/2027-09-10/
END:VEVENT
BEGIN:VEVENT
DTSTART;TZID=America/New_York:20270911T090000
DTEND;TZID=America/New_York:20270911T160000
DTSTAMP:20260423T191323
CREATED:20260105T190346Z
LAST-MODIFIED:20260105T190428Z
UID:10000455-1820653200-1820678400@classicmotormuseum.org
SUMMARY:The Exhibit Barn
DESCRIPTION:General Admission Required for Entry. Members and children under 6 are always free!
URL:https://classicmotormuseum.org/event/the-event-barn-2/2027-09-11/
END:VEVENT
BEGIN:VEVENT
DTSTART;TZID=America/New_York:20270912T110000
DTEND;TZID=America/New_York:20270912T150000
DTSTAMP:20260423T191323
CREATED:20260105T190519Z
LAST-MODIFIED:20260105T190519Z
UID:10000717-1820746800-1820761200@classicmotormuseum.org
SUMMARY:The Exhibit Barn
DESCRIPTION:General Admission Required for Entry. Members and children under 6 are always free!
URL:https://classicmotormuseum.org/event/the-exhibit-barn-51/2027-09-12/
END:VEVENT
BEGIN:VEVENT
DTSTART;TZID=America/New_York:20270917T110000
DTEND;TZID=America/New_York:20270917T150000
DTSTAMP:20260423T191323
CREATED:20260105T190244Z
LAST-MODIFIED:20260105T190421Z
UID:10000194-1821178800-1821193200@classicmotormuseum.org
SUMMARY:The Exhibit Barn
DESCRIPTION:General Admission Required for Entry. Members and children under 6 are always free!
URL:https://classicmotormuseum.org/event/the-event-barn/2027-09-17/
END:VEVENT
BEGIN:VEVENT
DTSTART;TZID=America/New_York:20270918T090000
DTEND;TZID=America/New_York:20270918T160000
DTSTAMP:20260423T191323
CREATED:20260105T190346Z
LAST-MODIFIED:20260105T190428Z
UID:10000456-1821258000-1821283200@classicmotormuseum.org
SUMMARY:The Exhibit Barn
DESCRIPTION:General Admission Required for Entry. Members and children under 6 are always free!
URL:https://classicmotormuseum.org/event/the-event-barn-2/2027-09-18/
END:VEVENT
BEGIN:VEVENT
DTSTART;TZID=America/New_York:20270919T110000
DTEND;TZID=America/New_York:20270919T150000
DTSTAMP:20260423T191323
CREATED:20260105T190519Z
LAST-MODIFIED:20260105T190519Z
UID:10000718-1821351600-1821366000@classicmotormuseum.org
SUMMARY:The Exhibit Barn
DESCRIPTION:General Admission Required for Entry. Members and children under 6 are always free!
URL:https://classicmotormuseum.org/event/the-exhibit-barn-51/2027-09-19/
END:VEVENT
BEGIN:VEVENT
DTSTART;TZID=America/New_York:20270924T110000
DTEND;TZID=America/New_York:20270924T150000
DTSTAMP:20260423T191323
CREATED:20260105T190244Z
LAST-MODIFIED:20260105T190421Z
UID:10000195-1821783600-1821798000@classicmotormuseum.org
SUMMARY:The Exhibit Barn
DESCRIPTION:General Admission Required for Entry. Members and children under 6 are always free!
URL:https://classicmotormuseum.org/event/the-event-barn/2027-09-24/
END:VEVENT
BEGIN:VEVENT
DTSTART;TZID=America/New_York:20270925T090000
DTEND;TZID=America/New_York:20270925T160000
DTSTAMP:20260423T191323
CREATED:20260105T190346Z
LAST-MODIFIED:20260105T190428Z
UID:10000457-1821862800-1821888000@classicmotormuseum.org
SUMMARY:The Exhibit Barn
DESCRIPTION:General Admission Required for Entry. Members and children under 6 are always free!
URL:https://classicmotormuseum.org/event/the-event-barn-2/2027-09-25/
END:VEVENT
BEGIN:VEVENT
DTSTART;TZID=America/New_York:20270926T110000
DTEND;TZID=America/New_York:20270926T150000
DTSTAMP:20260423T191323
CREATED:20260105T190519Z
LAST-MODIFIED:20260105T190519Z
UID:10000719-1821956400-1821970800@classicmotormuseum.org
SUMMARY:The Exhibit Barn
DESCRIPTION:General Admission Required for Entry. Members and children under 6 are always free!
URL:https://classicmotormuseum.org/event/the-exhibit-barn-51/2027-09-26/
END:VEVENT
BEGIN:VEVENT
DTSTART;TZID=America/New_York:20271001T110000
DTEND;TZID=America/New_York:20271001T150000
DTSTAMP:20260423T191323
CREATED:20260105T190244Z
LAST-MODIFIED:20260105T190421Z
UID:10000196-1822388400-1822402800@classicmotormuseum.org
SUMMARY:The Exhibit Barn
DESCRIPTION:General Admission Required for Entry. Members and children under 6 are always free!
URL:https://classicmotormuseum.org/event/the-event-barn/2027-10-01/
END:VEVENT
BEGIN:VEVENT
DTSTART;TZID=America/New_York:20271002T090000
DTEND;TZID=America/New_York:20271002T160000
DTSTAMP:20260423T191323
CREATED:20260105T190346Z
LAST-MODIFIED:20260105T190428Z
UID:10000458-1822467600-1822492800@classicmotormuseum.org
SUMMARY:The Exhibit Barn
DESCRIPTION:General Admission Required for Entry. Members and children under 6 are always free!
URL:https://classicmotormuseum.org/event/the-event-barn-2/2027-10-02/
END:VEVENT
BEGIN:VEVENT
DTSTART;TZID=America/New_York:20271003T110000
DTEND;TZID=America/New_York:20271003T150000
DTSTAMP:20260423T191323
CREATED:20260105T190519Z
LAST-MODIFIED:20260105T190519Z
UID:10000720-1822561200-1822575600@classicmotormuseum.org
SUMMARY:The Exhibit Barn
DESCRIPTION:General Admission Required for Entry. Members and children under 6 are always free!
URL:https://classicmotormuseum.org/event/the-exhibit-barn-51/2027-10-03/
END:VEVENT
BEGIN:VEVENT
DTSTART;TZID=America/New_York:20271008T110000
DTEND;TZID=America/New_York:20271008T150000
DTSTAMP:20260423T191323
CREATED:20260105T190244Z
LAST-MODIFIED:20260105T190421Z
UID:10000197-1822993200-1823007600@classicmotormuseum.org
SUMMARY:The Exhibit Barn
DESCRIPTION:General Admission Required for Entry. Members and children under 6 are always free!
URL:https://classicmotormuseum.org/event/the-event-barn/2027-10-08/
END:VEVENT
BEGIN:VEVENT
DTSTART;TZID=America/New_York:20271009T090000
DTEND;TZID=America/New_York:20271009T160000
DTSTAMP:20260423T191323
CREATED:20260105T190346Z
LAST-MODIFIED:20260105T190428Z
UID:10000459-1823072400-1823097600@classicmotormuseum.org
SUMMARY:The Exhibit Barn
DESCRIPTION:General Admission Required for Entry. Members and children under 6 are always free!
URL:https://classicmotormuseum.org/event/the-event-barn-2/2027-10-09/
END:VEVENT
BEGIN:VEVENT
DTSTART;TZID=America/New_York:20271010T110000
DTEND;TZID=America/New_York:20271010T150000
DTSTAMP:20260423T191323
CREATED:20260105T190519Z
LAST-MODIFIED:20260105T190519Z
UID:10000721-1823166000-1823180400@classicmotormuseum.org
SUMMARY:The Exhibit Barn
DESCRIPTION:General Admission Required for Entry. Members and children under 6 are always free!
URL:https://classicmotormuseum.org/event/the-exhibit-barn-51/2027-10-10/
END:VEVENT
BEGIN:VEVENT
DTSTART;TZID=America/New_York:20271015T110000
DTEND;TZID=America/New_York:20271015T150000
DTSTAMP:20260423T191323
CREATED:20260105T190244Z
LAST-MODIFIED:20260105T190421Z
UID:10000198-1823598000-1823612400@classicmotormuseum.org
SUMMARY:The Exhibit Barn
DESCRIPTION:General Admission Required for Entry. Members and children under 6 are always free!
URL:https://classicmotormuseum.org/event/the-event-barn/2027-10-15/
END:VEVENT
BEGIN:VEVENT
DTSTART;TZID=America/New_York:20271016T090000
DTEND;TZID=America/New_York:20271016T160000
DTSTAMP:20260423T191323
CREATED:20260105T190346Z
LAST-MODIFIED:20260105T190428Z
UID:10000460-1823677200-1823702400@classicmotormuseum.org
SUMMARY:The Exhibit Barn
DESCRIPTION:General Admission Required for Entry. Members and children under 6 are always free!
URL:https://classicmotormuseum.org/event/the-event-barn-2/2027-10-16/
END:VEVENT
BEGIN:VEVENT
DTSTART;TZID=America/New_York:20271017T110000
DTEND;TZID=America/New_York:20271017T150000
DTSTAMP:20260423T191323
CREATED:20260105T190519Z
LAST-MODIFIED:20260105T190519Z
UID:10000722-1823770800-1823785200@classicmotormuseum.org
SUMMARY:The Exhibit Barn
DESCRIPTION:General Admission Required for Entry. Members and children under 6 are always free!
URL:https://classicmotormuseum.org/event/the-exhibit-barn-51/2027-10-17/
END:VEVENT
BEGIN:VEVENT
DTSTART;TZID=America/New_York:20271022T110000
DTEND;TZID=America/New_York:20271022T150000
DTSTAMP:20260423T191323
CREATED:20260105T190244Z
LAST-MODIFIED:20260105T190421Z
UID:10000199-1824202800-1824217200@classicmotormuseum.org
SUMMARY:The Exhibit Barn
DESCRIPTION:General Admission Required for Entry. Members and children under 6 are always free!
URL:https://classicmotormuseum.org/event/the-event-barn/2027-10-22/
END:VEVENT
BEGIN:VEVENT
DTSTART;TZID=America/New_York:20271023T090000
DTEND;TZID=America/New_York:20271023T160000
DTSTAMP:20260423T191323
CREATED:20260105T190346Z
LAST-MODIFIED:20260105T190428Z
UID:10000461-1824282000-1824307200@classicmotormuseum.org
SUMMARY:The Exhibit Barn
DESCRIPTION:General Admission Required for Entry. Members and children under 6 are always free!
URL:https://classicmotormuseum.org/event/the-event-barn-2/2027-10-23/
END:VEVENT
BEGIN:VEVENT
DTSTART;TZID=America/New_York:20271024T110000
DTEND;TZID=America/New_York:20271024T150000
DTSTAMP:20260423T191323
CREATED:20260105T190519Z
LAST-MODIFIED:20260105T190519Z
UID:10000723-1824375600-1824390000@classicmotormuseum.org
SUMMARY:The Exhibit Barn
DESCRIPTION:General Admission Required for Entry. Members and children under 6 are always free!
URL:https://classicmotormuseum.org/event/the-exhibit-barn-51/2027-10-24/
END:VEVENT
BEGIN:VEVENT
DTSTART;TZID=America/New_York:20271029T110000
DTEND;TZID=America/New_York:20271029T150000
DTSTAMP:20260423T191323
CREATED:20260105T190244Z
LAST-MODIFIED:20260105T190421Z
UID:10000200-1824807600-1824822000@classicmotormuseum.org
SUMMARY:The Exhibit Barn
DESCRIPTION:General Admission Required for Entry. Members and children under 6 are always free!
URL:https://classicmotormuseum.org/event/the-event-barn/2027-10-29/
END:VEVENT
BEGIN:VEVENT
DTSTART;TZID=America/New_York:20271030T090000
DTEND;TZID=America/New_York:20271030T160000
DTSTAMP:20260423T191323
CREATED:20260105T190346Z
LAST-MODIFIED:20260105T190428Z
UID:10000462-1824886800-1824912000@classicmotormuseum.org
SUMMARY:The Exhibit Barn
DESCRIPTION:General Admission Required for Entry. Members and children under 6 are always free!
URL:https://classicmotormuseum.org/event/the-event-barn-2/2027-10-30/
END:VEVENT
END:VCALENDAR