BEGIN:VCALENDAR
VERSION:2.0
PRODID:-//Classic Motor Museum - ECPv6.15.17//NONSGML v1.0//EN
CALSCALE:GREGORIAN
METHOD:PUBLISH
X-WR-CALNAME:Classic Motor Museum
X-ORIGINAL-URL:https://classicmotormuseum.org
X-WR-CALDESC:Events for Classic Motor Museum
REFRESH-INTERVAL;VALUE=DURATION:PT1H
X-Robots-Tag:noindex
X-PUBLISHED-TTL:PT1H
BEGIN:VTIMEZONE
TZID:America/New_York
BEGIN:DAYLIGHT
TZOFFSETFROM:-0500
TZOFFSETTO:-0400
TZNAME:EDT
DTSTART:20250309T070000
END:DAYLIGHT
BEGIN:STANDARD
TZOFFSETFROM:-0400
TZOFFSETTO:-0500
TZNAME:EST
DTSTART:20251102T060000
END:STANDARD
BEGIN:DAYLIGHT
TZOFFSETFROM:-0500
TZOFFSETTO:-0400
TZNAME:EDT
DTSTART:20260308T070000
END:DAYLIGHT
BEGIN:STANDARD
TZOFFSETFROM:-0400
TZOFFSETTO:-0500
TZNAME:EST
DTSTART:20261101T060000
END:STANDARD
BEGIN:DAYLIGHT
TZOFFSETFROM:-0500
TZOFFSETTO:-0400
TZNAME:EDT
DTSTART:20270314T070000
END:DAYLIGHT
BEGIN:STANDARD
TZOFFSETFROM:-0400
TZOFFSETTO:-0500
TZNAME:EST
DTSTART:20271107T060000
END:STANDARD
BEGIN:DAYLIGHT
TZOFFSETFROM:-0500
TZOFFSETTO:-0400
TZNAME:EDT
DTSTART:20280312T070000
END:DAYLIGHT
BEGIN:STANDARD
TZOFFSETFROM:-0400
TZOFFSETTO:-0500
TZNAME:EST
DTSTART:20281105T060000
END:STANDARD
END:VTIMEZONE
BEGIN:VEVENT
DTSTART;TZID=America/New_York:20261226T090000
DTEND;TZID=America/New_York:20261226T160000
DTSTAMP:20260423T070519
CREATED:20260105T190346Z
LAST-MODIFIED:20260105T190428Z
UID:10000418-1798275600-1798300800@classicmotormuseum.org
SUMMARY:The Exhibit Barn
DESCRIPTION:General Admission Required for Entry. Members and children under 6 are always free!
URL:https://classicmotormuseum.org/event/the-event-barn-2/2026-12-26/
END:VEVENT
BEGIN:VEVENT
DTSTART;TZID=America/New_York:20261227T110000
DTEND;TZID=America/New_York:20261227T150000
DTSTAMP:20260423T070519
CREATED:20260105T190519Z
LAST-MODIFIED:20260105T190519Z
UID:10000680-1798369200-1798383600@classicmotormuseum.org
SUMMARY:The Exhibit Barn
DESCRIPTION:General Admission Required for Entry. Members and children under 6 are always free!
URL:https://classicmotormuseum.org/event/the-exhibit-barn-51/2026-12-27/
END:VEVENT
BEGIN:VEVENT
DTSTART;TZID=America/New_York:20270101T110000
DTEND;TZID=America/New_York:20270101T150000
DTSTAMP:20260423T070519
CREATED:20260105T190244Z
LAST-MODIFIED:20260105T190421Z
UID:10000157-1798801200-1798815600@classicmotormuseum.org
SUMMARY:The Exhibit Barn
DESCRIPTION:General Admission Required for Entry. Members and children under 6 are always free!
URL:https://classicmotormuseum.org/event/the-event-barn/2027-01-01/
END:VEVENT
BEGIN:VEVENT
DTSTART;TZID=America/New_York:20270102T090000
DTEND;TZID=America/New_York:20270102T160000
DTSTAMP:20260423T070519
CREATED:20260105T190346Z
LAST-MODIFIED:20260105T190428Z
UID:10000419-1798880400-1798905600@classicmotormuseum.org
SUMMARY:The Exhibit Barn
DESCRIPTION:General Admission Required for Entry. Members and children under 6 are always free!
URL:https://classicmotormuseum.org/event/the-event-barn-2/2027-01-02/
END:VEVENT
BEGIN:VEVENT
DTSTART;TZID=America/New_York:20270103T110000
DTEND;TZID=America/New_York:20270103T150000
DTSTAMP:20260423T070519
CREATED:20260105T190519Z
LAST-MODIFIED:20260105T190519Z
UID:10000681-1798974000-1798988400@classicmotormuseum.org
SUMMARY:The Exhibit Barn
DESCRIPTION:General Admission Required for Entry. Members and children under 6 are always free!
URL:https://classicmotormuseum.org/event/the-exhibit-barn-51/2027-01-03/
END:VEVENT
BEGIN:VEVENT
DTSTART;TZID=America/New_York:20270108T110000
DTEND;TZID=America/New_York:20270108T150000
DTSTAMP:20260423T070519
CREATED:20260105T190244Z
LAST-MODIFIED:20260105T190421Z
UID:10000158-1799406000-1799420400@classicmotormuseum.org
SUMMARY:The Exhibit Barn
DESCRIPTION:General Admission Required for Entry. Members and children under 6 are always free!
URL:https://classicmotormuseum.org/event/the-event-barn/2027-01-08/
END:VEVENT
BEGIN:VEVENT
DTSTART;TZID=America/New_York:20270109T090000
DTEND;TZID=America/New_York:20270109T160000
DTSTAMP:20260423T070519
CREATED:20260105T190346Z
LAST-MODIFIED:20260105T190428Z
UID:10000420-1799485200-1799510400@classicmotormuseum.org
SUMMARY:The Exhibit Barn
DESCRIPTION:General Admission Required for Entry. Members and children under 6 are always free!
URL:https://classicmotormuseum.org/event/the-event-barn-2/2027-01-09/
END:VEVENT
BEGIN:VEVENT
DTSTART;TZID=America/New_York:20270110T110000
DTEND;TZID=America/New_York:20270110T150000
DTSTAMP:20260423T070519
CREATED:20260105T190519Z
LAST-MODIFIED:20260105T190519Z
UID:10000682-1799578800-1799593200@classicmotormuseum.org
SUMMARY:The Exhibit Barn
DESCRIPTION:General Admission Required for Entry. Members and children under 6 are always free!
URL:https://classicmotormuseum.org/event/the-exhibit-barn-51/2027-01-10/
END:VEVENT
BEGIN:VEVENT
DTSTART;TZID=America/New_York:20270115T110000
DTEND;TZID=America/New_York:20270115T150000
DTSTAMP:20260423T070519
CREATED:20260105T190244Z
LAST-MODIFIED:20260105T190421Z
UID:10000159-1800010800-1800025200@classicmotormuseum.org
SUMMARY:The Exhibit Barn
DESCRIPTION:General Admission Required for Entry. Members and children under 6 are always free!
URL:https://classicmotormuseum.org/event/the-event-barn/2027-01-15/
END:VEVENT
BEGIN:VEVENT
DTSTART;TZID=America/New_York:20270116T090000
DTEND;TZID=America/New_York:20270116T160000
DTSTAMP:20260423T070519
CREATED:20260105T190346Z
LAST-MODIFIED:20260105T190428Z
UID:10000421-1800090000-1800115200@classicmotormuseum.org
SUMMARY:The Exhibit Barn
DESCRIPTION:General Admission Required for Entry. Members and children under 6 are always free!
URL:https://classicmotormuseum.org/event/the-event-barn-2/2027-01-16/
END:VEVENT
BEGIN:VEVENT
DTSTART;TZID=America/New_York:20270117T110000
DTEND;TZID=America/New_York:20270117T150000
DTSTAMP:20260423T070519
CREATED:20260105T190519Z
LAST-MODIFIED:20260105T190519Z
UID:10000683-1800183600-1800198000@classicmotormuseum.org
SUMMARY:The Exhibit Barn
DESCRIPTION:General Admission Required for Entry. Members and children under 6 are always free!
URL:https://classicmotormuseum.org/event/the-exhibit-barn-51/2027-01-17/
END:VEVENT
BEGIN:VEVENT
DTSTART;TZID=America/New_York:20270122T110000
DTEND;TZID=America/New_York:20270122T150000
DTSTAMP:20260423T070519
CREATED:20260105T190244Z
LAST-MODIFIED:20260105T190421Z
UID:10000160-1800615600-1800630000@classicmotormuseum.org
SUMMARY:The Exhibit Barn
DESCRIPTION:General Admission Required for Entry. Members and children under 6 are always free!
URL:https://classicmotormuseum.org/event/the-event-barn/2027-01-22/
END:VEVENT
BEGIN:VEVENT
DTSTART;TZID=America/New_York:20270123T090000
DTEND;TZID=America/New_York:20270123T160000
DTSTAMP:20260423T070519
CREATED:20260105T190346Z
LAST-MODIFIED:20260105T190428Z
UID:10000422-1800694800-1800720000@classicmotormuseum.org
SUMMARY:The Exhibit Barn
DESCRIPTION:General Admission Required for Entry. Members and children under 6 are always free!
URL:https://classicmotormuseum.org/event/the-event-barn-2/2027-01-23/
END:VEVENT
BEGIN:VEVENT
DTSTART;TZID=America/New_York:20270124T110000
DTEND;TZID=America/New_York:20270124T150000
DTSTAMP:20260423T070519
CREATED:20260105T190519Z
LAST-MODIFIED:20260105T190519Z
UID:10000684-1800788400-1800802800@classicmotormuseum.org
SUMMARY:The Exhibit Barn
DESCRIPTION:General Admission Required for Entry. Members and children under 6 are always free!
URL:https://classicmotormuseum.org/event/the-exhibit-barn-51/2027-01-24/
END:VEVENT
BEGIN:VEVENT
DTSTART;TZID=America/New_York:20270129T110000
DTEND;TZID=America/New_York:20270129T150000
DTSTAMP:20260423T070519
CREATED:20260105T190244Z
LAST-MODIFIED:20260105T190421Z
UID:10000161-1801220400-1801234800@classicmotormuseum.org
SUMMARY:The Exhibit Barn
DESCRIPTION:General Admission Required for Entry. Members and children under 6 are always free!
URL:https://classicmotormuseum.org/event/the-event-barn/2027-01-29/
END:VEVENT
BEGIN:VEVENT
DTSTART;TZID=America/New_York:20270130T090000
DTEND;TZID=America/New_York:20270130T160000
DTSTAMP:20260423T070519
CREATED:20260105T190346Z
LAST-MODIFIED:20260105T190428Z
UID:10000423-1801299600-1801324800@classicmotormuseum.org
SUMMARY:The Exhibit Barn
DESCRIPTION:General Admission Required for Entry. Members and children under 6 are always free!
URL:https://classicmotormuseum.org/event/the-event-barn-2/2027-01-30/
END:VEVENT
BEGIN:VEVENT
DTSTART;TZID=America/New_York:20270131T110000
DTEND;TZID=America/New_York:20270131T150000
DTSTAMP:20260423T070519
CREATED:20260105T190519Z
LAST-MODIFIED:20260105T190519Z
UID:10000685-1801393200-1801407600@classicmotormuseum.org
SUMMARY:The Exhibit Barn
DESCRIPTION:General Admission Required for Entry. Members and children under 6 are always free!
URL:https://classicmotormuseum.org/event/the-exhibit-barn-51/2027-01-31/
END:VEVENT
BEGIN:VEVENT
DTSTART;TZID=America/New_York:20270205T110000
DTEND;TZID=America/New_York:20270205T150000
DTSTAMP:20260423T070520
CREATED:20260105T190244Z
LAST-MODIFIED:20260105T190421Z
UID:10000162-1801825200-1801839600@classicmotormuseum.org
SUMMARY:The Exhibit Barn
DESCRIPTION:General Admission Required for Entry. Members and children under 6 are always free!
URL:https://classicmotormuseum.org/event/the-event-barn/2027-02-05/
END:VEVENT
BEGIN:VEVENT
DTSTART;TZID=America/New_York:20270206T090000
DTEND;TZID=America/New_York:20270206T160000
DTSTAMP:20260423T070520
CREATED:20260105T190346Z
LAST-MODIFIED:20260105T190428Z
UID:10000424-1801904400-1801929600@classicmotormuseum.org
SUMMARY:The Exhibit Barn
DESCRIPTION:General Admission Required for Entry. Members and children under 6 are always free!
URL:https://classicmotormuseum.org/event/the-event-barn-2/2027-02-06/
END:VEVENT
BEGIN:VEVENT
DTSTART;TZID=America/New_York:20270207T110000
DTEND;TZID=America/New_York:20270207T150000
DTSTAMP:20260423T070520
CREATED:20260105T190519Z
LAST-MODIFIED:20260105T190519Z
UID:10000686-1801998000-1802012400@classicmotormuseum.org
SUMMARY:The Exhibit Barn
DESCRIPTION:General Admission Required for Entry. Members and children under 6 are always free!
URL:https://classicmotormuseum.org/event/the-exhibit-barn-51/2027-02-07/
END:VEVENT
BEGIN:VEVENT
DTSTART;TZID=America/New_York:20270212T110000
DTEND;TZID=America/New_York:20270212T150000
DTSTAMP:20260423T070520
CREATED:20260105T190244Z
LAST-MODIFIED:20260105T190421Z
UID:10000163-1802430000-1802444400@classicmotormuseum.org
SUMMARY:The Exhibit Barn
DESCRIPTION:General Admission Required for Entry. Members and children under 6 are always free!
URL:https://classicmotormuseum.org/event/the-event-barn/2027-02-12/
END:VEVENT
BEGIN:VEVENT
DTSTART;TZID=America/New_York:20270213T090000
DTEND;TZID=America/New_York:20270213T160000
DTSTAMP:20260423T070520
CREATED:20260105T190346Z
LAST-MODIFIED:20260105T190428Z
UID:10000425-1802509200-1802534400@classicmotormuseum.org
SUMMARY:The Exhibit Barn
DESCRIPTION:General Admission Required for Entry. Members and children under 6 are always free!
URL:https://classicmotormuseum.org/event/the-event-barn-2/2027-02-13/
END:VEVENT
BEGIN:VEVENT
DTSTART;TZID=America/New_York:20270214T110000
DTEND;TZID=America/New_York:20270214T150000
DTSTAMP:20260423T070520
CREATED:20260105T190519Z
LAST-MODIFIED:20260105T190519Z
UID:10000687-1802602800-1802617200@classicmotormuseum.org
SUMMARY:The Exhibit Barn
DESCRIPTION:General Admission Required for Entry. Members and children under 6 are always free!
URL:https://classicmotormuseum.org/event/the-exhibit-barn-51/2027-02-14/
END:VEVENT
BEGIN:VEVENT
DTSTART;TZID=America/New_York:20270219T110000
DTEND;TZID=America/New_York:20270219T150000
DTSTAMP:20260423T070520
CREATED:20260105T190244Z
LAST-MODIFIED:20260105T190421Z
UID:10000164-1803034800-1803049200@classicmotormuseum.org
SUMMARY:The Exhibit Barn
DESCRIPTION:General Admission Required for Entry. Members and children under 6 are always free!
URL:https://classicmotormuseum.org/event/the-event-barn/2027-02-19/
END:VEVENT
BEGIN:VEVENT
DTSTART;TZID=America/New_York:20270220T090000
DTEND;TZID=America/New_York:20270220T160000
DTSTAMP:20260423T070520
CREATED:20260105T190346Z
LAST-MODIFIED:20260105T190428Z
UID:10000426-1803114000-1803139200@classicmotormuseum.org
SUMMARY:The Exhibit Barn
DESCRIPTION:General Admission Required for Entry. Members and children under 6 are always free!
URL:https://classicmotormuseum.org/event/the-event-barn-2/2027-02-20/
END:VEVENT
BEGIN:VEVENT
DTSTART;TZID=America/New_York:20270221T110000
DTEND;TZID=America/New_York:20270221T150000
DTSTAMP:20260423T070520
CREATED:20260105T190519Z
LAST-MODIFIED:20260105T190519Z
UID:10000688-1803207600-1803222000@classicmotormuseum.org
SUMMARY:The Exhibit Barn
DESCRIPTION:General Admission Required for Entry. Members and children under 6 are always free!
URL:https://classicmotormuseum.org/event/the-exhibit-barn-51/2027-02-21/
END:VEVENT
BEGIN:VEVENT
DTSTART;TZID=America/New_York:20270226T110000
DTEND;TZID=America/New_York:20270226T150000
DTSTAMP:20260423T070520
CREATED:20260105T190244Z
LAST-MODIFIED:20260105T190421Z
UID:10000165-1803639600-1803654000@classicmotormuseum.org
SUMMARY:The Exhibit Barn
DESCRIPTION:General Admission Required for Entry. Members and children under 6 are always free!
URL:https://classicmotormuseum.org/event/the-event-barn/2027-02-26/
END:VEVENT
BEGIN:VEVENT
DTSTART;TZID=America/New_York:20270227T090000
DTEND;TZID=America/New_York:20270227T160000
DTSTAMP:20260423T070520
CREATED:20260105T190346Z
LAST-MODIFIED:20260105T190428Z
UID:10000427-1803718800-1803744000@classicmotormuseum.org
SUMMARY:The Exhibit Barn
DESCRIPTION:General Admission Required for Entry. Members and children under 6 are always free!
URL:https://classicmotormuseum.org/event/the-event-barn-2/2027-02-27/
END:VEVENT
BEGIN:VEVENT
DTSTART;TZID=America/New_York:20270228T110000
DTEND;TZID=America/New_York:20270228T150000
DTSTAMP:20260423T070520
CREATED:20260105T190519Z
LAST-MODIFIED:20260105T190519Z
UID:10000689-1803812400-1803826800@classicmotormuseum.org
SUMMARY:The Exhibit Barn
DESCRIPTION:General Admission Required for Entry. Members and children under 6 are always free!
URL:https://classicmotormuseum.org/event/the-exhibit-barn-51/2027-02-28/
END:VEVENT
BEGIN:VEVENT
DTSTART;TZID=America/New_York:20270305T110000
DTEND;TZID=America/New_York:20270305T150000
DTSTAMP:20260423T070520
CREATED:20260105T190244Z
LAST-MODIFIED:20260105T190421Z
UID:10000166-1804244400-1804258800@classicmotormuseum.org
SUMMARY:The Exhibit Barn
DESCRIPTION:General Admission Required for Entry. Members and children under 6 are always free!
URL:https://classicmotormuseum.org/event/the-event-barn/2027-03-05/
END:VEVENT
END:VCALENDAR