BEGIN:VCALENDAR
VERSION:2.0
PRODID:-//Classic Motor Museum - ECPv6.15.17//NONSGML v1.0//EN
CALSCALE:GREGORIAN
METHOD:PUBLISH
X-ORIGINAL-URL:https://classicmotormuseum.org
X-WR-CALDESC:Events for Classic Motor Museum
REFRESH-INTERVAL;VALUE=DURATION:PT1H
X-Robots-Tag:noindex
X-PUBLISHED-TTL:PT1H
BEGIN:VTIMEZONE
TZID:America/New_York
BEGIN:DAYLIGHT
TZOFFSETFROM:-0500
TZOFFSETTO:-0400
TZNAME:EDT
DTSTART:20260308T070000
END:DAYLIGHT
BEGIN:STANDARD
TZOFFSETFROM:-0400
TZOFFSETTO:-0500
TZNAME:EST
DTSTART:20261101T060000
END:STANDARD
BEGIN:DAYLIGHT
TZOFFSETFROM:-0500
TZOFFSETTO:-0400
TZNAME:EDT
DTSTART:20270314T070000
END:DAYLIGHT
BEGIN:STANDARD
TZOFFSETFROM:-0400
TZOFFSETTO:-0500
TZNAME:EST
DTSTART:20271107T060000
END:STANDARD
BEGIN:DAYLIGHT
TZOFFSETFROM:-0500
TZOFFSETTO:-0400
TZNAME:EDT
DTSTART:20280312T070000
END:DAYLIGHT
BEGIN:STANDARD
TZOFFSETFROM:-0400
TZOFFSETTO:-0500
TZNAME:EST
DTSTART:20281105T060000
END:STANDARD
END:VTIMEZONE
BEGIN:VEVENT
DTSTART;TZID=America/New_York:20270502T110000
DTEND;TZID=America/New_York:20270502T150000
DTSTAMP:20260423T074144
CREATED:20260105T190519Z
LAST-MODIFIED:20260105T190519Z
UID:10000698-1809255600-1809270000@classicmotormuseum.org
SUMMARY:The Exhibit Barn
DESCRIPTION:General Admission Required for Entry. Members and children under 6 are always free!
URL:https://classicmotormuseum.org/event/the-exhibit-barn-51/2027-05-02/
END:VEVENT
BEGIN:VEVENT
DTSTART;TZID=America/New_York:20270507T110000
DTEND;TZID=America/New_York:20270507T150000
DTSTAMP:20260423T074144
CREATED:20260105T190244Z
LAST-MODIFIED:20260105T190421Z
UID:10000175-1809687600-1809702000@classicmotormuseum.org
SUMMARY:The Exhibit Barn
DESCRIPTION:General Admission Required for Entry. Members and children under 6 are always free!
URL:https://classicmotormuseum.org/event/the-event-barn/2027-05-07/
END:VEVENT
BEGIN:VEVENT
DTSTART;TZID=America/New_York:20270508T090000
DTEND;TZID=America/New_York:20270508T160000
DTSTAMP:20260423T074144
CREATED:20260105T190346Z
LAST-MODIFIED:20260105T190428Z
UID:10000437-1809766800-1809792000@classicmotormuseum.org
SUMMARY:The Exhibit Barn
DESCRIPTION:General Admission Required for Entry. Members and children under 6 are always free!
URL:https://classicmotormuseum.org/event/the-event-barn-2/2027-05-08/
END:VEVENT
BEGIN:VEVENT
DTSTART;TZID=America/New_York:20270509T110000
DTEND;TZID=America/New_York:20270509T150000
DTSTAMP:20260423T074144
CREATED:20260105T190519Z
LAST-MODIFIED:20260105T190519Z
UID:10000699-1809860400-1809874800@classicmotormuseum.org
SUMMARY:The Exhibit Barn
DESCRIPTION:General Admission Required for Entry. Members and children under 6 are always free!
URL:https://classicmotormuseum.org/event/the-exhibit-barn-51/2027-05-09/
END:VEVENT
BEGIN:VEVENT
DTSTART;TZID=America/New_York:20270514T110000
DTEND;TZID=America/New_York:20270514T150000
DTSTAMP:20260423T074144
CREATED:20260105T190244Z
LAST-MODIFIED:20260105T190421Z
UID:10000176-1810292400-1810306800@classicmotormuseum.org
SUMMARY:The Exhibit Barn
DESCRIPTION:General Admission Required for Entry. Members and children under 6 are always free!
URL:https://classicmotormuseum.org/event/the-event-barn/2027-05-14/
END:VEVENT
BEGIN:VEVENT
DTSTART;TZID=America/New_York:20270515T090000
DTEND;TZID=America/New_York:20270515T160000
DTSTAMP:20260423T074144
CREATED:20260105T190346Z
LAST-MODIFIED:20260105T190428Z
UID:10000438-1810371600-1810396800@classicmotormuseum.org
SUMMARY:The Exhibit Barn
DESCRIPTION:General Admission Required for Entry. Members and children under 6 are always free!
URL:https://classicmotormuseum.org/event/the-event-barn-2/2027-05-15/
END:VEVENT
BEGIN:VEVENT
DTSTART;TZID=America/New_York:20270516T110000
DTEND;TZID=America/New_York:20270516T150000
DTSTAMP:20260423T074144
CREATED:20260105T190519Z
LAST-MODIFIED:20260105T190519Z
UID:10000700-1810465200-1810479600@classicmotormuseum.org
SUMMARY:The Exhibit Barn
DESCRIPTION:General Admission Required for Entry. Members and children under 6 are always free!
URL:https://classicmotormuseum.org/event/the-exhibit-barn-51/2027-05-16/
END:VEVENT
BEGIN:VEVENT
DTSTART;TZID=America/New_York:20270521T110000
DTEND;TZID=America/New_York:20270521T150000
DTSTAMP:20260423T074144
CREATED:20260105T190244Z
LAST-MODIFIED:20260105T190421Z
UID:10000177-1810897200-1810911600@classicmotormuseum.org
SUMMARY:The Exhibit Barn
DESCRIPTION:General Admission Required for Entry. Members and children under 6 are always free!
URL:https://classicmotormuseum.org/event/the-event-barn/2027-05-21/
END:VEVENT
BEGIN:VEVENT
DTSTART;TZID=America/New_York:20270522T090000
DTEND;TZID=America/New_York:20270522T160000
DTSTAMP:20260423T074144
CREATED:20260105T190346Z
LAST-MODIFIED:20260105T190428Z
UID:10000439-1810976400-1811001600@classicmotormuseum.org
SUMMARY:The Exhibit Barn
DESCRIPTION:General Admission Required for Entry. Members and children under 6 are always free!
URL:https://classicmotormuseum.org/event/the-event-barn-2/2027-05-22/
END:VEVENT
BEGIN:VEVENT
DTSTART;TZID=America/New_York:20270523T110000
DTEND;TZID=America/New_York:20270523T150000
DTSTAMP:20260423T074144
CREATED:20260105T190519Z
LAST-MODIFIED:20260105T190519Z
UID:10000701-1811070000-1811084400@classicmotormuseum.org
SUMMARY:The Exhibit Barn
DESCRIPTION:General Admission Required for Entry. Members and children under 6 are always free!
URL:https://classicmotormuseum.org/event/the-exhibit-barn-51/2027-05-23/
END:VEVENT
BEGIN:VEVENT
DTSTART;TZID=America/New_York:20270528T110000
DTEND;TZID=America/New_York:20270528T150000
DTSTAMP:20260423T074144
CREATED:20260105T190244Z
LAST-MODIFIED:20260105T190421Z
UID:10000178-1811502000-1811516400@classicmotormuseum.org
SUMMARY:The Exhibit Barn
DESCRIPTION:General Admission Required for Entry. Members and children under 6 are always free!
URL:https://classicmotormuseum.org/event/the-event-barn/2027-05-28/
END:VEVENT
BEGIN:VEVENT
DTSTART;TZID=America/New_York:20270529T090000
DTEND;TZID=America/New_York:20270529T160000
DTSTAMP:20260423T074144
CREATED:20260105T190346Z
LAST-MODIFIED:20260105T190428Z
UID:10000440-1811581200-1811606400@classicmotormuseum.org
SUMMARY:The Exhibit Barn
DESCRIPTION:General Admission Required for Entry. Members and children under 6 are always free!
URL:https://classicmotormuseum.org/event/the-event-barn-2/2027-05-29/
END:VEVENT
BEGIN:VEVENT
DTSTART;TZID=America/New_York:20270530T110000
DTEND;TZID=America/New_York:20270530T150000
DTSTAMP:20260423T074144
CREATED:20260105T190519Z
LAST-MODIFIED:20260105T190519Z
UID:10000702-1811674800-1811689200@classicmotormuseum.org
SUMMARY:The Exhibit Barn
DESCRIPTION:General Admission Required for Entry. Members and children under 6 are always free!
URL:https://classicmotormuseum.org/event/the-exhibit-barn-51/2027-05-30/
END:VEVENT
BEGIN:VEVENT
DTSTART;TZID=America/New_York:20270604T110000
DTEND;TZID=America/New_York:20270604T150000
DTSTAMP:20260423T074144
CREATED:20260105T190244Z
LAST-MODIFIED:20260105T190421Z
UID:10000179-1812106800-1812121200@classicmotormuseum.org
SUMMARY:The Exhibit Barn
DESCRIPTION:General Admission Required for Entry. Members and children under 6 are always free!
URL:https://classicmotormuseum.org/event/the-event-barn/2027-06-04/
END:VEVENT
BEGIN:VEVENT
DTSTART;TZID=America/New_York:20270605T090000
DTEND;TZID=America/New_York:20270605T160000
DTSTAMP:20260423T074144
CREATED:20260105T190346Z
LAST-MODIFIED:20260105T190428Z
UID:10000441-1812186000-1812211200@classicmotormuseum.org
SUMMARY:The Exhibit Barn
DESCRIPTION:General Admission Required for Entry. Members and children under 6 are always free!
URL:https://classicmotormuseum.org/event/the-event-barn-2/2027-06-05/
END:VEVENT
BEGIN:VEVENT
DTSTART;TZID=America/New_York:20270606T110000
DTEND;TZID=America/New_York:20270606T150000
DTSTAMP:20260423T074144
CREATED:20260105T190519Z
LAST-MODIFIED:20260105T190519Z
UID:10000703-1812279600-1812294000@classicmotormuseum.org
SUMMARY:The Exhibit Barn
DESCRIPTION:General Admission Required for Entry. Members and children under 6 are always free!
URL:https://classicmotormuseum.org/event/the-exhibit-barn-51/2027-06-06/
END:VEVENT
BEGIN:VEVENT
DTSTART;TZID=America/New_York:20270611T110000
DTEND;TZID=America/New_York:20270611T150000
DTSTAMP:20260423T074144
CREATED:20260105T190244Z
LAST-MODIFIED:20260105T190421Z
UID:10000180-1812711600-1812726000@classicmotormuseum.org
SUMMARY:The Exhibit Barn
DESCRIPTION:General Admission Required for Entry. Members and children under 6 are always free!
URL:https://classicmotormuseum.org/event/the-event-barn/2027-06-11/
END:VEVENT
BEGIN:VEVENT
DTSTART;TZID=America/New_York:20270612T090000
DTEND;TZID=America/New_York:20270612T160000
DTSTAMP:20260423T074144
CREATED:20260105T190346Z
LAST-MODIFIED:20260105T190428Z
UID:10000442-1812790800-1812816000@classicmotormuseum.org
SUMMARY:The Exhibit Barn
DESCRIPTION:General Admission Required for Entry. Members and children under 6 are always free!
URL:https://classicmotormuseum.org/event/the-event-barn-2/2027-06-12/
END:VEVENT
BEGIN:VEVENT
DTSTART;TZID=America/New_York:20270613T110000
DTEND;TZID=America/New_York:20270613T150000
DTSTAMP:20260423T074144
CREATED:20260105T190519Z
LAST-MODIFIED:20260105T190519Z
UID:10000704-1812884400-1812898800@classicmotormuseum.org
SUMMARY:The Exhibit Barn
DESCRIPTION:General Admission Required for Entry. Members and children under 6 are always free!
URL:https://classicmotormuseum.org/event/the-exhibit-barn-51/2027-06-13/
END:VEVENT
BEGIN:VEVENT
DTSTART;TZID=America/New_York:20270618T110000
DTEND;TZID=America/New_York:20270618T150000
DTSTAMP:20260423T074144
CREATED:20260105T190244Z
LAST-MODIFIED:20260105T190421Z
UID:10000181-1813316400-1813330800@classicmotormuseum.org
SUMMARY:The Exhibit Barn
DESCRIPTION:General Admission Required for Entry. Members and children under 6 are always free!
URL:https://classicmotormuseum.org/event/the-event-barn/2027-06-18/
END:VEVENT
BEGIN:VEVENT
DTSTART;TZID=America/New_York:20270619T090000
DTEND;TZID=America/New_York:20270619T160000
DTSTAMP:20260423T074144
CREATED:20260105T190346Z
LAST-MODIFIED:20260105T190428Z
UID:10000443-1813395600-1813420800@classicmotormuseum.org
SUMMARY:The Exhibit Barn
DESCRIPTION:General Admission Required for Entry. Members and children under 6 are always free!
URL:https://classicmotormuseum.org/event/the-event-barn-2/2027-06-19/
END:VEVENT
BEGIN:VEVENT
DTSTART;TZID=America/New_York:20270620T110000
DTEND;TZID=America/New_York:20270620T150000
DTSTAMP:20260423T074144
CREATED:20260105T190519Z
LAST-MODIFIED:20260105T190519Z
UID:10000705-1813489200-1813503600@classicmotormuseum.org
SUMMARY:The Exhibit Barn
DESCRIPTION:General Admission Required for Entry. Members and children under 6 are always free!
URL:https://classicmotormuseum.org/event/the-exhibit-barn-51/2027-06-20/
END:VEVENT
BEGIN:VEVENT
DTSTART;TZID=America/New_York:20270625T110000
DTEND;TZID=America/New_York:20270625T150000
DTSTAMP:20260423T074144
CREATED:20260105T190244Z
LAST-MODIFIED:20260105T190421Z
UID:10000182-1813921200-1813935600@classicmotormuseum.org
SUMMARY:The Exhibit Barn
DESCRIPTION:General Admission Required for Entry. Members and children under 6 are always free!
URL:https://classicmotormuseum.org/event/the-event-barn/2027-06-25/
END:VEVENT
BEGIN:VEVENT
DTSTART;TZID=America/New_York:20270626T090000
DTEND;TZID=America/New_York:20270626T160000
DTSTAMP:20260423T074144
CREATED:20260105T190346Z
LAST-MODIFIED:20260105T190428Z
UID:10000444-1814000400-1814025600@classicmotormuseum.org
SUMMARY:The Exhibit Barn
DESCRIPTION:General Admission Required for Entry. Members and children under 6 are always free!
URL:https://classicmotormuseum.org/event/the-event-barn-2/2027-06-26/
END:VEVENT
BEGIN:VEVENT
DTSTART;TZID=America/New_York:20270627T110000
DTEND;TZID=America/New_York:20270627T150000
DTSTAMP:20260423T074144
CREATED:20260105T190519Z
LAST-MODIFIED:20260105T190519Z
UID:10000706-1814094000-1814108400@classicmotormuseum.org
SUMMARY:The Exhibit Barn
DESCRIPTION:General Admission Required for Entry. Members and children under 6 are always free!
URL:https://classicmotormuseum.org/event/the-exhibit-barn-51/2027-06-27/
END:VEVENT
BEGIN:VEVENT
DTSTART;TZID=America/New_York:20270702T110000
DTEND;TZID=America/New_York:20270702T150000
DTSTAMP:20260423T074144
CREATED:20260105T190244Z
LAST-MODIFIED:20260105T190421Z
UID:10000183-1814526000-1814540400@classicmotormuseum.org
SUMMARY:The Exhibit Barn
DESCRIPTION:General Admission Required for Entry. Members and children under 6 are always free!
URL:https://classicmotormuseum.org/event/the-event-barn/2027-07-02/
END:VEVENT
BEGIN:VEVENT
DTSTART;TZID=America/New_York:20270703T090000
DTEND;TZID=America/New_York:20270703T160000
DTSTAMP:20260423T074144
CREATED:20260105T190346Z
LAST-MODIFIED:20260105T190428Z
UID:10000445-1814605200-1814630400@classicmotormuseum.org
SUMMARY:The Exhibit Barn
DESCRIPTION:General Admission Required for Entry. Members and children under 6 are always free!
URL:https://classicmotormuseum.org/event/the-event-barn-2/2027-07-03/
END:VEVENT
BEGIN:VEVENT
DTSTART;TZID=America/New_York:20270704T110000
DTEND;TZID=America/New_York:20270704T150000
DTSTAMP:20260423T074144
CREATED:20260105T190519Z
LAST-MODIFIED:20260105T190519Z
UID:10000707-1814698800-1814713200@classicmotormuseum.org
SUMMARY:The Exhibit Barn
DESCRIPTION:General Admission Required for Entry. Members and children under 6 are always free!
URL:https://classicmotormuseum.org/event/the-exhibit-barn-51/2027-07-04/
END:VEVENT
BEGIN:VEVENT
DTSTART;TZID=America/New_York:20270709T110000
DTEND;TZID=America/New_York:20270709T150000
DTSTAMP:20260423T074144
CREATED:20260105T190244Z
LAST-MODIFIED:20260105T190421Z
UID:10000184-1815130800-1815145200@classicmotormuseum.org
SUMMARY:The Exhibit Barn
DESCRIPTION:General Admission Required for Entry. Members and children under 6 are always free!
URL:https://classicmotormuseum.org/event/the-event-barn/2027-07-09/
END:VEVENT
BEGIN:VEVENT
DTSTART;TZID=America/New_York:20270710T090000
DTEND;TZID=America/New_York:20270710T160000
DTSTAMP:20260423T074144
CREATED:20260105T190346Z
LAST-MODIFIED:20260105T190428Z
UID:10000446-1815210000-1815235200@classicmotormuseum.org
SUMMARY:The Exhibit Barn
DESCRIPTION:General Admission Required for Entry. Members and children under 6 are always free!
URL:https://classicmotormuseum.org/event/the-event-barn-2/2027-07-10/
END:VEVENT
END:VCALENDAR