BEGIN:VCALENDAR
VERSION:2.0
PRODID:-//Classic Motor Museum - ECPv6.15.17//NONSGML v1.0//EN
CALSCALE:GREGORIAN
METHOD:PUBLISH
X-WR-CALNAME:Classic Motor Museum
X-ORIGINAL-URL:https://classicmotormuseum.org
X-WR-CALDESC:Events for Classic Motor Museum
REFRESH-INTERVAL;VALUE=DURATION:PT1H
X-Robots-Tag:noindex
X-PUBLISHED-TTL:PT1H
BEGIN:VTIMEZONE
TZID:America/New_York
BEGIN:DAYLIGHT
TZOFFSETFROM:-0500
TZOFFSETTO:-0400
TZNAME:EDT
DTSTART:20240310T070000
END:DAYLIGHT
BEGIN:STANDARD
TZOFFSETFROM:-0400
TZOFFSETTO:-0500
TZNAME:EST
DTSTART:20241103T060000
END:STANDARD
BEGIN:DAYLIGHT
TZOFFSETFROM:-0500
TZOFFSETTO:-0400
TZNAME:EDT
DTSTART:20250309T070000
END:DAYLIGHT
BEGIN:STANDARD
TZOFFSETFROM:-0400
TZOFFSETTO:-0500
TZNAME:EST
DTSTART:20251102T060000
END:STANDARD
BEGIN:DAYLIGHT
TZOFFSETFROM:-0500
TZOFFSETTO:-0400
TZNAME:EDT
DTSTART:20260308T070000
END:DAYLIGHT
BEGIN:STANDARD
TZOFFSETFROM:-0400
TZOFFSETTO:-0500
TZNAME:EST
DTSTART:20261101T060000
END:STANDARD
END:VTIMEZONE
BEGIN:VEVENT
DTSTART;TZID=America/New_York:20250830T090000
DTEND;TZID=America/New_York:20250830T160000
DTSTAMP:20260423T043508
CREATED:20250608T205510Z
LAST-MODIFIED:20250608T205510Z
UID:10000053-1756544400-1756569600@classicmotormuseum.org
SUMMARY:The Exhibit Barn
DESCRIPTION:General Admission Required for Entry. Members and children under 6 are always free!
URL:https://classicmotormuseum.org/event/the-exhibit-barn-9/
END:VEVENT
BEGIN:VEVENT
DTSTART;TZID=America/New_York:20250829T110000
DTEND;TZID=America/New_York:20250829T150000
DTSTAMP:20260423T043508
CREATED:20250608T205530Z
LAST-MODIFIED:20250608T205530Z
UID:10000054-1756465200-1756479600@classicmotormuseum.org
SUMMARY:The Exhibit Barn
DESCRIPTION:General Admission Required for Entry. Members and children under 6 are always free!
URL:https://classicmotormuseum.org/event/the-exhibit-barn-10/
END:VEVENT
BEGIN:VEVENT
DTSTART;TZID=America/New_York:20250824T110000
DTEND;TZID=America/New_York:20250824T150000
DTSTAMP:20260423T043508
CREATED:20250608T204837Z
LAST-MODIFIED:20250608T204837Z
UID:10000043-1756033200-1756047600@classicmotormuseum.org
SUMMARY:The Exhibit Barn
DESCRIPTION:General Admission Required for Entry. Members and children under 6 are always free!
URL:https://classicmotormuseum.org/event/the-exhibit-barn-8/
END:VEVENT
BEGIN:VEVENT
DTSTART;TZID=America/New_York:20250823T090000
DTEND;TZID=America/New_York:20250823T160000
DTSTAMP:20260423T043508
CREATED:20250608T204813Z
LAST-MODIFIED:20250608T204813Z
UID:10000042-1755939600-1755964800@classicmotormuseum.org
SUMMARY:The Exhibit Barn
DESCRIPTION:General Admission Required for Entry. Members and children under 6 are always free!
URL:https://classicmotormuseum.org/event/the-exhibit-barn-7/
END:VEVENT
BEGIN:VEVENT
DTSTART;TZID=America/New_York:20250823T090000
DTEND;TZID=America/New_York:20250823T110000
DTSTAMP:20260423T043508
CREATED:20250608T205055Z
LAST-MODIFIED:20250608T205055Z
UID:10000046-1755939600-1755946800@classicmotormuseum.org
SUMMARY:Cars & Coffee
DESCRIPTION:Join us for our weekly pop-up car show!
URL:https://classicmotormuseum.org/event/cars-coffee-8/
END:VEVENT
BEGIN:VEVENT
DTSTART;TZID=America/New_York:20250822T110000
DTEND;TZID=America/New_York:20250822T150000
DTSTAMP:20260423T043508
CREATED:20250608T204757Z
LAST-MODIFIED:20250608T204757Z
UID:10000041-1755860400-1755874800@classicmotormuseum.org
SUMMARY:The Exhibit Barn
DESCRIPTION:General Admission Required for Entry. Members and children under 6 are always free!
URL:https://classicmotormuseum.org/event/the-exhibit-barn-6/
END:VEVENT
BEGIN:VEVENT
DTSTART;TZID=America/New_York:20250817T110000
DTEND;TZID=America/New_York:20250817T150000
DTSTAMP:20260423T043508
CREATED:20250608T204718Z
LAST-MODIFIED:20250608T204718Z
UID:10000040-1755428400-1755442800@classicmotormuseum.org
SUMMARY:The Exhibit Barn
DESCRIPTION:General Admission Required for Entry. Members and children under 6 are always free!
URL:https://classicmotormuseum.org/event/the-exhibit-barn-5/
END:VEVENT
BEGIN:VEVENT
DTSTART;TZID=America/New_York:20250816T090000
DTEND;TZID=America/New_York:20250816T160000
DTSTAMP:20260423T043508
CREATED:20250608T204654Z
LAST-MODIFIED:20250608T204654Z
UID:10000039-1755334800-1755360000@classicmotormuseum.org
SUMMARY:The Exhibit Barn
DESCRIPTION:General Admission Required for Entry. Members and children under 6 are always free!
URL:https://classicmotormuseum.org/event/the-exhibit-barn-4/
END:VEVENT
BEGIN:VEVENT
DTSTART;TZID=America/New_York:20250816T090000
DTEND;TZID=America/New_York:20250816T110000
DTSTAMP:20260423T043508
CREATED:20250608T205020Z
LAST-MODIFIED:20250608T205029Z
UID:10000045-1755334800-1755342000@classicmotormuseum.org
SUMMARY:Cars & Coffee
DESCRIPTION:Join us for our weekly pop-up car show!
URL:https://classicmotormuseum.org/event/cars-coffee-7/
END:VEVENT
BEGIN:VEVENT
DTSTART;TZID=America/New_York:20250815T110000
DTEND;TZID=America/New_York:20250815T150000
DTSTAMP:20260423T043508
CREATED:20250608T204635Z
LAST-MODIFIED:20250608T204635Z
UID:10000038-1755255600-1755270000@classicmotormuseum.org
SUMMARY:The Exhibit Barn
DESCRIPTION:General Admission Required for Entry. Members and children under 6 are always free!
URL:https://classicmotormuseum.org/event/the-exhibit-barn-3/
END:VEVENT
BEGIN:VEVENT
DTSTART;TZID=America/New_York:20250810T110000
DTEND;TZID=America/New_York:20250810T150000
DTSTAMP:20260423T043508
CREATED:20250608T204559Z
LAST-MODIFIED:20250608T204559Z
UID:10000037-1754823600-1754838000@classicmotormuseum.org
SUMMARY:The Exhibit Barn
DESCRIPTION:General Admission Required for Entry. Members and children under 6 are always free!
URL:https://classicmotormuseum.org/event/the-exhibit-barn-2/
END:VEVENT
BEGIN:VEVENT
DTSTART;TZID=America/New_York:20250809T090000
DTEND;TZID=America/New_York:20250809T160000
DTSTAMP:20260423T043508
CREATED:20250608T204535Z
LAST-MODIFIED:20250608T204535Z
UID:10000036-1754730000-1754755200@classicmotormuseum.org
SUMMARY:The Exhibit Barn
DESCRIPTION:General Admission Required for Entry. Members and children under 6 are always free!
URL:https://classicmotormuseum.org/event/the-exhibit-barn/
END:VEVENT
BEGIN:VEVENT
DTSTART;TZID=America/New_York:20250809T090000
DTEND;TZID=America/New_York:20250809T110000
DTSTAMP:20260423T043508
CREATED:20250608T203056Z
LAST-MODIFIED:20250608T203056Z
UID:10000026-1754730000-1754737200@classicmotormuseum.org
SUMMARY:Cars & Coffee: Muscles & Mustangs
DESCRIPTION:Join us for a themed Cars & Coffee event: Muscles & Mustangs!
URL:https://classicmotormuseum.org/event/cars-coffee-muscles-mustangs/
END:VEVENT
BEGIN:VEVENT
DTSTART;TZID=America/New_York:20250808T110000
DTEND;TZID=America/New_York:20250808T150000
DTSTAMP:20260423T043508
CREATED:20250608T203847Z
LAST-MODIFIED:20250608T204418Z
UID:10000035-1754650800-1754665200@classicmotormuseum.org
SUMMARY:The Exhibit Barn
DESCRIPTION:General Admission Required for Entry. Members and children under 6 are always free!
URL:https://classicmotormuseum.org/event/museum-open-22/
END:VEVENT
BEGIN:VEVENT
DTSTART;TZID=America/New_York:20250803T110000
DTEND;TZID=America/New_York:20250803T150000
DTSTAMP:20260423T043508
CREATED:20250608T203725Z
LAST-MODIFIED:20250608T204412Z
UID:10000034-1754218800-1754233200@classicmotormuseum.org
SUMMARY:The Exhibit Barn
DESCRIPTION:General Admission Required for Entry. Members and children under 6 are always free!
URL:https://classicmotormuseum.org/event/museum-open-21/
END:VEVENT
BEGIN:VEVENT
DTSTART;TZID=America/New_York:20250802T090000
DTEND;TZID=America/New_York:20250802T160000
DTSTAMP:20260423T043508
CREATED:20250608T203701Z
LAST-MODIFIED:20250608T204407Z
UID:10000033-1754125200-1754150400@classicmotormuseum.org
SUMMARY:The Exhibit Barn
DESCRIPTION:General Admission Required for Entry. Members and children under 6 are always free!
URL:https://classicmotormuseum.org/event/museum-open-20/
END:VEVENT
BEGIN:VEVENT
DTSTART;TZID=America/New_York:20250802T090000
DTEND;TZID=America/New_York:20250802T110000
DTSTAMP:20260423T043508
CREATED:20250608T205004Z
LAST-MODIFIED:20250608T205004Z
UID:10000044-1754125200-1754132400@classicmotormuseum.org
SUMMARY:Cars & Coffee
DESCRIPTION:Join us for our weekly pop-up car show!
URL:https://classicmotormuseum.org/event/cars-coffee-6/
END:VEVENT
BEGIN:VEVENT
DTSTART;TZID=America/New_York:20250801T110000
DTEND;TZID=America/New_York:20250801T150000
DTSTAMP:20260423T043508
CREATED:20250608T203643Z
LAST-MODIFIED:20250608T204404Z
UID:10000032-1754046000-1754060400@classicmotormuseum.org
SUMMARY:The Exhibit Barn
DESCRIPTION:General Admission Required for Entry. Members and children under 6 are always free!
URL:https://classicmotormuseum.org/event/museum-open-19/
END:VEVENT
BEGIN:VEVENT
DTSTART;TZID=America/New_York:20250727T110000
DTEND;TZID=America/New_York:20250727T150000
DTSTAMP:20260423T043508
CREATED:20250608T202935Z
LAST-MODIFIED:20250608T204401Z
UID:10000024-1753614000-1753628400@classicmotormuseum.org
SUMMARY:The Exhibit Barn
DESCRIPTION:General Admission Required for Entry. Members and children under 6 are always free!
URL:https://classicmotormuseum.org/event/museum-open-18/
END:VEVENT
BEGIN:VEVENT
DTSTART;TZID=America/New_York:20250726T090000
DTEND;TZID=America/New_York:20250726T160000
DTSTAMP:20260423T043508
CREATED:20250608T202918Z
LAST-MODIFIED:20250608T204359Z
UID:10000023-1753520400-1753545600@classicmotormuseum.org
SUMMARY:The Exhibit Barn
DESCRIPTION:General Admission Required for Entry. Members and children under 6 are always free!
URL:https://classicmotormuseum.org/event/museum-open-17/
END:VEVENT
BEGIN:VEVENT
DTSTART;TZID=America/New_York:20250726T090000
DTEND;TZID=America/New_York:20250726T110000
DTSTAMP:20260423T043508
CREATED:20250608T202959Z
LAST-MODIFIED:20250608T203807Z
UID:10000025-1753520400-1753527600@classicmotormuseum.org
SUMMARY:Cars & Coffee
DESCRIPTION:Join us for our weekly pop-up car show!
URL:https://classicmotormuseum.org/event/cars-coffee-5/
END:VEVENT
BEGIN:VEVENT
DTSTART;TZID=America/New_York:20250725T110000
DTEND;TZID=America/New_York:20250725T150000
DTSTAMP:20260423T043508
CREATED:20250608T202858Z
LAST-MODIFIED:20250608T204355Z
UID:10000022-1753441200-1753455600@classicmotormuseum.org
SUMMARY:The Exhibit Barn
DESCRIPTION:General Admission Required for Entry. Members and children under 6 are always free!
URL:https://classicmotormuseum.org/event/museum-open-16/
END:VEVENT
BEGIN:VEVENT
DTSTART;TZID=America/New_York:20250720T110000
DTEND;TZID=America/New_York:20250720T150000
DTSTAMP:20260423T043508
CREATED:20250608T202819Z
LAST-MODIFIED:20250608T204352Z
UID:10000021-1753009200-1753023600@classicmotormuseum.org
SUMMARY:The Exhibit Barn
DESCRIPTION:General Admission Required for Entry. Members and children under 6 are always free!
URL:https://classicmotormuseum.org/event/museum-open-15/
END:VEVENT
BEGIN:VEVENT
DTSTART;TZID=America/New_York:20250719T090000
DTEND;TZID=America/New_York:20250719T160000
DTSTAMP:20260423T043508
CREATED:20250608T202716Z
LAST-MODIFIED:20250608T204349Z
UID:10000019-1752915600-1752940800@classicmotormuseum.org
SUMMARY:The Exhibit Barn
DESCRIPTION:General Admission Required for Entry. Members and children under 6 are always free!
URL:https://classicmotormuseum.org/event/museum-open-14/
END:VEVENT
BEGIN:VEVENT
DTSTART;TZID=America/New_York:20250719T090000
DTEND;TZID=America/New_York:20250719T110000
DTSTAMP:20260423T043508
CREATED:20250608T202739Z
LAST-MODIFIED:20250608T202739Z
UID:10000020-1752915600-1752922800@classicmotormuseum.org
SUMMARY:Cars & Coffee
DESCRIPTION:Join us for our weekly pop-up car show!
URL:https://classicmotormuseum.org/event/cars-coffee-4/
END:VEVENT
BEGIN:VEVENT
DTSTART;TZID=America/New_York:20250718T110000
DTEND;TZID=America/New_York:20250718T150000
DTSTAMP:20260423T043508
CREATED:20250608T202657Z
LAST-MODIFIED:20250608T204347Z
UID:10000018-1752836400-1752850800@classicmotormuseum.org
SUMMARY:The Exhibit Barn
DESCRIPTION:General Admission Required for Entry. Members and children under 6 are always free!
URL:https://classicmotormuseum.org/event/museum-open-13/
END:VEVENT
BEGIN:VEVENT
DTSTART;TZID=America/New_York:20250713T110000
DTEND;TZID=America/New_York:20250713T150000
DTSTAMP:20260423T043508
CREATED:20250608T202544Z
LAST-MODIFIED:20250608T204343Z
UID:10000017-1752404400-1752418800@classicmotormuseum.org
SUMMARY:The Exhibit Barn
DESCRIPTION:General Admission Required for Entry. Members and children under 6 are always free!
URL:https://classicmotormuseum.org/event/museum-open-12/
END:VEVENT
BEGIN:VEVENT
DTSTART;TZID=America/New_York:20250712T090000
DTEND;TZID=America/New_York:20250712T160000
DTSTAMP:20260423T043508
CREATED:20250608T202518Z
LAST-MODIFIED:20250608T202518Z
UID:10000016-1752310800-1752336000@classicmotormuseum.org
SUMMARY:Cars & Coffee: European Invasion
DESCRIPTION:Join us for a themed Cars & Coffee event: European Invasion!
URL:https://classicmotormuseum.org/event/cars-coffee-european-invasion/
END:VEVENT
BEGIN:VEVENT
DTSTART;TZID=America/New_York:20250712T090000
DTEND;TZID=America/New_York:20250712T160000
DTSTAMP:20260423T043508
CREATED:20250608T202412Z
LAST-MODIFIED:20250608T204332Z
UID:10000015-1752310800-1752336000@classicmotormuseum.org
SUMMARY:The Exhibit Barn
DESCRIPTION:General Admission Required for Entry. Members and children under 6 are always free!
URL:https://classicmotormuseum.org/event/museum-open-11/
END:VEVENT
BEGIN:VEVENT
DTSTART;TZID=America/New_York:20250711T110000
DTEND;TZID=America/New_York:20250711T150000
DTSTAMP:20260423T043508
CREATED:20250608T201953Z
LAST-MODIFIED:20250608T204448Z
UID:10000014-1752231600-1752246000@classicmotormuseum.org
SUMMARY:The Exhibit Barn
DESCRIPTION:General Admission Required for Entry. Members and children under 6 are always free!
URL:https://classicmotormuseum.org/event/museum-open-10/
END:VEVENT
END:VCALENDAR