BEGIN:VCALENDAR
VERSION:2.0
PRODID:-//Classic Motor Museum - ECPv6.15.17//NONSGML v1.0//EN
CALSCALE:GREGORIAN
METHOD:PUBLISH
X-ORIGINAL-URL:https://classicmotormuseum.org
X-WR-CALDESC:Events for Classic Motor Museum
REFRESH-INTERVAL;VALUE=DURATION:PT1H
X-Robots-Tag:noindex
X-PUBLISHED-TTL:PT1H
BEGIN:VTIMEZONE
TZID:America/New_York
BEGIN:DAYLIGHT
TZOFFSETFROM:-0500
TZOFFSETTO:-0400
TZNAME:EDT
DTSTART:20250309T070000
END:DAYLIGHT
BEGIN:STANDARD
TZOFFSETFROM:-0400
TZOFFSETTO:-0500
TZNAME:EST
DTSTART:20251102T060000
END:STANDARD
BEGIN:DAYLIGHT
TZOFFSETFROM:-0500
TZOFFSETTO:-0400
TZNAME:EDT
DTSTART:20260308T070000
END:DAYLIGHT
BEGIN:STANDARD
TZOFFSETFROM:-0400
TZOFFSETTO:-0500
TZNAME:EST
DTSTART:20261101T060000
END:STANDARD
BEGIN:DAYLIGHT
TZOFFSETFROM:-0500
TZOFFSETTO:-0400
TZNAME:EDT
DTSTART:20270314T070000
END:DAYLIGHT
BEGIN:STANDARD
TZOFFSETFROM:-0400
TZOFFSETTO:-0500
TZNAME:EST
DTSTART:20271107T060000
END:STANDARD
END:VTIMEZONE
BEGIN:VEVENT
DTSTART;TZID=America/New_York:20260123T110000
DTEND;TZID=America/New_York:20260123T150000
DTSTAMP:20260422T174815
CREATED:20260105T190244Z
LAST-MODIFIED:20260105T190421Z
UID:10000108-1769166000-1769180400@classicmotormuseum.org
SUMMARY:The Exhibit Barn
DESCRIPTION:General Admission Required for Entry. Members and children under 6 are always free!
URL:https://classicmotormuseum.org/event/the-event-barn/2026-01-23/
END:VEVENT
BEGIN:VEVENT
DTSTART;TZID=America/New_York:20260124T090000
DTEND;TZID=America/New_York:20260124T110000
DTSTAMP:20260422T174815
CREATED:20260105T185745Z
LAST-MODIFIED:20260105T192155Z
UID:10000097-1769245200-1769252400@classicmotormuseum.org
SUMMARY:Coffee in the Barn
DESCRIPTION:Cars & Coffee has moved indoors for the winter. Join is in the Exhibit Barn for Coffee in the Barn!
URL:https://classicmotormuseum.org/event/coffee-in-the-barn/2026-01-24/
END:VEVENT
BEGIN:VEVENT
DTSTART;TZID=America/New_York:20260124T090000
DTEND;TZID=America/New_York:20260124T160000
DTSTAMP:20260422T174815
CREATED:20260105T190346Z
LAST-MODIFIED:20260105T190428Z
UID:10000370-1769245200-1769270400@classicmotormuseum.org
SUMMARY:The Exhibit Barn
DESCRIPTION:General Admission Required for Entry. Members and children under 6 are always free!
URL:https://classicmotormuseum.org/event/the-event-barn-2/2026-01-24/
END:VEVENT
BEGIN:VEVENT
DTSTART;TZID=America/New_York:20260125T110000
DTEND;TZID=America/New_York:20260125T150000
DTSTAMP:20260422T174815
CREATED:20260105T190519Z
LAST-MODIFIED:20260105T190519Z
UID:10000632-1769338800-1769353200@classicmotormuseum.org
SUMMARY:The Exhibit Barn
DESCRIPTION:General Admission Required for Entry. Members and children under 6 are always free!
URL:https://classicmotormuseum.org/event/the-exhibit-barn-51/2026-01-25/
END:VEVENT
BEGIN:VEVENT
DTSTART;TZID=America/New_York:20260130T110000
DTEND;TZID=America/New_York:20260130T150000
DTSTAMP:20260422T174815
CREATED:20260105T190244Z
LAST-MODIFIED:20260105T190421Z
UID:10000109-1769770800-1769785200@classicmotormuseum.org
SUMMARY:The Exhibit Barn
DESCRIPTION:General Admission Required for Entry. Members and children under 6 are always free!
URL:https://classicmotormuseum.org/event/the-event-barn/2026-01-30/
END:VEVENT
BEGIN:VEVENT
DTSTART;TZID=America/New_York:20260131T090000
DTEND;TZID=America/New_York:20260131T110000
DTSTAMP:20260422T174815
CREATED:20260105T185745Z
LAST-MODIFIED:20260105T192155Z
UID:10000098-1769850000-1769857200@classicmotormuseum.org
SUMMARY:Coffee in the Barn
DESCRIPTION:Cars & Coffee has moved indoors for the winter. Join is in the Exhibit Barn for Coffee in the Barn!
URL:https://classicmotormuseum.org/event/coffee-in-the-barn/2026-01-31/
END:VEVENT
BEGIN:VEVENT
DTSTART;TZID=America/New_York:20260131T090000
DTEND;TZID=America/New_York:20260131T160000
DTSTAMP:20260422T174815
CREATED:20260105T190346Z
LAST-MODIFIED:20260105T190428Z
UID:10000371-1769850000-1769875200@classicmotormuseum.org
SUMMARY:The Exhibit Barn
DESCRIPTION:General Admission Required for Entry. Members and children under 6 are always free!
URL:https://classicmotormuseum.org/event/the-event-barn-2/2026-01-31/
END:VEVENT
BEGIN:VEVENT
DTSTART;TZID=America/New_York:20260201T110000
DTEND;TZID=America/New_York:20260201T150000
DTSTAMP:20260422T174815
CREATED:20260105T190519Z
LAST-MODIFIED:20260105T190519Z
UID:10000633-1769943600-1769958000@classicmotormuseum.org
SUMMARY:The Exhibit Barn
DESCRIPTION:General Admission Required for Entry. Members and children under 6 are always free!
URL:https://classicmotormuseum.org/event/the-exhibit-barn-51/2026-02-01/
END:VEVENT
BEGIN:VEVENT
DTSTART;TZID=America/New_York:20260206T110000
DTEND;TZID=America/New_York:20260206T150000
DTSTAMP:20260422T174815
CREATED:20260105T190244Z
LAST-MODIFIED:20260105T190421Z
UID:10000110-1770375600-1770390000@classicmotormuseum.org
SUMMARY:The Exhibit Barn
DESCRIPTION:General Admission Required for Entry. Members and children under 6 are always free!
URL:https://classicmotormuseum.org/event/the-event-barn/2026-02-06/
END:VEVENT
BEGIN:VEVENT
DTSTART;TZID=America/New_York:20260207T090000
DTEND;TZID=America/New_York:20260207T110000
DTSTAMP:20260422T174815
CREATED:20260105T185745Z
LAST-MODIFIED:20260105T192155Z
UID:10000099-1770454800-1770462000@classicmotormuseum.org
SUMMARY:Coffee in the Barn
DESCRIPTION:Cars & Coffee has moved indoors for the winter. Join is in the Exhibit Barn for Coffee in the Barn!
URL:https://classicmotormuseum.org/event/coffee-in-the-barn/2026-02-07/
END:VEVENT
BEGIN:VEVENT
DTSTART;TZID=America/New_York:20260207T090000
DTEND;TZID=America/New_York:20260207T160000
DTSTAMP:20260422T174815
CREATED:20260105T190346Z
LAST-MODIFIED:20260105T190428Z
UID:10000372-1770454800-1770480000@classicmotormuseum.org
SUMMARY:The Exhibit Barn
DESCRIPTION:General Admission Required for Entry. Members and children under 6 are always free!
URL:https://classicmotormuseum.org/event/the-event-barn-2/2026-02-07/
END:VEVENT
BEGIN:VEVENT
DTSTART;TZID=America/New_York:20260208T110000
DTEND;TZID=America/New_York:20260208T150000
DTSTAMP:20260422T174815
CREATED:20260105T190519Z
LAST-MODIFIED:20260105T190519Z
UID:10000634-1770548400-1770562800@classicmotormuseum.org
SUMMARY:The Exhibit Barn
DESCRIPTION:General Admission Required for Entry. Members and children under 6 are always free!
URL:https://classicmotormuseum.org/event/the-exhibit-barn-51/2026-02-08/
END:VEVENT
BEGIN:VEVENT
DTSTART;TZID=America/New_York:20260213T110000
DTEND;TZID=America/New_York:20260213T150000
DTSTAMP:20260422T174815
CREATED:20260105T190244Z
LAST-MODIFIED:20260105T190421Z
UID:10000111-1770980400-1770994800@classicmotormuseum.org
SUMMARY:The Exhibit Barn
DESCRIPTION:General Admission Required for Entry. Members and children under 6 are always free!
URL:https://classicmotormuseum.org/event/the-event-barn/2026-02-13/
END:VEVENT
BEGIN:VEVENT
DTSTART;TZID=America/New_York:20260214T090000
DTEND;TZID=America/New_York:20260214T110000
DTSTAMP:20260422T174815
CREATED:20260105T185745Z
LAST-MODIFIED:20260105T192155Z
UID:10000100-1771059600-1771066800@classicmotormuseum.org
SUMMARY:Coffee in the Barn
DESCRIPTION:Cars & Coffee has moved indoors for the winter. Join is in the Exhibit Barn for Coffee in the Barn!
URL:https://classicmotormuseum.org/event/coffee-in-the-barn/2026-02-14/
END:VEVENT
BEGIN:VEVENT
DTSTART;TZID=America/New_York:20260214T090000
DTEND;TZID=America/New_York:20260214T160000
DTSTAMP:20260422T174815
CREATED:20260105T190346Z
LAST-MODIFIED:20260105T190428Z
UID:10000373-1771059600-1771084800@classicmotormuseum.org
SUMMARY:The Exhibit Barn
DESCRIPTION:General Admission Required for Entry. Members and children under 6 are always free!
URL:https://classicmotormuseum.org/event/the-event-barn-2/2026-02-14/
END:VEVENT
BEGIN:VEVENT
DTSTART;TZID=America/New_York:20260215T110000
DTEND;TZID=America/New_York:20260215T150000
DTSTAMP:20260422T174815
CREATED:20260105T190519Z
LAST-MODIFIED:20260105T190519Z
UID:10000635-1771153200-1771167600@classicmotormuseum.org
SUMMARY:The Exhibit Barn
DESCRIPTION:General Admission Required for Entry. Members and children under 6 are always free!
URL:https://classicmotormuseum.org/event/the-exhibit-barn-51/2026-02-15/
END:VEVENT
BEGIN:VEVENT
DTSTART;TZID=America/New_York:20260220T110000
DTEND;TZID=America/New_York:20260220T150000
DTSTAMP:20260422T174815
CREATED:20260105T190244Z
LAST-MODIFIED:20260105T190421Z
UID:10000112-1771585200-1771599600@classicmotormuseum.org
SUMMARY:The Exhibit Barn
DESCRIPTION:General Admission Required for Entry. Members and children under 6 are always free!
URL:https://classicmotormuseum.org/event/the-event-barn/2026-02-20/
END:VEVENT
BEGIN:VEVENT
DTSTART;TZID=America/New_York:20260221T090000
DTEND;TZID=America/New_York:20260221T110000
DTSTAMP:20260422T174815
CREATED:20260105T185745Z
LAST-MODIFIED:20260105T192155Z
UID:10000101-1771664400-1771671600@classicmotormuseum.org
SUMMARY:Coffee in the Barn
DESCRIPTION:Cars & Coffee has moved indoors for the winter. Join is in the Exhibit Barn for Coffee in the Barn!
URL:https://classicmotormuseum.org/event/coffee-in-the-barn/2026-02-21/
END:VEVENT
BEGIN:VEVENT
DTSTART;TZID=America/New_York:20260221T090000
DTEND;TZID=America/New_York:20260221T160000
DTSTAMP:20260422T174815
CREATED:20260105T190346Z
LAST-MODIFIED:20260105T190428Z
UID:10000374-1771664400-1771689600@classicmotormuseum.org
SUMMARY:The Exhibit Barn
DESCRIPTION:General Admission Required for Entry. Members and children under 6 are always free!
URL:https://classicmotormuseum.org/event/the-event-barn-2/2026-02-21/
END:VEVENT
BEGIN:VEVENT
DTSTART;TZID=America/New_York:20260222T110000
DTEND;TZID=America/New_York:20260222T150000
DTSTAMP:20260422T174815
CREATED:20260105T190519Z
LAST-MODIFIED:20260105T190519Z
UID:10000636-1771758000-1771772400@classicmotormuseum.org
SUMMARY:The Exhibit Barn
DESCRIPTION:General Admission Required for Entry. Members and children under 6 are always free!
URL:https://classicmotormuseum.org/event/the-exhibit-barn-51/2026-02-22/
END:VEVENT
BEGIN:VEVENT
DTSTART;TZID=America/New_York:20260227T110000
DTEND;TZID=America/New_York:20260227T150000
DTSTAMP:20260422T174815
CREATED:20260105T190244Z
LAST-MODIFIED:20260105T190421Z
UID:10000113-1772190000-1772204400@classicmotormuseum.org
SUMMARY:The Exhibit Barn
DESCRIPTION:General Admission Required for Entry. Members and children under 6 are always free!
URL:https://classicmotormuseum.org/event/the-event-barn/2026-02-27/
END:VEVENT
BEGIN:VEVENT
DTSTART;TZID=America/New_York:20260228T090000
DTEND;TZID=America/New_York:20260228T110000
DTSTAMP:20260422T174815
CREATED:20260105T185745Z
LAST-MODIFIED:20260105T192155Z
UID:10000102-1772269200-1772276400@classicmotormuseum.org
SUMMARY:Coffee in the Barn
DESCRIPTION:Cars & Coffee has moved indoors for the winter. Join is in the Exhibit Barn for Coffee in the Barn!
URL:https://classicmotormuseum.org/event/coffee-in-the-barn/2026-02-28/
END:VEVENT
BEGIN:VEVENT
DTSTART;TZID=America/New_York:20260228T090000
DTEND;TZID=America/New_York:20260228T160000
DTSTAMP:20260422T174815
CREATED:20260105T190346Z
LAST-MODIFIED:20260105T190428Z
UID:10000375-1772269200-1772294400@classicmotormuseum.org
SUMMARY:The Exhibit Barn
DESCRIPTION:General Admission Required for Entry. Members and children under 6 are always free!
URL:https://classicmotormuseum.org/event/the-event-barn-2/2026-02-28/
END:VEVENT
BEGIN:VEVENT
DTSTART;TZID=America/New_York:20260301T110000
DTEND;TZID=America/New_York:20260301T150000
DTSTAMP:20260422T174815
CREATED:20260105T190519Z
LAST-MODIFIED:20260105T190519Z
UID:10000637-1772362800-1772377200@classicmotormuseum.org
SUMMARY:The Exhibit Barn
DESCRIPTION:General Admission Required for Entry. Members and children under 6 are always free!
URL:https://classicmotormuseum.org/event/the-exhibit-barn-51/2026-03-01/
END:VEVENT
BEGIN:VEVENT
DTSTART;TZID=America/New_York:20260306T110000
DTEND;TZID=America/New_York:20260306T150000
DTSTAMP:20260422T174815
CREATED:20260105T190244Z
LAST-MODIFIED:20260105T190421Z
UID:10000114-1772794800-1772809200@classicmotormuseum.org
SUMMARY:The Exhibit Barn
DESCRIPTION:General Admission Required for Entry. Members and children under 6 are always free!
URL:https://classicmotormuseum.org/event/the-event-barn/2026-03-06/
END:VEVENT
BEGIN:VEVENT
DTSTART;TZID=America/New_York:20260307T090000
DTEND;TZID=America/New_York:20260307T110000
DTSTAMP:20260422T174815
CREATED:20260105T185745Z
LAST-MODIFIED:20260105T192155Z
UID:10000103-1772874000-1772881200@classicmotormuseum.org
SUMMARY:Coffee in the Barn
DESCRIPTION:Cars & Coffee has moved indoors for the winter. Join is in the Exhibit Barn for Coffee in the Barn!
URL:https://classicmotormuseum.org/event/coffee-in-the-barn/2026-03-07/
END:VEVENT
BEGIN:VEVENT
DTSTART;TZID=America/New_York:20260307T090000
DTEND;TZID=America/New_York:20260307T160000
DTSTAMP:20260422T174815
CREATED:20260105T190346Z
LAST-MODIFIED:20260105T190428Z
UID:10000376-1772874000-1772899200@classicmotormuseum.org
SUMMARY:The Exhibit Barn
DESCRIPTION:General Admission Required for Entry. Members and children under 6 are always free!
URL:https://classicmotormuseum.org/event/the-event-barn-2/2026-03-07/
END:VEVENT
BEGIN:VEVENT
DTSTART;TZID=America/New_York:20260308T110000
DTEND;TZID=America/New_York:20260308T150000
DTSTAMP:20260422T174815
CREATED:20260105T190519Z
LAST-MODIFIED:20260105T190519Z
UID:10000638-1772967600-1772982000@classicmotormuseum.org
SUMMARY:The Exhibit Barn
DESCRIPTION:General Admission Required for Entry. Members and children under 6 are always free!
URL:https://classicmotormuseum.org/event/the-exhibit-barn-51/2026-03-08/
END:VEVENT
BEGIN:VEVENT
DTSTART;TZID=America/New_York:20260313T110000
DTEND;TZID=America/New_York:20260313T150000
DTSTAMP:20260422T174815
CREATED:20260105T190244Z
LAST-MODIFIED:20260105T190421Z
UID:10000115-1773399600-1773414000@classicmotormuseum.org
SUMMARY:The Exhibit Barn
DESCRIPTION:General Admission Required for Entry. Members and children under 6 are always free!
URL:https://classicmotormuseum.org/event/the-event-barn/2026-03-13/
END:VEVENT
BEGIN:VEVENT
DTSTART;TZID=America/New_York:20260314T090000
DTEND;TZID=America/New_York:20260314T110000
DTSTAMP:20260422T174815
CREATED:20260105T185745Z
LAST-MODIFIED:20260105T192155Z
UID:10000104-1773478800-1773486000@classicmotormuseum.org
SUMMARY:Coffee in the Barn
DESCRIPTION:Cars & Coffee has moved indoors for the winter. Join is in the Exhibit Barn for Coffee in the Barn!
URL:https://classicmotormuseum.org/event/coffee-in-the-barn/2026-03-14/
END:VEVENT
END:VCALENDAR