BEGIN:VCALENDAR
VERSION:2.0
PRODID:-//Classic Motor Museum - ECPv6.15.17//NONSGML v1.0//EN
CALSCALE:GREGORIAN
METHOD:PUBLISH
X-WR-CALNAME:Classic Motor Museum
X-ORIGINAL-URL:https://classicmotormuseum.org
X-WR-CALDESC:Events for Classic Motor Museum
REFRESH-INTERVAL;VALUE=DURATION:PT1H
X-Robots-Tag:noindex
X-PUBLISHED-TTL:PT1H
BEGIN:VTIMEZONE
TZID:America/New_York
BEGIN:DAYLIGHT
TZOFFSETFROM:-0500
TZOFFSETTO:-0400
TZNAME:EDT
DTSTART:20250309T070000
END:DAYLIGHT
BEGIN:STANDARD
TZOFFSETFROM:-0400
TZOFFSETTO:-0500
TZNAME:EST
DTSTART:20251102T060000
END:STANDARD
BEGIN:DAYLIGHT
TZOFFSETFROM:-0500
TZOFFSETTO:-0400
TZNAME:EDT
DTSTART:20260308T070000
END:DAYLIGHT
BEGIN:STANDARD
TZOFFSETFROM:-0400
TZOFFSETTO:-0500
TZNAME:EST
DTSTART:20261101T060000
END:STANDARD
BEGIN:DAYLIGHT
TZOFFSETFROM:-0500
TZOFFSETTO:-0400
TZNAME:EDT
DTSTART:20270314T070000
END:DAYLIGHT
BEGIN:STANDARD
TZOFFSETFROM:-0400
TZOFFSETTO:-0500
TZNAME:EST
DTSTART:20271107T060000
END:STANDARD
END:VTIMEZONE
BEGIN:VEVENT
DTSTART;TZID=America/New_York:20260621T110000
DTEND;TZID=America/New_York:20260621T150000
DTSTAMP:20260422T175503
CREATED:20260105T190519Z
LAST-MODIFIED:20260105T190519Z
UID:10000653-1782039600-1782054000@classicmotormuseum.org
SUMMARY:The Exhibit Barn
DESCRIPTION:General Admission Required for Entry. Members and children under 6 are always free!
URL:https://classicmotormuseum.org/event/the-exhibit-barn-51/2026-06-21/
END:VEVENT
BEGIN:VEVENT
DTSTART;TZID=America/New_York:20260620T090000
DTEND;TZID=America/New_York:20260620T160000
DTSTAMP:20260422T175503
CREATED:20260105T190346Z
LAST-MODIFIED:20260105T190428Z
UID:10000391-1781946000-1781971200@classicmotormuseum.org
SUMMARY:The Exhibit Barn
DESCRIPTION:General Admission Required for Entry. Members and children under 6 are always free!
URL:https://classicmotormuseum.org/event/the-event-barn-2/2026-06-20/
END:VEVENT
BEGIN:VEVENT
DTSTART;TZID=America/New_York:20260619T110000
DTEND;TZID=America/New_York:20260619T150000
DTSTAMP:20260422T175503
CREATED:20260105T190244Z
LAST-MODIFIED:20260105T190421Z
UID:10000129-1781866800-1781881200@classicmotormuseum.org
SUMMARY:The Exhibit Barn
DESCRIPTION:General Admission Required for Entry. Members and children under 6 are always free!
URL:https://classicmotormuseum.org/event/the-event-barn/2026-06-19/
END:VEVENT
BEGIN:VEVENT
DTSTART;TZID=America/New_York:20260614T110000
DTEND;TZID=America/New_York:20260614T150000
DTSTAMP:20260422T175503
CREATED:20260105T190519Z
LAST-MODIFIED:20260105T190519Z
UID:10000652-1781434800-1781449200@classicmotormuseum.org
SUMMARY:The Exhibit Barn
DESCRIPTION:General Admission Required for Entry. Members and children under 6 are always free!
URL:https://classicmotormuseum.org/event/the-exhibit-barn-51/2026-06-14/
END:VEVENT
BEGIN:VEVENT
DTSTART;TZID=America/New_York:20260613T090000
DTEND;TZID=America/New_York:20260613T160000
DTSTAMP:20260422T175503
CREATED:20260105T190346Z
LAST-MODIFIED:20260105T190428Z
UID:10000390-1781341200-1781366400@classicmotormuseum.org
SUMMARY:The Exhibit Barn
DESCRIPTION:General Admission Required for Entry. Members and children under 6 are always free!
URL:https://classicmotormuseum.org/event/the-event-barn-2/2026-06-13/
END:VEVENT
BEGIN:VEVENT
DTSTART;TZID=America/New_York:20260612T110000
DTEND;TZID=America/New_York:20260612T150000
DTSTAMP:20260422T175503
CREATED:20260105T190244Z
LAST-MODIFIED:20260105T190421Z
UID:10000128-1781262000-1781276400@classicmotormuseum.org
SUMMARY:The Exhibit Barn
DESCRIPTION:General Admission Required for Entry. Members and children under 6 are always free!
URL:https://classicmotormuseum.org/event/the-event-barn/2026-06-12/
END:VEVENT
BEGIN:VEVENT
DTSTART;TZID=America/New_York:20260607T110000
DTEND;TZID=America/New_York:20260607T150000
DTSTAMP:20260422T175503
CREATED:20260105T190519Z
LAST-MODIFIED:20260105T190519Z
UID:10000651-1780830000-1780844400@classicmotormuseum.org
SUMMARY:The Exhibit Barn
DESCRIPTION:General Admission Required for Entry. Members and children under 6 are always free!
URL:https://classicmotormuseum.org/event/the-exhibit-barn-51/2026-06-07/
END:VEVENT
BEGIN:VEVENT
DTSTART;TZID=America/New_York:20260606T090000
DTEND;TZID=America/New_York:20260606T160000
DTSTAMP:20260422T175503
CREATED:20260105T190346Z
LAST-MODIFIED:20260105T190428Z
UID:10000389-1780736400-1780761600@classicmotormuseum.org
SUMMARY:The Exhibit Barn
DESCRIPTION:General Admission Required for Entry. Members and children under 6 are always free!
URL:https://classicmotormuseum.org/event/the-event-barn-2/2026-06-06/
END:VEVENT
BEGIN:VEVENT
DTSTART;TZID=America/New_York:20260605T110000
DTEND;TZID=America/New_York:20260605T150000
DTSTAMP:20260422T175504
CREATED:20260105T190244Z
LAST-MODIFIED:20260105T190421Z
UID:10000127-1780657200-1780671600@classicmotormuseum.org
SUMMARY:The Exhibit Barn
DESCRIPTION:General Admission Required for Entry. Members and children under 6 are always free!
URL:https://classicmotormuseum.org/event/the-event-barn/2026-06-05/
END:VEVENT
BEGIN:VEVENT
DTSTART;TZID=America/New_York:20260531T110000
DTEND;TZID=America/New_York:20260531T150000
DTSTAMP:20260422T175504
CREATED:20260105T190519Z
LAST-MODIFIED:20260105T190519Z
UID:10000650-1780225200-1780239600@classicmotormuseum.org
SUMMARY:The Exhibit Barn
DESCRIPTION:General Admission Required for Entry. Members and children under 6 are always free!
URL:https://classicmotormuseum.org/event/the-exhibit-barn-51/2026-05-31/
END:VEVENT
BEGIN:VEVENT
DTSTART;TZID=America/New_York:20260530T090000
DTEND;TZID=America/New_York:20260530T160000
DTSTAMP:20260422T175504
CREATED:20260105T190346Z
LAST-MODIFIED:20260105T190428Z
UID:10000388-1780131600-1780156800@classicmotormuseum.org
SUMMARY:The Exhibit Barn
DESCRIPTION:General Admission Required for Entry. Members and children under 6 are always free!
URL:https://classicmotormuseum.org/event/the-event-barn-2/2026-05-30/
END:VEVENT
BEGIN:VEVENT
DTSTART;TZID=America/New_York:20260529T110000
DTEND;TZID=America/New_York:20260529T150000
DTSTAMP:20260422T175504
CREATED:20260105T190244Z
LAST-MODIFIED:20260105T190421Z
UID:10000126-1780052400-1780066800@classicmotormuseum.org
SUMMARY:The Exhibit Barn
DESCRIPTION:General Admission Required for Entry. Members and children under 6 are always free!
URL:https://classicmotormuseum.org/event/the-event-barn/2026-05-29/
END:VEVENT
BEGIN:VEVENT
DTSTART;TZID=America/New_York:20260524T110000
DTEND;TZID=America/New_York:20260524T150000
DTSTAMP:20260422T175504
CREATED:20260105T190519Z
LAST-MODIFIED:20260105T190519Z
UID:10000649-1779620400-1779634800@classicmotormuseum.org
SUMMARY:The Exhibit Barn
DESCRIPTION:General Admission Required for Entry. Members and children under 6 are always free!
URL:https://classicmotormuseum.org/event/the-exhibit-barn-51/2026-05-24/
END:VEVENT
BEGIN:VEVENT
DTSTART;TZID=America/New_York:20260523T103000
DTEND;TZID=America/New_York:20260523T113000
DTSTAMP:20260422T175504
CREATED:20260320T170238Z
LAST-MODIFIED:20260320T170238Z
UID:10000891-1779532200-1779535800@classicmotormuseum.org
SUMMARY:Memorial Day Parade 2026
DESCRIPTION:Featuring over 50 exhibits including military and veteran groups\, and classic cars! The parade is in remembrance of those who gave the ultimate sacrifice for our freedoms and values.\nThe registration fee to enter your vehicle or exhibit is $50.00.\nCall 410-745-8979 or email: info@classicmotormuseum.org.
URL:https://classicmotormuseum.org/event/memorial-day-parade-2026/
END:VEVENT
BEGIN:VEVENT
DTSTART;TZID=America/New_York:20260523T090000
DTEND;TZID=America/New_York:20260523T160000
DTSTAMP:20260422T175504
CREATED:20260105T190346Z
LAST-MODIFIED:20260105T190428Z
UID:10000387-1779526800-1779552000@classicmotormuseum.org
SUMMARY:The Exhibit Barn
DESCRIPTION:General Admission Required for Entry. Members and children under 6 are always free!
URL:https://classicmotormuseum.org/event/the-event-barn-2/2026-05-23/
END:VEVENT
BEGIN:VEVENT
DTSTART;TZID=America/New_York:20260522T110000
DTEND;TZID=America/New_York:20260522T150000
DTSTAMP:20260422T175504
CREATED:20260105T190244Z
LAST-MODIFIED:20260105T190421Z
UID:10000125-1779447600-1779462000@classicmotormuseum.org
SUMMARY:The Exhibit Barn
DESCRIPTION:General Admission Required for Entry. Members and children under 6 are always free!
URL:https://classicmotormuseum.org/event/the-event-barn/2026-05-22/
END:VEVENT
BEGIN:VEVENT
DTSTART;TZID=America/New_York:20260517T110000
DTEND;TZID=America/New_York:20260517T150000
DTSTAMP:20260422T175504
CREATED:20260105T190519Z
LAST-MODIFIED:20260105T190519Z
UID:10000648-1779015600-1779030000@classicmotormuseum.org
SUMMARY:The Exhibit Barn
DESCRIPTION:General Admission Required for Entry. Members and children under 6 are always free!
URL:https://classicmotormuseum.org/event/the-exhibit-barn-51/2026-05-17/
END:VEVENT
BEGIN:VEVENT
DTSTART;TZID=America/New_York:20260516T090000
DTEND;TZID=America/New_York:20260516T160000
DTSTAMP:20260422T175504
CREATED:20260105T190346Z
LAST-MODIFIED:20260105T190428Z
UID:10000386-1778922000-1778947200@classicmotormuseum.org
SUMMARY:The Exhibit Barn
DESCRIPTION:General Admission Required for Entry. Members and children under 6 are always free!
URL:https://classicmotormuseum.org/event/the-event-barn-2/2026-05-16/
END:VEVENT
BEGIN:VEVENT
DTSTART;TZID=America/New_York:20260515T110000
DTEND;TZID=America/New_York:20260515T150000
DTSTAMP:20260422T175504
CREATED:20260105T190244Z
LAST-MODIFIED:20260105T190421Z
UID:10000124-1778842800-1778857200@classicmotormuseum.org
SUMMARY:The Exhibit Barn
DESCRIPTION:General Admission Required for Entry. Members and children under 6 are always free!
URL:https://classicmotormuseum.org/event/the-event-barn/2026-05-15/
END:VEVENT
BEGIN:VEVENT
DTSTART;TZID=America/New_York:20260510T110000
DTEND;TZID=America/New_York:20260510T150000
DTSTAMP:20260422T175504
CREATED:20260105T190519Z
LAST-MODIFIED:20260105T190519Z
UID:10000647-1778410800-1778425200@classicmotormuseum.org
SUMMARY:The Exhibit Barn
DESCRIPTION:General Admission Required for Entry. Members and children under 6 are always free!
URL:https://classicmotormuseum.org/event/the-exhibit-barn-51/2026-05-10/
END:VEVENT
BEGIN:VEVENT
DTSTART;TZID=America/New_York:20260509T090000
DTEND;TZID=America/New_York:20260509T160000
DTSTAMP:20260422T175504
CREATED:20260105T190346Z
LAST-MODIFIED:20260105T190428Z
UID:10000385-1778317200-1778342400@classicmotormuseum.org
SUMMARY:The Exhibit Barn
DESCRIPTION:General Admission Required for Entry. Members and children under 6 are always free!
URL:https://classicmotormuseum.org/event/the-event-barn-2/2026-05-09/
END:VEVENT
BEGIN:VEVENT
DTSTART;TZID=America/New_York:20260508T110000
DTEND;TZID=America/New_York:20260508T150000
DTSTAMP:20260422T175504
CREATED:20260105T190244Z
LAST-MODIFIED:20260105T190421Z
UID:10000123-1778238000-1778252400@classicmotormuseum.org
SUMMARY:The Exhibit Barn
DESCRIPTION:General Admission Required for Entry. Members and children under 6 are always free!
URL:https://classicmotormuseum.org/event/the-event-barn/2026-05-08/
END:VEVENT
BEGIN:VEVENT
DTSTART;TZID=America/New_York:20260503T110000
DTEND;TZID=America/New_York:20260503T150000
DTSTAMP:20260422T175504
CREATED:20260105T190519Z
LAST-MODIFIED:20260105T190519Z
UID:10000646-1777806000-1777820400@classicmotormuseum.org
SUMMARY:The Exhibit Barn
DESCRIPTION:General Admission Required for Entry. Members and children under 6 are always free!
URL:https://classicmotormuseum.org/event/the-exhibit-barn-51/2026-05-03/
END:VEVENT
BEGIN:VEVENT
DTSTART;TZID=America/New_York:20260502T090000
DTEND;TZID=America/New_York:20260502T160000
DTSTAMP:20260422T175504
CREATED:20260105T190346Z
LAST-MODIFIED:20260105T190428Z
UID:10000384-1777712400-1777737600@classicmotormuseum.org
SUMMARY:The Exhibit Barn
DESCRIPTION:General Admission Required for Entry. Members and children under 6 are always free!
URL:https://classicmotormuseum.org/event/the-event-barn-2/2026-05-02/
END:VEVENT
BEGIN:VEVENT
DTSTART;TZID=America/New_York:20260501T110000
DTEND;TZID=America/New_York:20260501T150000
DTSTAMP:20260422T175504
CREATED:20260105T190244Z
LAST-MODIFIED:20260105T190421Z
UID:10000122-1777633200-1777647600@classicmotormuseum.org
SUMMARY:The Exhibit Barn
DESCRIPTION:General Admission Required for Entry. Members and children under 6 are always free!
URL:https://classicmotormuseum.org/event/the-event-barn/2026-05-01/
END:VEVENT
BEGIN:VEVENT
DTSTART;TZID=America/New_York:20260426T110000
DTEND;TZID=America/New_York:20260426T150000
DTSTAMP:20260422T175504
CREATED:20260105T190519Z
LAST-MODIFIED:20260105T190519Z
UID:10000645-1777201200-1777215600@classicmotormuseum.org
SUMMARY:The Exhibit Barn
DESCRIPTION:General Admission Required for Entry. Members and children under 6 are always free!
URL:https://classicmotormuseum.org/event/the-exhibit-barn-51/2026-04-26/
END:VEVENT
BEGIN:VEVENT
DTSTART;TZID=America/New_York:20260425T090000
DTEND;TZID=America/New_York:20260425T160000
DTSTAMP:20260422T175504
CREATED:20260105T190346Z
LAST-MODIFIED:20260105T190428Z
UID:10000383-1777107600-1777132800@classicmotormuseum.org
SUMMARY:The Exhibit Barn
DESCRIPTION:General Admission Required for Entry. Members and children under 6 are always free!
URL:https://classicmotormuseum.org/event/the-event-barn-2/2026-04-25/
END:VEVENT
BEGIN:VEVENT
DTSTART;TZID=America/New_York:20260424T110000
DTEND;TZID=America/New_York:20260424T150000
DTSTAMP:20260422T175504
CREATED:20260105T190244Z
LAST-MODIFIED:20260105T190421Z
UID:10000121-1777028400-1777042800@classicmotormuseum.org
SUMMARY:The Exhibit Barn
DESCRIPTION:General Admission Required for Entry. Members and children under 6 are always free!
URL:https://classicmotormuseum.org/event/the-event-barn/2026-04-24/
END:VEVENT
BEGIN:VEVENT
DTSTART;TZID=America/New_York:20260419T110000
DTEND;TZID=America/New_York:20260419T150000
DTSTAMP:20260422T175504
CREATED:20260105T190519Z
LAST-MODIFIED:20260105T190519Z
UID:10000644-1776596400-1776610800@classicmotormuseum.org
SUMMARY:The Exhibit Barn
DESCRIPTION:General Admission Required for Entry. Members and children under 6 are always free!
URL:https://classicmotormuseum.org/event/the-exhibit-barn-51/2026-04-19/
END:VEVENT
BEGIN:VEVENT
DTSTART;TZID=America/New_York:20260418T090000
DTEND;TZID=America/New_York:20260418T160000
DTSTAMP:20260422T175504
CREATED:20260105T190346Z
LAST-MODIFIED:20260105T190428Z
UID:10000382-1776502800-1776528000@classicmotormuseum.org
SUMMARY:The Exhibit Barn
DESCRIPTION:General Admission Required for Entry. Members and children under 6 are always free!
URL:https://classicmotormuseum.org/event/the-event-barn-2/2026-04-18/
END:VEVENT
END:VCALENDAR